{"text_format":"1","workbook":"xlsx","n_sheets":15,"sheets":["年度と祝日","年間予定","４月","５月","６月","７月","８月","９月","１０月","１１月","１２月","１月","２月","３月","日直順番"],"not_rendered":{"charts":0,"images":0,"macros":1,"external_links":0,"defined_names":19,"comments":0,"pivot_tables":0},"unopened":[],"bounds":{"document_bytes":16777216,"sheet_cells":100000,"rows_first":2000,"rows_last":500,"rows_between":2000,"halvings":0,"cell_chars":16384,"cell_head_chars":4096},"cells_cut":0,"cells_raw":0,"read":"whole","date_system":"1900"}

{"sheet":"年度と祝日","index":0,"n_rows":41,"n_cols":14,"rows_kept":41,"cut":false,"hidden":false,"merged":[[1,12,1,13],[1,2,1,3],[1,4,1,5],[1,6,1,7],[1,8,1,9],[1,10,1,11]]}
["年度"]
[2020,"年","2020年(年度ではない)",null,"2021年(年度ではない)",null,"2022年(年度ではない)",null,"2023年(年度ではない)",null,"2024年(年度ではない)",null,"2025年(年度ではない)"]
[null,null,"2020/1/1","元日","2021-01-01","元日","2022-01-01","元日","2023-01-01","元日","2024-01-01","元日","2025-01-01","元日"]
[null,null,"2020-01-13","成人の日","2021-01-11","成人の日","2022-01-10","成人の日","2023-01-02","振替休日","2024-01-08","成人の日","2025-01-13","成人の日"]
["エクセル","小学校","2020-02-11","建国記念の日","2021-02-11","建国記念の日","2022-02-11","建国記念の日","2023-01-09","成人の日","2024-02-11","建国記念の日","2025-02-11","建国記念の日"]
[null,null,"2020-02-23","天皇誕生日","2021-02-23","天皇誕生日","2022-02-23","天皇誕生日","2023-02-11","建国記念の日","2024-02-12","振替休日","2025-02-23","天皇誕生日"]
[null,null,"2020-02-24","振替休日","2021-03-20","春分の日","2022-03-21","春分の日","2023-02-23","天皇誕生日","2024-02-23","天皇誕生日","2025-02-24","振替休日"]
[null,null,"2020-03-20","春分の日","2021-04-29","昭和の日","2022-04-29","昭和の日","2023-03-21","春分の日","2024-03-20","春分の日","2025-03-20","春分の日"]
[null,null,"2020-04-29","昭和の日","2021-05-03","憲法記念日","2022-05-03","憲法記念日","2023-04-29","昭和の日","2024-04-29","昭和の日","2025-04-29","昭和の日"]
[null,null,"2020-05-03","憲法記念日","2021-05-04","みどりの日","2022-05-04","みどりの日","2023-05-03","憲法記念日","2024-05-03","憲法記念日","2025-05-03","憲法記念日"]
[null,null,"2020-05-04","みどりの日","2021-05-05","こどもの日","2022-05-05","こどもの日","2023-05-04","みどりの日","2024-05-04","みどりの日","2025-05-04","みどりの日"]
[null,null,"2020-05-05","こどもの日","2021-07-19","海の日","2022-07-18","海の日","2023-05-05","こどもの日","2024-05-05","こどもの日","2025-05-05","こどもの日"]
[null,null,"2020-05-06","振替休日","2021-08-11","山の日","2022-08-11","山の日","2023-07-17","海の日","2024-05-06","振替休日","2025-05-06","振替休日"]
[null,null,"2020-07-23","海の日","2021-09-20","敬老の日","2022-09-19","敬老の日","2023-08-11","山の日","2024-07-15","海の日","2025-07-21","海の日"]
[null,null,"2020-07-24","スポーツの日","2021-09-23","秋分の日","2022-09-23","秋分の日","2023-09-18","敬老の日","2024-08-11","山の日","2025-08-11","山の日"]
[null,null,"2020-08-10","山の日","2021-10-11","スポーツの日","2022-10-10","スポーツの日","2023-09-23","秋分の日","2024-08-12","振替休日","2025-09-15","敬老の日"]
[null,null,"2020-09-21","敬老の日","2021-11-03","文化の日","2022-11-03","文化の日","2023-10-09","スポーツの日","2024-09-16","敬老の日","2025-09-23","秋分の日"]
[null,null,"2020-09-22","秋分の日","2021-11-23","勤労感謝の日","2022-11-23","勤労感謝の日","2023-11-03","文化の日","2024-09-22","秋分の日","2025-10-13","スポーツの日"]
[null,null,"2020-11-03","文化の日",null,null,null,null,"2023-11-23","勤労感謝の日","2024-09-23","振替休日","2025-11-03","文化の日"]
[null,null,"2020-11-23","勤労感謝の日",null,null,null,null,null,null,"2024-10-14","スポーツの日","2025-11-23","勤労感謝の日"]
[null,null,null,null,null,null,null,null,null,null,"2024-11-03","文化の日","2025-11-24","振替休日"]
[null,null,null,null,null,null,null,null,null,null,"2024-11-04","振替休日"]
[null,null,null,null,null,null,null,null,null,null,"2024-11-23","勤労感謝の日"]
[]
[null,null,null,"日曜参観代休",null,"日曜参観代休",null,"日曜参観代休",null,"日曜参観代休",null,"日曜参観代休",null,"日曜参観代休"]
[null,null,"2020-10-05","運動会代休",null,"運動会代休",null,"運動会代休",null,"運動会代休",null,"運動会代休",null,"運動会代休"]
[]
[null,null,"2020-01-02","年始","2021-01-02","年始","2022-01-02","年始","2023-01-02","年始","2024-01-02","年始","2025-01-02","年始"]
[null,null,"2020-01-03","年始","2021-01-03","年始","2022-01-03","年始","2023-01-03","年始","2024-01-03","年始","2025-01-03","年始"]
[]
[null,null,"2020-08-13","夏季閉庁日"]
[null,null,"2020-08-14","夏季閉庁日"]
[]
[null,null,"2020-12-29","年末","2021-12-29","年末","2022-12-29","年末","2023-12-29","年末","2024-12-29","年末","2025-12-29","年末"]
[null,null,"2020-12-30","年末","2021-12-30","年末","2022-12-30","年末","2023-12-30","年末","2024-12-30","年末","2025-12-30","年末"]
[null,null,"2020-12-31","年末","2021-12-31","年末","2022-12-31","年末","2023/19/31","年末","2024/19/31","年末","2025-12-31","年末"]
[]
[]
[null,null,"土日登校"]
[null,null,null,"日曜参観",null,"土曜参観",null,"土曜参観",null,"土曜参観",null,"土曜参観",null,"土曜参観"]
[null,null,"2020-10-03","運動会",null,"運動会",null,"運動会",null,"運動会",null,"運動会",null,"運動会"]

{"sheet":"年間予定","index":1,"n_rows":34,"n_cols":74,"rows_kept":34,"cut":false,"hidden":false,"merged":[[0,37,0,73],[1,73,2,73],[1,68,1,71],[31,72,33,72],[33,44,33,48],[27,66,30,66],[25,54,26,54],[34,64,34,65],[30,60,33,60],[23,60,27,60],[1,37,2,37],[33,13,33,17],[1,38,1,41],[1,44,1,47],[1,50,1,53],[1,56,1,59],[1,62,1,65],[33,31,33,35],[33,1,33,4],[0,0,0,36],[1,19,1,22],[1,25,1,28],[1,31,1,34]]}
[{"$f":"\"令和 \" & 年度-2018 & \" 年度 （ \" & 年度 & \"年度 ）　\" & 学校名 & \"小学校　年間行事計画\"","v":"令和 2 年度 （ 2020年度 ）　エクセル小学校　年間行事計画"},null,null,null,null,null,null,null,null,null,null,null,null,null,null,null,null,null,null,null,null,null,null,null,null,null,null,null,null,null,null,null,null,null,null,null,null,"月日現在"]
["日","４月",null,null,null,33,null,"５月",null,null,null,34,null,"６月",null,null,null,33,"日","７月",null,null,null,34,null,"８月",null,null,null,34,null,"９月",null,null,null,33,"日","日","１０月",null,null,null,34,null,"１１月",null,null,null,33,null,"１２月",null,null,null,34,"日","１月",null,null,null,34,null,"２月",null,null,null,32,null,"３月",null,null,null,34,"日"]
[null,"曜","朝","児童","職員",null,null,"曜","朝","児童","職員",null,null,"曜","朝","児童","職員",null,null,"曜","朝","児童","職員",null,null,"曜","朝","児童","職員",null,null,"曜","朝","児童","職員",null,null,null,"曜","朝","児童","職員",null,null,"曜","朝","児童","職員",null,null,"曜","朝","児童","職員",null,null,"曜","朝","児童","職員",null,null,"曜","朝","児童","職員",null,null,"曜","朝","児童","職員"]
[{"$f":"DATE(年度, 4,1)","v":"2020-04-01"},{"$f":"TEXT(A4,\"aaa\")","v":"水"},null,null,null,null,{"$f":"DATE(年度, 5,1)","v":"2020-05-01"},{"$f":"TEXT(G4,\"aaa\")","v":"金"},null,null,null,"B",{"$f":"DATE(年度, 6,1)","v":"2020-06-01"},{"$f":"TEXT(M4,\"aaa\")","v":"月"},"読み聞かせタイム","歯の健康週間（～７日）","いじめ不登校等対策委員会",null,{"$f":"DATE(年度, 7,1)","v":"2020-07-01"},{"$f":"TEXT(S4,\"aaa\")","v":"水"},null,null,null,"A",{"$f":"DATE(年度, 8,1)","v":"2020-08-01"},{"$f":"TEXT(Y4,\"aaa\")","v":"土"},null,null,null,"A",{"$f":"DATE(年度, 9,1)","v":"2020-09-01"},{"$f":"TEXT(AE4,\"aaa\")","v":"火"},null,null,null,"B","1900-01-01",{"$f":"DATE(年度, 10,1)","v":"2020-10-01"},{"$f":"TEXT(AL4,\"aaa\")","v":"木"},null,null,null,"B",{"$f":"DATE(年度,11,1)","v":"2020-11-01"},{"$f":"TEXT(AR4,\"aaa\")","v":"日"},null,null,null,"B",{"$f":"DATE(年度,12,1)","v":"2020-12-01"},{"$f":"TEXT(AX4,\"aaa\")","v":"火"},null,null,null,"A",{"$f":"DATE(年度+1, 1,1)","v":"2021-01-01"},{"$f":"TEXT(BD4,\"aaa\")","v":"金"},null,null,null,"A",{"$f":"DATE(年度+1, 2,1)","v":"2021-02-01"},{"$f":"TEXT(BJ4,\"aaa\")","v":"月"},null,null,null,null,{"$f":"DATE(年度+1, 3,1)","v":"2021-03-01"},{"$f":"TEXT(BP4,\"aaa\")","v":"月"},null,null,null,null,1]
[{"$f":"A4+1","v":"2020-04-02"},{"$f":"TEXT(A5,\"aaa\")","v":"木"},null,null,null,null,{"$f":"G4+1","v":"2020-05-02"},{"$f":"TEXT(G5,\"aaa\")","v":"土"},null,null,null,"B",{"$f":"M4+1","v":"2020-06-02"},{"$f":"TEXT(M5,\"aaa\")","v":"火"},"職員朝会","スポーツテスト","幼保小連絡会",null,{"$f":"S4+1","v":"2020-07-02"},{"$f":"TEXT(S5,\"aaa\")","v":"木"},null,null,null,"A",{"$f":"Y4+1","v":"2020-08-02"},{"$f":"TEXT(Y5,\"aaa\")","v":"日"},null,null,null,"A",{"$f":"AE4+1","v":"2020-09-02"},{"$f":"TEXT(AE5,\"aaa\")","v":"水"},null,null,null,"B","1900-01-02",{"$f":"AL4+1","v":"2020-10-02"},"金",null,null,null,"B",{"$f":"AR4+1","v":"2020-11-02"},{"$f":"TEXT(AR5,\"aaa\")","v":"月"},null,null,null,null,{"$f":"AX4+1","v":"2020-12-02"},{"$f":"TEXT(AX5,\"aaa\")","v":"水"},null,null,null,"A",{"$f":"BD4+1","v":"2021-01-02"},{"$f":"TEXT(BD5,\"aaa\")","v":"土"},null,null,null,"A",{"$f":"BJ4+1","v":"2021-02-02"},{"$f":"TEXT(BJ5,\"aaa\")","v":"火"},null,null,null,null,{"$f":"BP4+1","v":"2021-03-02"},{"$f":"TEXT(BP5,\"aaa\")","v":"火"},null,null,null,null,2]
[{"$f":"A5+1","v":"2020-04-03"},"金",null,null,null,null,{"$f":"G5+1","v":"2020-05-03"},"日",null,null,null,"B",{"$f":"M5+1","v":"2020-06-03"},"水","全校朝会","歯科検診（1・3・5年）9：00～\n委員会①　　　13時半下校","定時退勤日",null,{"$f":"S5+1","v":"2020-07-03"},"金",null,null,null,"A",{"$f":"Y5+1","v":"2020-08-03"},"月",null,null,null,null,{"$f":"AE5+1","v":"2020-09-03"},"木",null,null,null,"B","1900-01-03",{"$f":"AL5+1","v":"2020-10-03"},"土",null,null,null,"B",{"$f":"AR5+1","v":"2020-11-03"},"火",null,null,null,null,{"$f":"AX5+1","v":"2020-12-03"},"木",null,null,null,"A",{"$f":"BD5+1","v":"2021-01-03"},"日",null,null,null,"A",{"$f":"BJ5+1","v":"2021-02-03"},"水",null,null,null,null,{"$f":"BP5+1","v":"2021-03-03"},"水",null,null,null,null,3]
["2020-04-04","土",null,null,null,null,"2020-05-04","月",null,null,null,null,"2020-06-04","木","計算\nタイム","３年　学年親睦会：３限","通知簿検討委員会","A","2020-07-04","土",null,null,null,"A","2020-08-04","火",null,null,null,null,"2020-09-04","金",null,null,null,"B","1900-01-04","2020-10-04","日",null,null,null,"B","2020-11-04","水",null,null,null,null,"2020-12-04","金",null,null,null,"A","2021-01-04","月",null,null,null,null,"2021-02-04","木",null,null,null,"B","2021-03-04","木",null,null,null,"B",4]
["2020-04-05","日",null,null,null,null,"2020-05-05","火",null,null,null,null,"2020-06-05","金","児童理解\n職員朝会","非行防止教室（5年 5限）\n　１年　親睦会：２限","\n学年会　\n",null,"2020-07-05","日",null,null,null,"A","2020-08-05","水",null,null,null,null,"2020-09-05","土",null,null,null,"B","1900-01-05","2020-10-05","月",null,null,null,null,"2020-11-05","木",null,null,null,"A","2020-12-05","土",null,null,null,"A","2021-01-05","火",null,null,null,null,"2021-02-05","金",null,null,null,null,"2021-03-05","金",null,null,null,null,5]
["2020-04-06","月",null,null,null,null,"2020-05-06","水",null,null,null,null,"2020-06-06","土",null,null,null,null,"2020-07-06","月",null,null,null,null,"2020-08-06","木",null,null,null,"B","2020-09-06","日",null,null,null,"B","1900-01-06","2020-10-06","火",null,null,null,null,"2020-11-06","金",null,null,null,null,"2020-12-06","日",null,null,null,"A","2021-01-06","水",null,null,null,null,"2021-02-06","土",null,null,null,null,"2021-03-06","土",null,null,null,null,6]
["2020-04-07","火",null,null,null,null,"2020-05-07","木",null,null,null,"A","2020-06-07","日",null,null,null,null,"2020-07-07","火",null,null,null,null,"2020-08-07","金",null,null,null,null,"2020-09-07","月",null,null,null,null,"1900-01-07","2020-10-07","水",null,null,null,null,"2020-11-07","土",null,null,null,null,"2020-12-07","月",null,null,null,null,"2021-01-07","木",null,null,null,"B","2021-02-07","日",null,null,null,null,"2021-03-07","日",null,null,null,null,7]
["2020-04-08","水",null,null,null,null,"2020-05-08","金",null,null,null,null,"2020-06-08","月","読み聞かせタイム","交通安全教室（低：３限、高：４限）","小中連絡会（16：00～）",null,"2020-07-08","水",null,null,null,null,"2020-08-08","土",null,null,null,null,"2020-09-08","火",null,null,null,null,"1900-01-08","2020-10-08","木",null,null,null,"A","2020-11-08","日",null,null,null,null,"2020-12-08","火",null,null,null,null,"2021-01-08","金",null,null,null,null,"2021-02-08","月",null,null,null,null,"2021-03-08","月",null,null,null,null,8]
["2020-04-09","木",null,null,null,null,"2020-05-09","土",null,null,null,null,"2020-06-09","火","職員朝会","子ども向け人権講演会（低：３限、高：４限）\nあいさつ運動（生活美化）","指導ルーム合同巡視(18：00～)",null,"2020-07-09","木",null,null,null,"B","2020-08-09","日",null,null,null,null,"2020-09-09","水",null,null,null,null,"1900-01-09","2020-10-09","金",null,null,null,null,"2020-11-09","月",null,null,null,null,"2020-12-09","水",null,null,null,null,"2021-01-09","土",null,null,null,null,"2021-02-09","火",null,null,null,null,"2021-03-09","火",null,null,null,null,9]
["2020-04-10","金",null,null,null,null,"2020-05-10","日",null,null,null,null,"2020-06-10","水","朝会","\n　\n","指導部会\n定時退勤日",null,"2020-07-10","金",null,null,null,null,"2020-08-10","月",null,null,null,null,"2020-09-10","木",null,null,null,"A","1900-01-10","2020-10-10","土",null,null,null,null,"2020-11-10","火",null,null,null,null,"2020-12-10","木",null,null,null,"B","2021-01-10","日",null,null,null,null,"2021-02-10","水",null,null,null,null,"2021-03-10","水",null,null,null,null,10]
["2020-04-11","土",null,null,null,null,"2020-05-11","月",null,null,null,null,"2020-06-11","木","計算\nタイム","防犯教室（1～3年：体育館：3限）\n３年図書館見学　ＡＭ","研究部会","B","2020-07-11","土",null,null,null,null,"2020-08-11","火",null,null,null,null,"2020-09-11","金",null,null,null,null,"1900-01-11","2020-10-11","日",null,null,null,null,"2020-11-11","水",null,null,null,null,"2020-12-11","金",null,null,null,null,"2021-01-11","月",null,null,null,null,"2021-02-11","木",null,null,null,"A","2021-03-11","木",null,null,null,"A",11]
["2020-04-12","日",null,null,null,null,"2020-05-12","火",null,null,null,null,"2020-06-12","金","児童理解\n職員朝会","1年校外学習","学年会",null,"2020-07-12","日",null,null,null,null,"2020-08-12","水",null,null,null,null,"2020-09-12","土",null,null,null,null,"1900-01-12","2020-10-12","月",null,null,null,null,"2020-11-12","木",null,null,null,"B","2020-12-12","土",null,null,null,null,"2021-01-12","火",null,null,null,null,"2021-02-12","金",null,null,null,null,"2021-03-12","金",null,null,null,null,12]
["2020-04-13","月",null,null,null,null,"2020-05-13","水",null,null,null,null,"2020-06-13","土",null,null,"ＰＴＡ運営委員会（第４回）",null,"2020-07-13","月",null,null,null,null,"2020-08-13","木",null,null,null,"A","2020-09-13","日",null,null,null,null,"1900-01-13","2020-10-13","火",null,null,null,null,"2020-11-13","金",null,null,null,null,"2020-12-13","日",null,null,null,null,"2021-01-13","水",null,null,null,null,"2021-02-13","土",null,null,null,null,"2021-03-13","土",null,null,null,null,13]
["2020-04-14","火",null,null,null,null,"2020-05-14","木",null,null,null,"B","2020-06-14","日",null,null,null,null,"2020-07-14","火",null,null,null,null,"2020-08-14","金",null,null,null,null,"2020-09-14","月",null,null,null,null,"1900-01-14","2020-10-14","水",null,null,null,null,"2020-11-14","土",null,null,null,null,"2020-12-14","月",null,null,null,null,"2021-01-14","木",null,null,null,"A","2021-02-14","日",null,null,null,null,"2021-03-14","日",null,null,null,null,14]
["2020-04-15","水",null,null,null,null,"2020-05-15","金",null,null,null,null,"2020-06-15","月","読み聞かせタイム","救命講習（５年：５限）\n４年パッカー車出前授業（３，４限）","研究推進委員会",null,"2020-07-15","水",null,null,null,null,"2020-08-15","土",null,null,null,null,"2020-09-15","火",null,null,null,null,"1900-01-15","2020-10-15","木",null,null,null,"B","2020-11-15","日",null,null,null,null,"2020-12-15","火",null,null,null,null,"2021-01-15","金",null,null,null,null,"2021-02-15","月",null,null,null,null,"2021-03-15","月",null,null,null,null,15]
["2020-04-16","木",null,null,null,null,"2020-05-16","土",null,null,null,null,"2020-06-16","火","職員朝会","4年学年親睦会：5限\nあいさつ運動（児童会）\nプール指導開始","市人研委員会・専門部会②\n",null,"2020-07-16","木",null,null,null,"A","2020-08-16","日",null,null,null,null,"2020-09-16","水",null,null,null,null,"1900-01-16","2020-10-16","金",null,null,null,null,"2020-11-16","月",null,null,null,null,"2020-12-16","水",null,null,null,null,"2021-01-16","土",null,null,null,null,"2021-02-16","火",null,null,null,null,"2021-03-16","火",null,null,null,null,16]
["2020-04-17","金",null,null,null,null,"2020-05-17","日",null,null,null,null,"2020-06-17","水","朝会","クラブ①\nあいさつ運動（児童会） ","職員会議\n定時退勤日",null,"2020-07-17","金",null,null,null,null,"2020-08-17","月",null,null,null,null,"2020-09-17","木",null,null,null,"B","1900-01-17","2020-10-17","土",null,null,null,null,"2020-11-17","火",null,null,null,null,"2020-12-17","木",null,null,null,"A","2021-01-17","日",null,null,null,null,"2021-02-17","水",null,null,null,null,"2021-03-17","水",null,null,null,null,17]
["2020-04-18","土",null,null,null,null,"2020-05-18","月",null,null,null,null,"2020-06-18","木","計算\nタイム","４年パッカー車出前授業予備日","研究全体会　","A","2020-07-18","土",null,null,null,null,"2020-08-18","火",null,null,null,null,"2020-09-18","金",null,null,null,null,"1900-01-18","2020-10-18","日",null,null,null,null,"2020-11-18","水",null,null,null,null,"2020-12-18","金",null,null,null,null,"2021-01-18","月",null,null,null,null,"2021-02-18","木",null,null,null,"B","2021-03-18","木",null,null,null,"B",18]
["2020-04-19","日",null,null,null,null,"2020-05-19","火",null,null,null,null,"2020-06-19","金","児童理解\n職員朝会","4年社会見学","学年会",null,"2020-07-19","日",null,null,null,null,"2020-08-19","水",null,null,null,null,"2020-09-19","土",null,null,null,null,"1900-01-19","2020-10-19","月",null,null,null,null,"2020-11-19","木",null,null,null,"A","2020-12-19","土",null,null,null,null,"2021-01-19","火",null,null,null,null,"2021-02-19","金",null,null,null,null,"2021-03-19","金",null,null,null,null,19]
["2020-04-20","月",null,null,null,null,"2020-05-20","水",null,null,null,null,"2020-06-20","土",null,null,null,null,"2020-07-20","月",null,null,null,null,"2020-08-20","木",null,null,null,"B","2020-09-20","日",null,null,null,null,"1900-01-20","2020-10-20","火",null,null,null,null,"2020-11-20","金",null,null,null,null,"2020-12-20","日",null,null,null,null,"2021-01-20","水",null,null,null,null,"2021-02-20","土",null,null,null,null,"2021-03-20","土",null,null,null,null,20]
["2020-04-21","火",null,null,null,null,"2020-05-21","木",null,null,null,"A","2020-06-21","日",null,null,null,null,"2020-07-21","火",null,null,null,null,"2020-08-21","金",null,null,null,null,"2020-09-21","月",null,null,null,null,"1900-01-21","2020-10-21","水",null,null,null,null,"2020-11-21","土",null,null,null,null,"2020-12-21","月",null,null,null,null,"2021-01-21","木",null,null,null,null,"2021-02-21","日",null,null,null,null,"2021-03-21","日",null,null,null,null,21]
["2020-04-22","水",null,null,null,null,"2020-05-22","金",null,null,null,null,"2020-06-22","月","読み聞かせタイム","短縮時程Ａ　4時間授業\n13：35下校","個人懇談①",null,"2020-07-22","水",null,null,null,null,"2020-08-22","土",null,null,null,null,"2020-09-22","火",null,null,null,null,"1900-01-22","2020-10-22","木",null,null,null,"A","2020-11-22","日",null,null,null,null,"2020-12-22","火",null,null,null,null,"2021-01-22","金",null,null,null,null,"2021-02-22","月",null,null,null,null,"2021-03-22","月",null,null,null,null,22]
["2020-04-23","木",null,null,null,null,"2020-05-23","土",null,null,null,null,"2020-06-23","火","職員朝会","尿検査④\n短縮時程Ａ4時間授業 13：35下校","個人懇談②\n１０年研",null,"2020-07-23","木",null,null,null,"B","2020-08-23","日",null,null,null,null,"2020-09-23","水",null,null,null,null,"1900-01-23","2020-10-23","金",null,null,null,null,"2020-11-23","月",null,null,null,null,"2020-12-23","水",null,null,null,null,"2021-01-23","土",null,null,null,null,"2021-02-23","火",null,null,null,null,"2021-03-23","火",null,null,null,null,23]
["2020-04-24","金",null,null,null,null,"2020-05-24","日",null,null,null,null,"2020-06-24","水","朝会","委員会②\n14：15下校","指導部会・研究部会（7月分）\n定時退勤日",null,"2020-07-24","金",null,null,null,null,"2020-08-24","月",null,null,null,null,"2020-09-24","木",null,null,null,"A","1900-01-24","2020-10-24","土",null,null,null,null,"2020-11-24","火",null,null,null,null,"2020-12-24","木",null,null,null,null,"2021-01-24","日",null,null,null,null,"2021-02-24","水",null,null,null,null,"2021-03-24","水",null,null,null,null,24]
["2020-04-25","土",null,null,null,null,"2020-05-25","月",null,null,null,null,"2020-06-25","木","計算\nタイム","短縮時程Ａ　4時間授業\n13：35下校","個人懇談③\n","B","2020-07-25","土",null,null,null,null,"2020-08-25","火",null,null,null,null,"2020-09-25","金",null,null,null,null,"1900-01-25","2020-10-25","日",null,null,null,null,"2020-11-25","水",null,null,null,null,"2020-12-25","金",null,null,null,null,"2021-01-25","月",null,null,null,null,"2021-02-25","木",null,null,null,"A","2021-03-25","木",null,null,null,"A",25]
["2020-04-26","日",null,null,null,null,"2020-05-26","火",null,null,null,null,"2020-06-26","金","児童理解\n職員朝会","通常授業","個人懇談　予備\n",null,"2020-07-26","日",null,null,null,null,"2020-08-26","水",null,null,null,null,"2020-09-26","土",null,null,null,null,"1900-01-26","2020-10-26","月",null,null,null,"B","2020-11-26","木",null,null,null,"B","2020-12-26","土",null,null,null,null,"2021-01-26","火",null,null,null,null,"2021-02-26","金",null,null,null,null,"2021-03-26","金",null,null,null,null,26]
["2020-04-27","月",null,null,null,null,"2020-05-27","水",null,null,null,null,"2020-06-27","土",null,null,null,null,"2020-07-27","月",null,null,null,"A","2020-08-27","木",null,null,null,"A","2020-09-27","日",null,null,null,null,"1900-01-27","2020-10-27","火",null,null,null,"B","2020-11-27","金",null,null,null,null,"2020-12-27","日",null,null,null,null,"2021-01-27","水",null,null,null,null,"2021-02-27","土",null,null,null,null,"2021-03-27","土",null,null,null,null,27]
["2020-04-28","火",null,null,null,null,"2020-05-28","木",null,null,null,"B","2020-06-28","日",null,null,null,null,"2020-07-28","火",null,null,null,"A","2020-08-28","金",null,null,null,null,"2020-09-28","月",null,null,null,"B","1900-01-28","2020-10-28","水",null,null,null,"B","2020-11-28","土",null,null,null,null,"2020-12-28","月",null,null,null,"A","2021-01-28","木",null,null,null,null,"2021-02-28","日",null,null,null,null,"2021-03-28","日",null,null,null,null,28]
["2020-04-29","水",null,null,null,null,"2020-05-29","金",null,null,null,null,"2020-06-29","月","読み聞かせタイム",null,"研究推進委員会\n「社会を明るくする運動」駅頭啓発","A","2020-07-29","水",null,null,null,"A","2020-08-29","土",null,null,null,null,"2020-09-29","火",null,null,null,"B","1900-01-29","2020-10-29","木",null,null,null,"B","2020-11-29","日",null,null,null,null,"2020-12-29","火",null,null,null,"A","2021-01-29","金",null,null,null,null,"2021-03-01","月",null,null,null,"B","2021-03-29","月",null,null,null,"B",29]
["2020-04-30","木",null,null,null,null,"2020-05-30","土",null,null,null,null,"2020-06-30","火","職員朝会","1～3年：防犯教室（５限：体育館）",null,"A","2020-07-30","木",null,null,null,"A","2020-08-30","日",null,null,null,null,"2020-09-30","水",null,null,null,"B","1900-01-30","2020-10-30","金",null,null,null,"B","2020-11-30","月",null,null,null,"A","2020-12-30","水",null,null,null,"A","2021-01-30","土",null,null,null,null,"2021-03-02",null,null,null,null,null,"2021-03-30","火",null,null,null,null,30]
[31,null,null,null,null,null,{"$f":"G33+1","v":"2020-05-31"},"日",null,null,null,null,"2020-07-01",null,null,null,null,null,"2020-07-31","金",null,null,null,"A","2020-08-31","月",null,null,null,"B","2020-10-01",null,null,null,null,null,"1900-01-31","2020-10-31","土",null,null,null,"B","2020-12-01",null,null,null,null,null,"2020-12-31","木",null,null,null,"A","2021-01-31","日",null,null,null,null,"2021-03-03",null,null,null,null,null,"2021-03-31","水",null,null,null,null,31]

{"sheet":"４月","index":2,"n_rows":35,"n_cols":15,"rows_kept":35,"cut":false,"hidden":false,"merged":[[1,0,1,2],[0,5,0,7],[1,3,1,4],[1,5,1,7]]}
[{"$f":"年度 & \"年\"","v":"2020年"},null,null,null,"４月 行事予定表（案）",{"$f":"学校名 & \"小学校\"","v":"エクセル小学校"}]
["４月",null,null,null,null,"職員関係"]
["週","日","週","日","主な行事等","会議・研究会等","その他","日直"]
[null,{"$f":"DATE(年度, 4,1)","v":"2020-04-01"},{"$f":"TEXT(B4,\"aaa\")","v":"水"},null,null,null,null,null,null,null,"通しNo-1","最終行","課業日\n開始行","休日\n当番通しNo","課業日\n開始行"]
[null,{"$f":"B4+1","v":"2020-04-02"},"木",null,null,null,null,null,null,"　",0,33,10,0,20]
[null,{"$f":"B5+1","v":"2020-04-03"},"金"]
[null,"2020-04-04","土"]
[null,"2020-04-05","日"]
[null,"2020-04-06","月"]
[null,"2020-04-07","火"]
[null,"2020-04-08","水"]
[null,"2020-04-09","木"]
[null,"2020-04-10","金"]
[null,"2020-04-11","土"]
[null,"2020-04-12","日"]
[null,"2020-04-13","月"]
[null,"2020-04-14","火"]
[null,"2020-04-15","水"]
[null,"2020-04-16","木"]
[null,"2020-04-17","金"]
[null,"2020-04-18","土"]
[null,"2020-04-19","日"]
[null,"2020-04-20","月"]
[null,"2020-04-21","火"]
[null,"2020-04-22","水"]
[null,"2020-04-23","木"]
[null,"2020-04-24","金"]
[null,"2020-04-25","土"]
[null,"2020-04-26","日"]
[null,"2020-04-27","月"]
[null,"2020-04-28","火"]
[null,"2020-04-29","水"]
[null,"2020-04-30","木"]
[null,null,null,{"$f":"年間予定!C34","v":0},null,{"$f":"年間予定!E34","v":0}]
[null,null,null,null,null,"授業日数累計（1、6年）",null,"日"]

{"sheet":"５月","index":3,"n_rows":34,"n_cols":12,"rows_kept":34,"cut":false,"hidden":false,"merged":[[0,0,0,3],[0,5,0,7],[1,0,1,2],[1,3,1,4],[1,5,1,7]]}
[{"$f":"年度 & \"年\"","v":"2020年"},null,null,null,"５月 行事予定表",{"$f":"学校名 & \"小学校\"","v":"エクセル小学校"}]
["５月",null,null,null,null,"職員関係"]
["週","日","曜","朝","主な行事等","会議・研究会等","その他","日直"]
[null,{"$f":"DATE(年度, 5,1)","v":"2020-05-01"},{"$f":"TEXT(B4,\"aaa\")","v":"金"},{"$f":"年間予定!I4","v":0},{"$f":"年間予定!J4","v":0},{"$f":"年間予定!K4","v":0},null,null,null,null,"通しNo-1","最終行"]
[null,{"$f":"B4+1","v":"2020-05-02"},{"$f":"TEXT(B5,\"aaa\")","v":"土"},{"$f":"年間予定!I5","v":0},{"$f":"年間予定!J5","v":0},{"$f":"年間予定!K5","v":0},null,null,null,"　",null,34]
[null,{"$f":"B5+1","v":"2020-05-03"},{"$f":"TEXT(B6,\"aaa\")","v":"日"},{"$f":"年間予定!I6","v":0},{"$f":"年間予定!J6","v":0},{"$f":"年間予定!K6","v":0}]
[null,"2020-05-04","月",{"$f":"年間予定!I7","v":0},{"$f":"年間予定!J7","v":0},{"$f":"年間予定!K7","v":0}]
[null,"2020-05-05","火",{"$f":"年間予定!I8","v":0},{"$f":"年間予定!J8","v":0},{"$f":"年間予定!K8","v":0}]
[null,"2020-05-06","水",{"$f":"年間予定!I9","v":0},{"$f":"年間予定!J9","v":0},{"$f":"年間予定!K9","v":0}]
[null,"2020-05-07","木",{"$f":"年間予定!I10","v":0},{"$f":"年間予定!J10","v":0},{"$f":"年間予定!K10","v":0}]
[null,"2020-05-08","金",{"$f":"年間予定!I11","v":0},{"$f":"年間予定!J11","v":0},{"$f":"年間予定!K11","v":0}]
[null,"2020-05-09","土",{"$f":"年間予定!I12","v":0},{"$f":"年間予定!J12","v":0},{"$f":"年間予定!K12","v":0}]
[null,"2020-05-10","日",{"$f":"年間予定!I13","v":0},{"$f":"年間予定!J13","v":0},{"$f":"年間予定!K13","v":0}]
[null,"2020-05-11","月",{"$f":"年間予定!I14","v":0},{"$f":"年間予定!J14","v":0},{"$f":"年間予定!K14","v":0}]
[null,"2020-05-12","火",{"$f":"年間予定!I15","v":0},{"$f":"年間予定!J15","v":0},{"$f":"年間予定!K15","v":0}]
[null,"2020-05-13","水",{"$f":"年間予定!I16","v":0},{"$f":"年間予定!J16","v":0},{"$f":"年間予定!K16","v":0}]
[null,"2020-05-14","木",{"$f":"年間予定!I17","v":0},{"$f":"年間予定!J17","v":0},{"$f":"年間予定!K17","v":0}]
[null,"2020-05-15","金",{"$f":"年間予定!I18","v":0},{"$f":"年間予定!J18","v":0},{"$f":"年間予定!K18","v":0}]
[null,"2020-05-16","土",{"$f":"年間予定!I19","v":0},{"$f":"年間予定!J19","v":0},{"$f":"年間予定!K19","v":0}]
[null,"2020-05-17","日",null,{"$f":"年間予定!J20","v":0},{"$f":"年間予定!K20","v":0}]
[null,"2020-05-18","月",{"$f":"年間予定!I21","v":0},{"$f":"年間予定!J21","v":0},{"$f":"年間予定!K21","v":0}]
[null,"2020-05-19","火",{"$f":"年間予定!I22","v":0},{"$f":"年間予定!J22","v":0},{"$f":"年間予定!K22","v":0}]
[null,"2020-05-20","水",{"$f":"年間予定!I23","v":0},{"$f":"年間予定!J23","v":0},{"$f":"年間予定!K23","v":0}]
[null,"2020-05-21","木",{"$f":"年間予定!I24","v":0},{"$f":"年間予定!J24","v":0},{"$f":"年間予定!K24","v":0}]
[null,"2020-05-22","金",{"$f":"年間予定!I25","v":0},{"$f":"年間予定!J25","v":0},{"$f":"年間予定!K25","v":0}]
[null,"2020-05-23","土",{"$f":"年間予定!I26","v":0},{"$f":"年間予定!J26","v":0},{"$f":"年間予定!K26","v":0}]
[null,"2020-05-24","日"]
[null,"2020-05-25","月",{"$f":"年間予定!I28","v":0},{"$f":"年間予定!J28","v":0},{"$f":"年間予定!K28","v":0}]
[null,"2020-05-26","火",{"$f":"年間予定!I29","v":0},{"$f":"年間予定!J29","v":0},{"$f":"年間予定!K29","v":0}]
[null,"2020-05-27","水",{"$f":"年間予定!I30","v":0},{"$f":"年間予定!J30","v":0},{"$f":"年間予定!K30","v":0}]
[null,"2020-05-28","木",{"$f":"年間予定!I31","v":0},{"$f":"年間予定!J31","v":0},{"$f":"年間予定!K31","v":0}]
[null,"2020-05-29","金",{"$f":"年間予定!I32","v":0},{"$f":"年間予定!J32","v":0},{"$f":"年間予定!K32","v":0}]
[null,"2020-05-30","土",{"$f":"年間予定!I33","v":0},{"$f":"年間予定!J33","v":0},{"$f":"年間予定!K33","v":0}]
[null,"2020-05-31","日",{"$f":"年間予定!I34","v":0},{"$f":"年間予定!J34","v":0},{"$f":"年間予定!K34","v":0}]

{"sheet":"６月","index":4,"n_rows":33,"n_cols":12,"rows_kept":33,"cut":false,"hidden":false,"merged":[[0,5,0,7],[1,3,1,4],[1,5,1,7],[1,0,1,2]]}
[{"$f":"年度 & \"年\"","v":"2020年"},null,null,null,"６月行事予定表",{"$f":"学校名 & \"小学校\"","v":"エクセル小学校"}]
["６月",null,null,null,null,"職員関係"]
[null,"日",null,"日","主な行事等","会議・研究会等","その他","日直"]
[null,{"$f":"DATE(年度, 6,1)","v":"2020-06-01"},{"$f":"TEXT(B4,\"aaa\")","v":"月"},"読み聞かせタイム",{"$f":"年間予定!P4","v":"歯の健康週間（～７日）"},{"$f":"年間予定!Q4","v":"いじめ不登校等対策委員会"},null,null,null,null,"通しNo-1","最終行"]
[null,{"$f":"B4+1","v":"2020-06-02"},"火","職員朝会",{"$f":"年間予定!P5","v":"スポーツテスト"},{"$f":"年間予定!Q5","v":"幼保小連絡会"},null,null,null,null,null,33]
[null,{"$f":"B5+1","v":"2020-06-03"},"水","全校朝会",{"$f":"年間予定!P6","v":"歯科検診（1・3・5年）9：00～\n委員会①　　　13時半下校"},{"$f":"年間予定!Q6","v":"定時退勤日"}]
["A","2020-06-04","木","計算\nタイム",{"$f":"年間予定!P7","v":"３年　学年親睦会：３限"},{"$f":"年間予定!Q7","v":"通知簿検討委員会"}]
[null,"2020-06-05","金","職員朝会",{"$f":"年間予定!P8","v":"非行防止教室（5年 5限）\n　１年　親睦会：２限"},{"$f":"年間予定!Q8","v":"\n学年会　\n"}]
[null,"2020-06-06","土",null,{"$f":"年間予定!P9","v":0},{"$f":"年間予定!Q9","v":0}]
[null,"2020-06-07","日",null,{"$f":"年間予定!P10","v":0},{"$f":"年間予定!Q10","v":0}]
[null,"2020-06-08","月","読み聞かせタイム",{"$f":"年間予定!P11","v":"交通安全教室（低：３限、高：４限）"},{"$f":"年間予定!Q11","v":"小中連絡会（16：00～）"},"「元気調査」\n全学級実施週間"]
[null,"2020-06-09","火","職員朝会",{"$f":"年間予定!P12","v":"子ども向け人権講演会（低：３限、高：４限）\nあいさつ運動（生活美化）"},{"$f":"年間予定!Q12","v":"指導ルーム合同巡視(18：00～)"}]
[null,"2020-06-10","水","朝会",{"$f":"年間予定!P13","v":"\n　\n"},{"$f":"年間予定!Q13","v":"指導部会\n定時退勤日"}]
["B","2020-06-11","木","計算\nタイム",{"$f":"年間予定!P14","v":"防犯教室（1～3年：体育館：3限）\n３年図書館見学　ＡＭ"},{"$f":"年間予定!Q14","v":"研究部会"}]
[null,"2020-06-12","金","職員朝会",{"$f":"年間予定!P15","v":"1年校外学習"},{"$f":"年間予定!Q15","v":"学年会"}]
[null,"2020-06-13","土",null,{"$f":"年間予定!P16","v":0},{"$f":"年間予定!Q16","v":"ＰＴＡ運営委員会（第４回）"}]
[null,"2020-06-14","日",null,{"$f":"年間予定!P17","v":0},{"$f":"年間予定!Q17","v":0}]
[null,"2020-06-15","月","読み聞かせタイム",{"$f":"年間予定!P18","v":"救命講習（５年：５限）\n４年パッカー車出前授業（３，４限）"},{"$f":"年間予定!Q18","v":"研究推進委員会"}]
[null,"2020-06-16","火","職員朝会",{"$f":"年間予定!P19","v":"4年学年親睦会：5限\nあいさつ運動（児童会）\nプール指導開始"},{"$f":"年間予定!Q19","v":"市人研委員会・専門部会②\n"}]
[null,"2020-06-17","水","朝会",{"$f":"年間予定!P20","v":"クラブ①\nあいさつ運動（児童会） "},{"$f":"年間予定!Q20","v":"職員会議\n定時退勤日"}]
["A","2020-06-18","木","計算\nタイム",{"$f":"年間予定!P21","v":"４年パッカー車出前授業予備日"},{"$f":"年間予定!Q21","v":"研究全体会　"}]
[null,"2020-06-19","金","児童理解\n職員朝会",{"$f":"年間予定!P22","v":"4年社会見学"},{"$f":"年間予定!Q22","v":"学年会"}]
[null,"2020-06-20","土",null,{"$f":"年間予定!P23","v":0},{"$f":"年間予定!Q23","v":0}]
[null,"2020-06-21","日",null,{"$f":"年間予定!P24","v":0},{"$f":"年間予定!Q24","v":0}]
[null,"2020-06-22","月","読み聞かせタイム",{"$f":"年間予定!P25","v":"短縮時程Ａ　4時間授業\n13：35下校"},{"$f":"年間予定!Q25","v":"個人懇談①"}]
[null,"2020-06-23","火","職員朝会",{"$f":"年間予定!P26","v":"尿検査④\n短縮時程Ａ4時間授業 13：35下校"},{"$f":"年間予定!Q26","v":"個人懇談②\n１０年研"}]
[null,"2020-06-24","水","朝会",{"$f":"年間予定!P27","v":"委員会②\n14：15下校"},{"$f":"年間予定!Q27","v":"指導部会・研究部会（7月分）\n定時退勤日"}]
["B","2020-06-25","木","計算\nタイム",{"$f":"年間予定!P28","v":"短縮時程Ａ　4時間授業\n13：35下校"},{"$f":"年間予定!Q28","v":"個人懇談③\n"}]
[null,"2020-06-26","金","児童理解\n職員朝会",{"$f":"年間予定!P29","v":"通常授業"},{"$f":"年間予定!Q29","v":"個人懇談　予備\n"}]
[null,"2020-06-27","土",null,{"$f":"年間予定!P30","v":0},{"$f":"年間予定!Q30","v":0}]
[null,"2020-06-28","日",null,{"$f":"年間予定!P31","v":0},{"$f":"年間予定!Q31","v":0}]
["A","2020-06-29","月","読み聞かせタイム",{"$f":"年間予定!P32","v":0},{"$f":"年間予定!Q32","v":"研究推進委員会\n「社会を明るくする運動」駅頭啓発"}]
["A","2020-06-30","火","職員朝会",{"$f":"年間予定!P33","v":"1～3年：防犯教室（５限：体育館）"},{"$f":"年間予定!Q33","v":0}]

{"sheet":"７月","index":5,"n_rows":34,"n_cols":15,"rows_kept":34,"cut":false,"hidden":false,"merged":[[0,0,0,3],[0,5,0,7],[1,3,1,4],[1,5,1,7],[1,0,1,2]]}
[{"$f":"年度 & \"年\"","v":"2020年"},null,null,null,"７月行事予定表",{"$f":"学校名 & \"小学校\"","v":"エクセル小学校"}]
["７月",null,null,"児童関係",null,"職員関係"]
[null,"日","曜","朝","主な行事等","会議・研究会等","その他","日直"]
[null,{"$f":"DATE(年度, 7,1)","v":"2020-07-01"},{"$f":"TEXT(B4,\"aaa\")","v":"水"},{"$f":"年間予定!U4","v":0},{"$f":"年間予定!V4","v":0},{"$f":"年間予定!W4","v":0},null,null,null,null,"通しNo-1","最終行","課業日\n終了行","休日\n当番通しNo"]
[null,{"$f":"B4+1","v":"2020-07-02"},{"$f":"TEXT(B5,\"aaa\")","v":"木"},{"$f":"年間予定!U5","v":0},{"$f":"年間予定!V5","v":0},{"$f":"年間予定!W5","v":0},null,null,null,null,null,34,34,15,"から入る"]
[null,{"$f":"B5+1","v":"2020-07-03"},"金",{"$f":"年間予定!U6","v":0},{"$f":"年間予定!V6","v":0},{"$f":"年間予定!W6","v":0}]
[null,"2020-07-04","土",{"$f":"年間予定!U7","v":0},{"$f":"年間予定!V7","v":0},{"$f":"年間予定!W7","v":0}]
[null,"2020-07-05","日",{"$f":"年間予定!U8","v":0},{"$f":"年間予定!V8","v":0},{"$f":"年間予定!W8","v":0}]
[null,"2020-07-06","月",{"$f":"年間予定!U9","v":0},{"$f":"年間予定!V9","v":0},{"$f":"年間予定!W9","v":0}]
[null,"2020-07-07","火",{"$f":"年間予定!U10","v":0},{"$f":"年間予定!V10","v":0},{"$f":"年間予定!W10","v":0}]
[null,"2020-07-08","水",{"$f":"年間予定!U11","v":0},{"$f":"年間予定!V11","v":0},{"$f":"年間予定!W11","v":0}]
[null,"2020-07-09","木",{"$f":"年間予定!U12","v":0},{"$f":"年間予定!V12","v":0},{"$f":"年間予定!W12","v":0}]
[null,"2020-07-10","金",{"$f":"年間予定!U13","v":0},{"$f":"年間予定!V13","v":0},{"$f":"年間予定!W13","v":0}]
[null,"2020-07-11","土",{"$f":"年間予定!U14","v":0},{"$f":"年間予定!V14","v":0},{"$f":"年間予定!W14","v":0}]
[null,"2020-07-12","日",{"$f":"年間予定!U15","v":0},{"$f":"年間予定!V15","v":0},{"$f":"年間予定!W15","v":0}]
[null,"2020-07-13","月",{"$f":"年間予定!U16","v":0},{"$f":"年間予定!V16","v":0},{"$f":"年間予定!W16","v":0}]
[null,"2020-07-14","火",{"$f":"年間予定!U17","v":0},{"$f":"年間予定!V17","v":0},{"$f":"年間予定!W17","v":0}]
[null,"2020-07-15","水",{"$f":"年間予定!U18","v":0},{"$f":"年間予定!V18","v":0},{"$f":"年間予定!W18","v":0}]
[null,"2020-07-16","木",{"$f":"年間予定!U19","v":0},{"$f":"年間予定!V19","v":0},{"$f":"年間予定!W19","v":0}]
[null,"2020-07-17","金",{"$f":"年間予定!U20","v":0},{"$f":"年間予定!V20","v":0},{"$f":"年間予定!W20","v":0}]
[null,"2020-07-18","土",{"$f":"年間予定!U21","v":0},{"$f":"年間予定!V21","v":0},{"$f":"年間予定!W21","v":0}]
[null,"2020-07-19","日",{"$f":"年間予定!U22","v":0},{"$f":"年間予定!V22","v":0},{"$f":"年間予定!W22","v":0}]
[null,"2020-07-20","月",{"$f":"年間予定!U23","v":0},{"$f":"年間予定!V23","v":0},{"$f":"年間予定!W23","v":0}]
[null,"2020-07-21","火",{"$f":"年間予定!U24","v":0},{"$f":"年間予定!V24","v":0},{"$f":"年間予定!W24","v":0}]
[null,"2020-07-22","水",{"$f":"年間予定!U25","v":0},{"$f":"年間予定!V25","v":0},{"$f":"年間予定!W25","v":0}]
[null,"2020-07-23","木",{"$f":"年間予定!U26","v":0},{"$f":"年間予定!V26","v":0},{"$f":"年間予定!W26","v":0}]
[null,"2020-07-24","金",{"$f":"年間予定!U27","v":0},{"$f":"年間予定!V27","v":0},{"$f":"年間予定!W27","v":0}]
[null,"2020-07-25","土",{"$f":"年間予定!U28","v":0},{"$f":"年間予定!V28","v":0},{"$f":"年間予定!W28","v":0}]
[null,"2020-07-26","日",{"$f":"年間予定!U29","v":0},{"$f":"年間予定!V29","v":0},{"$f":"年間予定!W29","v":0}]
[null,"2020-07-27","月",{"$f":"年間予定!U30","v":0},{"$f":"年間予定!V30","v":0},{"$f":"年間予定!W30","v":0}]
[null,"2020-07-28","火",{"$f":"年間予定!U31","v":0},{"$f":"年間予定!V31","v":0},{"$f":"年間予定!W31","v":0}]
[null,"2020-07-29","水",{"$f":"年間予定!U32","v":0},{"$f":"年間予定!V32","v":0},{"$f":"年間予定!W32","v":0}]
[null,"2020-07-30","木",{"$f":"年間予定!U33","v":0},{"$f":"年間予定!V33","v":0},{"$f":"年間予定!W33","v":0},null,null,null,"？"]
[null,"2020-07-31","金",{"$f":"年間予定!U34","v":0},{"$f":"年間予定!V34","v":0},{"$f":"年間予定!W34","v":0}]

{"sheet":"８月","index":6,"n_rows":35,"n_cols":15,"rows_kept":35,"cut":false,"hidden":false,"merged":[[35,3,35,4],[0,0,0,3],[0,5,0,7],[1,0,1,2],[1,3,1,4],[1,5,1,7]]}
[{"$f":"年度 & \"年\"","v":"2020年"},null,null,null,"８月行事予定表",{"$f":"学校名 & \"小学校\"","v":"エクセル小学校"}]
["８月",null,null,"児童関係",null,"職員関係"]
[{"$f":"年間予定!AD3","v":0},"日",{"$f":"年間予定!AM3","v":"曜"},{"$f":"年間予定!AN3","v":"朝"},"主な行事等","会議・研究会等","その他","日直"]
[null,{"$f":"DATE(年度, 8,1)","v":"2020-08-01"},{"$f":"TEXT(B4,\"aaa\")","v":"土"},{"$f":"年間予定!AA4","v":0},{"$f":"年間予定!AB4","v":0},{"$f":"年間予定!AC4","v":0},null,null,null,null,"通しNo-1","最終行","課業日\n終了行","休日\n当番通しNo","課業日\n開始行"]
[null,{"$f":"B4+1","v":"2020-08-02"},{"$f":"TEXT(B5,\"aaa\")","v":"日"},{"$f":"年間予定!AA5","v":0},{"$f":"年間予定!AB5","v":0},{"$f":"年間予定!AC5","v":0},null,null,null,null,43,34,10,15,20]
[null,{"$f":"B5+1","v":"2020-08-03"},"月",{"$f":"年間予定!AA6","v":0},{"$f":"年間予定!AB6","v":0},{"$f":"年間予定!AC6","v":0}]
[null,"2020-08-04","火",{"$f":"年間予定!AA7","v":0},{"$f":"年間予定!AB7","v":0},{"$f":"年間予定!AC7","v":0}]
[null,"2020-08-05","水",{"$f":"年間予定!AA8","v":0},{"$f":"年間予定!AB8","v":0},{"$f":"年間予定!AC8","v":0}]
[null,"2020-08-06","木",{"$f":"年間予定!AA9","v":0},{"$f":"年間予定!AB9","v":0},{"$f":"年間予定!AC9","v":0}]
[null,"2020-08-07","金",{"$f":"年間予定!AA10","v":0},{"$f":"年間予定!AB10","v":0},{"$f":"年間予定!AC10","v":0}]
[null,"2020-08-08","土",{"$f":"年間予定!AA11","v":0},{"$f":"年間予定!AB11","v":0},{"$f":"年間予定!AC11","v":0}]
[null,"2020-08-09","日",{"$f":"年間予定!AA12","v":0},{"$f":"年間予定!AB12","v":0},{"$f":"年間予定!AC12","v":0}]
[null,"2020-08-10","月",{"$f":"年間予定!AA13","v":0},{"$f":"年間予定!AB13","v":0},{"$f":"年間予定!AC13","v":0}]
[null,"2020-08-11","火",{"$f":"年間予定!AA14","v":0},{"$f":"年間予定!AB14","v":0},{"$f":"年間予定!AC14","v":0}]
[null,"2020-08-12","水",{"$f":"年間予定!AA15","v":0},{"$f":"年間予定!AB15","v":0},{"$f":"年間予定!AC15","v":0}]
[null,"2020-08-13","木",{"$f":"年間予定!AA16","v":0},{"$f":"年間予定!AB16","v":0},{"$f":"年間予定!AC16","v":0}]
[null,"2020-08-14","金",{"$f":"年間予定!AA17","v":0},{"$f":"年間予定!AB17","v":0},{"$f":"年間予定!AC17","v":0}]
[null,"2020-08-15","土",{"$f":"年間予定!AA18","v":0},null,{"$f":"年間予定!AC18","v":0}]
[null,"2020-08-16","日",{"$f":"年間予定!AA19","v":0},null,{"$f":"年間予定!AC19","v":0}]
[null,"2020-08-17","月",{"$f":"年間予定!AA20","v":0},{"$f":"年間予定!AB20","v":0},{"$f":"年間予定!AC20","v":0}]
[null,"2020-08-18","火",{"$f":"年間予定!AA21","v":0},{"$f":"年間予定!AB21","v":0},{"$f":"年間予定!AC21","v":0}]
[null,"2020-08-19","水",{"$f":"年間予定!AA22","v":0},{"$f":"年間予定!AB22","v":0},{"$f":"年間予定!AC22","v":0}]
[null,"2020-08-20","木",{"$f":"年間予定!AA23","v":0},{"$f":"年間予定!AB23","v":0},{"$f":"年間予定!AC23","v":0}]
[null,"2020-08-21","金",{"$f":"年間予定!AA24","v":0},{"$f":"年間予定!AB24","v":0},{"$f":"年間予定!AC24","v":0}]
[null,"2020-08-22","土",{"$f":"年間予定!AA25","v":0},{"$f":"年間予定!AB25","v":0},{"$f":"年間予定!AC25","v":0}]
[null,"2020-08-23","日",{"$f":"年間予定!AA26","v":0},{"$f":"年間予定!AB26","v":0},{"$f":"年間予定!AC26","v":0}]
[null,"2020-08-24","月",{"$f":"年間予定!AA27","v":0},{"$f":"年間予定!AB27","v":0},{"$f":"年間予定!AC27","v":0}]
[null,"2020-08-25","火",{"$f":"年間予定!AA28","v":0},{"$f":"年間予定!AB28","v":0},{"$f":"年間予定!AC28","v":0}]
[null,"2020-08-26","水",{"$f":"年間予定!AA29","v":0},{"$f":"年間予定!AB29","v":0},{"$f":"年間予定!AC29","v":0}]
[null,"2020-08-27","木",{"$f":"年間予定!AA30","v":0},{"$f":"年間予定!AB30","v":0},{"$f":"年間予定!AC30","v":0}]
[null,"2020-08-28","金",{"$f":"年間予定!AA31","v":0},{"$f":"年間予定!AB31","v":0},{"$f":"年間予定!AC31","v":0}]
[null,"2020-08-29","土",{"$f":"年間予定!AA32","v":0},{"$f":"年間予定!AB32","v":0},{"$f":"年間予定!AC32","v":0}]
[null,"2020-08-30","日",{"$f":"年間予定!AA33","v":0},{"$f":"年間予定!AB33","v":0},{"$f":"年間予定!AC33","v":0}]
[null,"2020-08-31","月",{"$f":"年間予定!AA34","v":0},{"$f":"年間予定!AB34","v":0},{"$f":"年間予定!AC34","v":0}]
[null,null,null,null,{"$f":"年間予定!$AB$35","v":0}]

{"sheet":"９月","index":7,"n_rows":35,"n_cols":12,"rows_kept":35,"cut":false,"hidden":false,"merged":[[0,5,0,7],[1,0,1,2],[1,3,1,4],[1,5,1,7],[33,4,35,4],[0,0,0,3]]}
[{"$f":"年度 & \"年\"","v":"2020年"},null,null,null,"９月行事予定表",{"$f":"学校名 & \"小学校\"","v":"エクセル小学校"}]
["９月",null,null,"児童関係",null,"職員関係"]
[{"$f":"年間予定!R3","v":0},"日","曜","朝","主な行事等","会議・研究会等",null,"日直"]
[null,{"$f":"DATE(年度, 9,1)","v":"2020-09-01"},{"$f":"TEXT(B4,\"aaa\")","v":"火"},{"$f":"年間予定!AG4","v":0},{"$f":"年間予定!AH4","v":0},{"$f":"年間予定!AI4","v":0},null,null,null,null,"通しNo-1","最終行"]
[null,{"$f":"B4+1","v":"2020-09-02"},{"$f":"TEXT(B5,\"aaa\")","v":"水"},{"$f":"年間予定!AG5","v":0},{"$f":"年間予定!AH5","v":0},{"$f":"年間予定!AI5","v":0},null,null,null,"　",59,33]
[null,{"$f":"B5+1","v":"2020-09-03"},"木",{"$f":"年間予定!AG6","v":0},{"$f":"年間予定!AH6","v":0},{"$f":"年間予定!AI6","v":0}]
[null,"2020-09-04","金",{"$f":"年間予定!AG7","v":0},{"$f":"年間予定!AH7","v":0},{"$f":"年間予定!AI7","v":0}]
[null,"2020-09-05","土",{"$f":"年間予定!AG8","v":0},{"$f":"年間予定!AH8","v":0},{"$f":"年間予定!AI8","v":0}]
[null,"2020-09-06","日",{"$f":"年間予定!AG9","v":0},{"$f":"年間予定!AH9","v":0},{"$f":"年間予定!AI9","v":0}]
[null,"2020-09-07","月",{"$f":"年間予定!AG10","v":0},{"$f":"年間予定!AH10","v":0},{"$f":"年間予定!AI10","v":0}]
[null,"2020-09-08","火",{"$f":"年間予定!AG11","v":0},{"$f":"年間予定!AH11","v":0},{"$f":"年間予定!AI11","v":0}]
[null,"2020-09-09","水",{"$f":"年間予定!AG12","v":0},{"$f":"年間予定!AH12","v":0},{"$f":"年間予定!AI12","v":0}]
[null,"2020-09-10","木",{"$f":"年間予定!AG13","v":0},{"$f":"年間予定!AH13","v":0},{"$f":"年間予定!AI13","v":0}]
[null,"2020-09-11","金",{"$f":"年間予定!AG14","v":0},{"$f":"年間予定!AH14","v":0},{"$f":"年間予定!AI14","v":0}]
[null,"2020-09-12","土",{"$f":"年間予定!AG15","v":0},{"$f":"年間予定!AH15","v":0},{"$f":"年間予定!AI15","v":0}]
[null,"2020-09-13","日",{"$f":"年間予定!AG16","v":0},{"$f":"年間予定!AH16","v":0},{"$f":"年間予定!AI16","v":0}]
[null,"2020-09-14","月",{"$f":"年間予定!AG17","v":0},{"$f":"年間予定!AH17","v":0},{"$f":"年間予定!AI17","v":0}]
[null,"2020-09-15","火",{"$f":"年間予定!AG18","v":0},{"$f":"年間予定!AH18","v":0},{"$f":"年間予定!AI18","v":0}]
[null,"2020-09-16","水",{"$f":"年間予定!AG19","v":0},{"$f":"年間予定!AH19","v":0},{"$f":"年間予定!AI19","v":0}]
[null,"2020-09-17","木",{"$f":"年間予定!AG20","v":0},{"$f":"年間予定!AH20","v":0},{"$f":"年間予定!AI20","v":0}]
[null,"2020-09-18","金",{"$f":"年間予定!AG21","v":0},{"$f":"年間予定!AH21","v":0},{"$f":"年間予定!AI21","v":0}]
[null,"2020-09-19","土",{"$f":"年間予定!AG22","v":0},{"$f":"年間予定!AH22","v":0},{"$f":"年間予定!AI22","v":0}]
[null,"2020-09-20","日",{"$f":"年間予定!AG23","v":0},{"$f":"年間予定!AH23","v":0},{"$f":"年間予定!AI23","v":0}]
[null,"2020-09-21","月",{"$f":"年間予定!AG24","v":0},{"$f":"年間予定!AH24","v":0},{"$f":"年間予定!AI24","v":0}]
[null,"2020-09-22","火",{"$f":"年間予定!AG25","v":0},{"$f":"年間予定!AH25","v":0},{"$f":"年間予定!AI25","v":0}]
[null,"2020-09-23","水",{"$f":"年間予定!AG26","v":0},{"$f":"年間予定!AH26","v":0},{"$f":"年間予定!AI26","v":0}]
[null,"2020-09-24","木",{"$f":"年間予定!AG27","v":0},{"$f":"年間予定!AH27","v":0},{"$f":"年間予定!AI27","v":0}]
[null,"2020-09-25","金",{"$f":"年間予定!AG28","v":0},{"$f":"年間予定!AH28","v":0},{"$f":"年間予定!AI28","v":0}]
[null,"2020-09-26","土",{"$f":"年間予定!AG29","v":0},{"$f":"年間予定!AH29","v":0},{"$f":"年間予定!AI29","v":0}]
[null,"2020-09-27","日",{"$f":"年間予定!AG30","v":0},{"$f":"年間予定!AH30","v":0},{"$f":"年間予定!AI30","v":0}]
[null,"2020-09-28","月",{"$f":"年間予定!AG31","v":0},{"$f":"年間予定!AH31","v":0},{"$f":"年間予定!AI31","v":0}]
[null,"2020-09-29","火",{"$f":"年間予定!AG32","v":0},{"$f":"年間予定!AH32","v":0},{"$f":"年間予定!AI32","v":0}]
[null,"2020-09-30","水",{"$f":"年間予定!AG33","v":0},{"$f":"年間予定!AH33","v":0},{"$f":"年間予定!AI33","v":0}]
[null,null,null,0,{"$f":"年間予定!$AH$35","v":0}]
[null,null,null,null,null,"授業日数累計（1・6年）",null,{"$f":"'８月'!G36+19","v":19}]

{"sheet":"１０月","index":8,"n_rows":35,"n_cols":12,"rows_kept":35,"cut":false,"hidden":false,"merged":[[34,4,36,4],[0,0,0,3],[0,5,0,7],[1,0,1,2],[1,3,1,4],[1,5,1,7]]}
[{"$f":"年度 & \"年\"","v":"2020年"},null,null,null,"   １０月行事予定表(案）",{"$f":"学校名 & \"小学校\"","v":"エクセル小学校"}]
["１０月",null,null,"児童関係",null,"職員関係"]
[{"$f":"年間予定!R3","v":0},"日","曜","朝","主な行事等","会議・研修等",null,"日直"]
[null,{"$f":"DATE(年度, 10,1)","v":"2020-10-01"},{"$f":"TEXT(B4,\"aaa\")","v":"木"},{"$f":"年間予定!AN4","v":0},{"$f":"年間予定!AO4","v":0},{"$f":"年間予定!AP4","v":0},null,null,null,null,"通しNo-1","最終行"]
[null,{"$f":"B4+1","v":"2020-10-02"},"金",{"$f":"年間予定!AN5","v":0},{"$f":"年間予定!AO5","v":0},{"$f":"年間予定!AP5","v":0},null,null,null,null,79,34]
[null,{"$f":"B5+1","v":"2020-10-03"},"土",{"$f":"年間予定!AN6","v":0},{"$f":"年間予定!AO6","v":0},{"$f":"年間予定!AP6","v":0}]
[null,"2020-10-04","日",{"$f":"年間予定!AN7","v":0},{"$f":"年間予定!AO7","v":0},{"$f":"年間予定!AP7","v":0}]
[null,"2020-10-05","月",{"$f":"年間予定!AN8","v":0},{"$f":"年間予定!AO8","v":0},{"$f":"年間予定!AP8","v":0}]
[null,"2020-10-06","火",{"$f":"年間予定!AN9","v":0},{"$f":"年間予定!AO9","v":0},{"$f":"年間予定!AP9","v":0}]
[null,"2020-10-07","水",{"$f":"年間予定!AN10","v":0},{"$f":"年間予定!AO10","v":0},{"$f":"年間予定!AP10","v":0}]
[null,"2020-10-08","木",{"$f":"年間予定!AN11","v":0},{"$f":"年間予定!AO11","v":0},{"$f":"年間予定!AP11","v":0}]
[null,"2020-10-09","金",{"$f":"年間予定!AN12","v":0},{"$f":"年間予定!AO12","v":0},{"$f":"年間予定!AP12","v":0}]
[null,"2020-10-10","土",{"$f":"年間予定!AN13","v":0},{"$f":"年間予定!AO13","v":0},{"$f":"年間予定!AP13","v":0}]
[null,"2020-10-11","日",{"$f":"年間予定!AN14","v":0},{"$f":"年間予定!AO14","v":0},{"$f":"年間予定!AP14","v":0}]
[null,"2020-10-12","月",{"$f":"年間予定!AN15","v":0},{"$f":"年間予定!AO15","v":0},{"$f":"年間予定!AP15","v":0}]
[null,"2020-10-13","火",{"$f":"年間予定!AN16","v":0},{"$f":"年間予定!AO16","v":0},{"$f":"年間予定!AP16","v":0}]
[null,"2020-10-14","水",{"$f":"年間予定!AN17","v":0},{"$f":"年間予定!AO17","v":0},{"$f":"年間予定!AP17","v":0}]
[null,"2020-10-15","木",{"$f":"年間予定!AN18","v":0},{"$f":"年間予定!AO18","v":0},{"$f":"年間予定!AP18","v":0}]
[null,"2020-10-16","金",{"$f":"年間予定!AN19","v":0},{"$f":"年間予定!AO19","v":0},{"$f":"年間予定!AP19","v":0}]
[null,"2020-10-17","土",{"$f":"年間予定!AN20","v":0},{"$f":"年間予定!AO20","v":0},{"$f":"年間予定!AP20","v":0}]
[null,"2020-10-18","日",{"$f":"年間予定!AN21","v":0},{"$f":"年間予定!AO21","v":0},{"$f":"年間予定!AP21","v":0}]
[null,"2020-10-19","月",{"$f":"年間予定!AN22","v":0},{"$f":"年間予定!AO22","v":0},{"$f":"年間予定!AP22","v":0}]
[null,"2020-10-20","火",{"$f":"年間予定!AN23","v":0},{"$f":"年間予定!AO23","v":0},{"$f":"年間予定!AP23","v":0}]
[null,"2020-10-21","水",{"$f":"年間予定!AN24","v":0},{"$f":"年間予定!AO24","v":0},{"$f":"年間予定!AP24","v":0}]
[null,"2020-10-22","木",{"$f":"年間予定!AN25","v":0},{"$f":"年間予定!AO25","v":0},{"$f":"年間予定!AP25","v":0}]
[null,"2020-10-23","金",{"$f":"年間予定!AN26","v":0},{"$f":"年間予定!AO26","v":0},{"$f":"年間予定!AP26","v":0}]
[null,"2020-10-24","土",{"$f":"年間予定!AN27","v":0},{"$f":"年間予定!AO27","v":0},{"$f":"年間予定!AP27","v":0}]
[null,"2020-10-25","日",{"$f":"年間予定!AN28","v":0},{"$f":"年間予定!AO28","v":0},{"$f":"年間予定!AP28","v":0}]
[null,"2020-10-26","月",{"$f":"年間予定!AN29","v":0},{"$f":"年間予定!AO29","v":0},{"$f":"年間予定!AP29","v":0}]
[null,"2020-10-27","火",{"$f":"年間予定!AN30","v":0},{"$f":"年間予定!AO30","v":0},{"$f":"年間予定!AP30","v":0}]
[null,"2020-10-28","水",{"$f":"年間予定!AN31","v":0},{"$f":"年間予定!AO31","v":0},{"$f":"年間予定!AP31","v":0}]
[null,"2020-10-29","木",{"$f":"年間予定!AN32","v":0},{"$f":"年間予定!AO32","v":0},{"$f":"年間予定!AP32","v":0}]
[null,"2020-10-30","金",{"$f":"年間予定!AN33","v":0},{"$f":"年間予定!AO33","v":0},{"$f":"年間予定!AP33","v":0}]
[null,"2020-10-31","土",{"$f":"年間予定!AN34","v":0},{"$f":"年間予定!AO34","v":0},{"$f":"年間予定!AP34","v":0}]
[null,null,null,null,{"$f":"年間予定!$AO$35","v":0}]

{"sheet":"１１月","index":9,"n_rows":34,"n_cols":12,"rows_kept":34,"cut":false,"hidden":false,"merged":[[33,4,34,4],[0,0,0,3],[0,5,0,7],[1,0,1,2],[1,3,1,4],[1,5,1,7]]}
[{"$f":"年度 & \"年\"","v":"2020年"},null,null,null,"11月行事予定表(案）",{"$f":"学校名 & \"小学校\"","v":"エクセル小学校"}]
["１１月",null,null,"児童関係",null,"職員関係"]
[{"$f":"年間予定!R3","v":0},"日","曜","朝","主な行事等","会議・研修等",null,"日直"]
[null,{"$f":"DATE(年度,11,1)","v":"2020-11-01"},{"$f":"TEXT(B4,\"aaa\")","v":"日"},{"$f":"年間予定!AT4","v":0},{"$f":"年間予定!AU4","v":0},{"$f":"年間予定!AV4","v":0},null,null,null,null,"通しNo-1","最終行"]
[null,{"$f":"B4+1","v":"2020-11-02"},{"$f":"TEXT(B5,\"aaa\")","v":"月"},{"$f":"年間予定!AT5","v":0},{"$f":"年間予定!AU5","v":0},{"$f":"年間予定!AV5","v":0},null,null,null,null,101,33]
[null,{"$f":"B5+1","v":"2020-11-03"},"火",{"$f":"年間予定!AT6","v":0},{"$f":"年間予定!AU6","v":0},{"$f":"年間予定!AV6","v":0}]
[null,"2020-11-04","水",{"$f":"年間予定!AT7","v":0},{"$f":"年間予定!AU7","v":0},{"$f":"年間予定!AV7","v":0}]
[null,"2020-11-05","木",{"$f":"年間予定!AT8","v":0},{"$f":"年間予定!AU8","v":0},{"$f":"年間予定!AV8","v":0}]
[null,"2020-11-06","金",{"$f":"年間予定!AT9","v":0},{"$f":"年間予定!AU9","v":0},{"$f":"年間予定!AV9","v":0}]
[null,"2020-11-07","土",{"$f":"年間予定!AT10","v":0},{"$f":"年間予定!AU10","v":0},{"$f":"年間予定!AV10","v":0}]
[null,"2020-11-08","日",{"$f":"年間予定!AT11","v":0},{"$f":"年間予定!AU11","v":0},{"$f":"年間予定!AV11","v":0}]
[null,"2020-11-09","月",{"$f":"年間予定!AT12","v":0},{"$f":"年間予定!AU12","v":0},{"$f":"年間予定!AV12","v":0}]
[null,"2020-11-10","火",{"$f":"年間予定!AT13","v":0},{"$f":"年間予定!AU13","v":0},{"$f":"年間予定!AV13","v":0}]
[null,"2020-11-11","水",{"$f":"年間予定!AT14","v":0},{"$f":"年間予定!AU14","v":0},{"$f":"年間予定!AV14","v":0}]
[null,"2020-11-12","木",{"$f":"年間予定!AT15","v":0},{"$f":"年間予定!AU15","v":0},{"$f":"年間予定!AV15","v":0}]
[null,"2020-11-13","金",{"$f":"年間予定!AT16","v":0},{"$f":"年間予定!AU16","v":0},{"$f":"年間予定!AV16","v":0}]
[null,"2020-11-14","土",{"$f":"年間予定!AT17","v":0},{"$f":"年間予定!AU17","v":0},{"$f":"年間予定!AV17","v":0}]
[null,"2020-11-15","日",{"$f":"年間予定!AT18","v":0},{"$f":"年間予定!AU18","v":0},{"$f":"年間予定!AV18","v":0}]
[null,"2020-11-16","月",{"$f":"年間予定!AT19","v":0},{"$f":"年間予定!AU19","v":0},{"$f":"年間予定!AV19","v":0}]
[null,"2020-11-17","火",{"$f":"年間予定!AT20","v":0},{"$f":"年間予定!AU20","v":0},{"$f":"年間予定!AV20","v":0}]
[null,"2020-11-18","水",{"$f":"年間予定!AT21","v":0},{"$f":"年間予定!AU21","v":0},{"$f":"年間予定!AV21","v":0}]
[null,"2020-11-19","木",{"$f":"年間予定!AT22","v":0},{"$f":"年間予定!AU22","v":0},{"$f":"年間予定!AV22","v":0}]
[null,"2020-11-20","金",{"$f":"年間予定!AT23","v":0},{"$f":"年間予定!AU23","v":0},{"$f":"年間予定!AV23","v":0}]
[null,"2020-11-21","土",{"$f":"年間予定!AT24","v":0},{"$f":"年間予定!AU24","v":0},{"$f":"年間予定!AV24","v":0}]
[null,"2020-11-22","日",{"$f":"年間予定!AT25","v":0},{"$f":"年間予定!AU25","v":0},{"$f":"年間予定!AV25","v":0}]
[null,"2020-11-23","月",{"$f":"年間予定!AT26","v":0},{"$f":"年間予定!AU26","v":0},{"$f":"年間予定!AV26","v":0}]
[null,"2020-11-24","火",{"$f":"年間予定!AT27","v":0},{"$f":"年間予定!AU27","v":0},{"$f":"年間予定!AV27","v":0}]
[null,"2020-11-25","水",{"$f":"年間予定!AT28","v":0},{"$f":"年間予定!AU28","v":0},{"$f":"年間予定!AV28","v":0}]
[null,"2020-11-26","木",{"$f":"年間予定!AT29","v":0},{"$f":"年間予定!AU29","v":0},{"$f":"年間予定!AV29","v":0}]
[null,"2020-11-27","金",{"$f":"年間予定!AT30","v":0},{"$f":"年間予定!AU30","v":0},{"$f":"年間予定!AV30","v":0}]
[null,"2020-11-28","土",{"$f":"年間予定!AT31","v":0},{"$f":"年間予定!AU31","v":0},{"$f":"年間予定!AV31","v":0}]
[null,"2020-11-29","日",{"$f":"年間予定!AT32","v":0},{"$f":"年間予定!AU32","v":0},{"$f":"年間予定!AV32","v":0}]
[null,"2020-11-30","月",{"$f":"年間予定!AT33","v":0},{"$f":"年間予定!AU33","v":0},{"$f":"年間予定!AV33","v":0}]
[null,null,null,null,{"$f":"年間予定!$AU$35","v":0}]

{"sheet":"１２月","index":10,"n_rows":35,"n_cols":14,"rows_kept":35,"cut":false,"hidden":false,"merged":[[34,4,36,4],[0,5,0,7],[1,0,1,2],[1,3,1,4],[1,5,1,7]]}
[{"$f":"年度 & \"年\"","v":"2020年"},null,null,null,"１２月行事予定表",{"$f":"学校名 & \"小学校\"","v":"エクセル小学校"}]
["１２月",null,null,"児童関係",null,"職員関係"]
[{"$f":"年間予定!R3","v":0},"日","曜","朝","主な行事等","会議・研修等",null,"日直"]
[null,{"$f":"DATE(年度,12,1)","v":"2020-12-01"},{"$f":"TEXT(B4,\"aaa\")","v":"火"},{"$f":"年間予定!AZ4","v":0},{"$f":"年間予定!BA4","v":0},{"$f":"年間予定!BB4","v":0},null,null,null,null,"通しNo-1","最終行","課業日\n終了行","休日\n当番通しNo"]
[null,{"$f":"B4+1","v":"2020-12-02"},{"$f":"TEXT(B5,\"aaa\")","v":"水"},{"$f":"年間予定!AZ5","v":0},{"$f":"年間予定!BA5","v":0},{"$f":"年間予定!BB5","v":0},null,null,null,null,120,34,27,18]
[null,{"$f":"B5+1","v":"2020-12-03"},"木",{"$f":"年間予定!AZ6","v":0},{"$f":"年間予定!BA6","v":0},{"$f":"年間予定!BB6","v":0}]
[null,"2020-12-04","金",{"$f":"年間予定!AZ7","v":0},{"$f":"年間予定!BA7","v":0},{"$f":"年間予定!BB7","v":0}]
[null,"2020-12-05","土",{"$f":"年間予定!AZ8","v":0},{"$f":"年間予定!BA8","v":0},{"$f":"年間予定!BB8","v":0}]
[null,"2020-12-06","日",{"$f":"年間予定!AZ9","v":0},{"$f":"年間予定!BA9","v":0},{"$f":"年間予定!BB9","v":0}]
[null,"2020-12-07","月",{"$f":"年間予定!AZ10","v":0},{"$f":"年間予定!BA10","v":0},{"$f":"年間予定!BB10","v":0}]
[null,"2020-12-08","火",{"$f":"年間予定!AZ11","v":0},{"$f":"年間予定!BA11","v":0},{"$f":"年間予定!BB11","v":0}]
[null,"2020-12-09","水",{"$f":"年間予定!AZ12","v":0},{"$f":"年間予定!BA12","v":0},{"$f":"年間予定!BB12","v":0}]
[null,"2020-12-10","木",{"$f":"年間予定!AZ13","v":0},{"$f":"年間予定!BA13","v":0},{"$f":"年間予定!BB13","v":0}]
[null,"2020-12-11","金",{"$f":"年間予定!AZ14","v":0},{"$f":"年間予定!BA14","v":0},{"$f":"年間予定!BB14","v":0}]
[null,"2020-12-12","土",{"$f":"年間予定!AZ15","v":0},{"$f":"年間予定!BA15","v":0},{"$f":"年間予定!BB15","v":0}]
[null,"2020-12-13","日",{"$f":"年間予定!AZ16","v":0},{"$f":"年間予定!BA16","v":0},{"$f":"年間予定!BB16","v":0}]
[null,"2020-12-14","月",{"$f":"年間予定!AZ17","v":0},{"$f":"年間予定!BA17","v":0},{"$f":"年間予定!BB17","v":0}]
[null,"2020-12-15","火",{"$f":"年間予定!AZ18","v":0},{"$f":"年間予定!BA18","v":0},{"$f":"年間予定!BB18","v":0}]
[null,"2020-12-16","水",{"$f":"年間予定!AZ19","v":0},{"$f":"年間予定!BA19","v":0},{"$f":"年間予定!BB19","v":0}]
[null,"2020-12-17","木",{"$f":"年間予定!AZ20","v":0},{"$f":"年間予定!BA20","v":0},{"$f":"年間予定!BB20","v":0}]
[null,"2020-12-18","金",{"$f":"年間予定!AZ21","v":0},{"$f":"年間予定!BA21","v":0},{"$f":"年間予定!BB21","v":0}]
[null,"2020-12-19","土",{"$f":"年間予定!AZ22","v":0},{"$f":"年間予定!BA22","v":0},{"$f":"年間予定!BB22","v":0}]
[null,"2020-12-20","日",{"$f":"年間予定!AZ23","v":0},{"$f":"年間予定!BA23","v":0},{"$f":"年間予定!BB23","v":0}]
[null,"2020-12-21","月",{"$f":"年間予定!AZ24","v":0},{"$f":"年間予定!BA24","v":0},{"$f":"年間予定!BB24","v":0}]
[null,"2020-12-22","火",{"$f":"年間予定!AZ25","v":0},{"$f":"年間予定!BA25","v":0},{"$f":"年間予定!BB25","v":0}]
[null,"2020-12-23","水",{"$f":"年間予定!AZ26","v":0},{"$f":"年間予定!BA26","v":0},{"$f":"年間予定!BB26","v":0}]
[null,"2020-12-24","木",{"$f":"年間予定!AZ27","v":0},{"$f":"年間予定!BA27","v":0},{"$f":"年間予定!BB27","v":0}]
[null,"2020-12-25","金",{"$f":"年間予定!AZ28","v":0},{"$f":"年間予定!BA28","v":0},{"$f":"年間予定!BB28","v":0}]
[null,"2020-12-26","土",{"$f":"年間予定!AZ29","v":0},{"$f":"年間予定!BA29","v":0},{"$f":"年間予定!BB29","v":0}]
[null,"2020-12-27","日",{"$f":"年間予定!AZ30","v":0},{"$f":"年間予定!BA30","v":0},{"$f":"年間予定!BB30","v":0}]
[null,"2020-12-28","月",{"$f":"年間予定!AZ31","v":0},{"$f":"年間予定!BA31","v":0},{"$f":"年間予定!BB31","v":0}]
[null,"2020-12-29","火",{"$f":"年間予定!AZ32","v":0},{"$f":"年間予定!BA32","v":0},{"$f":"年間予定!BB32","v":0}]
[null,"2020-12-30","水",{"$f":"年間予定!AZ33","v":0},{"$f":"年間予定!BA33","v":0},{"$f":"年間予定!BB33","v":0}]
[null,"2020-12-31","木",{"$f":"年間予定!AZ34","v":0},{"$f":"年間予定!BA34","v":0},{"$f":"年間予定!BB34","v":0}]
[null,null,null,null,{"$f":"年間予定!$BA$35","v":0}]

{"sheet":"１月","index":11,"n_rows":35,"n_cols":15,"rows_kept":35,"cut":false,"hidden":false,"merged":[[34,1,36,4],[1,5,1,7],[0,5,0,7],[1,0,1,2],[0,0,0,3],[1,3,1,4]]}
[{"$f":"年度 & \"年度\"","v":"2020年度"},null,null,null,"１月行事予定表（案）",{"$f":"学校名 & \"小学校\"","v":"エクセル小学校"}]
["１月",null,null,"児童関係",null,"職員関係"]
[{"$f":"年間予定!R3","v":0},"日","曜","朝","主な行事等","会議・研修等",null,"日直"]
[null,{"$f":"DATE(年度+1, 1,1)","v":"2021-01-01"},{"$f":"TEXT(B4,\"aaa\")","v":"金"},{"$f":"年間予定!BF4","v":0},{"$f":"年間予定!BG4","v":0},{"$f":"年間予定!BH4","v":0},null,null,null,null,"通しNo-1","最終行",null,"休日\n当番通しNo","課業日\n開始行"]
[null,{"$f":"B4+1","v":"2021-01-02"},{"$f":"TEXT(B5,\"aaa\")","v":"土"},{"$f":"年間予定!BF5","v":0},{"$f":"年間予定!BG5","v":0},{"$f":"年間予定!BH5","v":0},null,null,null,null,138,34,null,19,11]
[null,{"$f":"B5+1","v":"2021-01-03"},"日",{"$f":"年間予定!BF6","v":0},{"$f":"年間予定!BG6","v":0},{"$f":"年間予定!BH6","v":0}]
[null,"2021-01-04","月",{"$f":"年間予定!BF7","v":0},{"$f":"年間予定!BG7","v":0},{"$f":"年間予定!BH7","v":0}]
[null,"2021-01-05","火",{"$f":"年間予定!BF8","v":0},{"$f":"年間予定!BG8","v":0},{"$f":"年間予定!BH8","v":0}]
[null,"2021-01-06","水",{"$f":"年間予定!BF9","v":0},{"$f":"年間予定!BG9","v":0},{"$f":"年間予定!BH9","v":0}]
[null,"2021-01-07","木",{"$f":"年間予定!BF10","v":0},{"$f":"年間予定!BG10","v":0},{"$f":"年間予定!BH10","v":0}]
[null,"2021-01-08","金",{"$f":"年間予定!BF11","v":0},{"$f":"年間予定!BG11","v":0},{"$f":"年間予定!BH11","v":0}]
[null,"2021-01-09","土",{"$f":"年間予定!BF12","v":0},{"$f":"年間予定!BG12","v":0},{"$f":"年間予定!BH12","v":0}]
[null,"2021-01-10","日",{"$f":"年間予定!BF13","v":0},{"$f":"年間予定!BG13","v":0},{"$f":"年間予定!BH13","v":0}]
[null,"2021-01-11","月",{"$f":"年間予定!BF14","v":0},{"$f":"年間予定!BG14","v":0},{"$f":"年間予定!BH14","v":0}]
[null,"2021-01-12","火",{"$f":"年間予定!BF15","v":0},{"$f":"年間予定!BG15","v":0},{"$f":"年間予定!BH15","v":0}]
[null,"2021-01-13","水",{"$f":"年間予定!BF16","v":0},{"$f":"年間予定!BG16","v":0},{"$f":"年間予定!BH16","v":0}]
[null,"2021-01-14","木",{"$f":"年間予定!BF17","v":0},{"$f":"年間予定!BG17","v":0},{"$f":"年間予定!BH17","v":0}]
[null,"2021-01-15","金",{"$f":"年間予定!BF18","v":0},{"$f":"年間予定!BG18","v":0},{"$f":"年間予定!BH18","v":0}]
[null,"2021-01-16","土",{"$f":"年間予定!BF19","v":0},{"$f":"年間予定!BG19","v":0},{"$f":"年間予定!BH19","v":0}]
[null,"2021-01-17","日",{"$f":"年間予定!BF20","v":0},{"$f":"年間予定!BG20","v":0},{"$f":"年間予定!BH20","v":0}]
[null,"2021-01-18","月",{"$f":"年間予定!BF21","v":0},{"$f":"年間予定!BG21","v":0},{"$f":"年間予定!BH21","v":0}]
[null,"2021-01-19","火",{"$f":"年間予定!BF22","v":0},{"$f":"年間予定!BG22","v":0},{"$f":"年間予定!BH22","v":0}]
[null,"2021-01-20","水",{"$f":"年間予定!BF23","v":0},{"$f":"年間予定!BG23","v":0},{"$f":"年間予定!BH23","v":0}]
[null,"2021-01-21","木",{"$f":"年間予定!BF24","v":0},{"$f":"年間予定!BG24","v":0},{"$f":"年間予定!BH24","v":0}]
[null,"2021-01-22","金",{"$f":"年間予定!BF25","v":0},{"$f":"年間予定!BG25","v":0},{"$f":"年間予定!BH25","v":0}]
[null,"2021-01-23","土",{"$f":"年間予定!BF26","v":0},{"$f":"年間予定!BG26","v":0},{"$f":"年間予定!BH26","v":0}]
[null,"2021-01-24","日",{"$f":"年間予定!BF27","v":0},{"$f":"年間予定!BG27","v":0},{"$f":"年間予定!BH27","v":0}]
[null,"2021-01-25","月",{"$f":"年間予定!BF28","v":0},{"$f":"年間予定!BG28","v":0},{"$f":"年間予定!BH28","v":0}]
[null,"2021-01-26","火",{"$f":"年間予定!BF29","v":0},{"$f":"年間予定!BG29","v":0},{"$f":"年間予定!BH29","v":0}]
[null,"2021-01-27","水",{"$f":"年間予定!BF30","v":0},{"$f":"年間予定!BG30","v":0},{"$f":"年間予定!BH30","v":0}]
[null,"2021-01-28","木",{"$f":"年間予定!BF31","v":0},{"$f":"年間予定!BG31","v":0},{"$f":"年間予定!BH31","v":0}]
[null,"2021-01-29","金",{"$f":"年間予定!BF32","v":0},{"$f":"年間予定!BG32","v":0},{"$f":"年間予定!BH32","v":0}]
[null,"2021-01-30","土",{"$f":"年間予定!BF33","v":0},{"$f":"年間予定!BG33","v":0},{"$f":"年間予定!BH33","v":0}]
[null,"2021-01-31","日",{"$f":"年間予定!BF34","v":0},{"$f":"年間予定!BG34","v":0},{"$f":"年間予定!BH34","v":0}]
[null,"※ベルマーク強化月間"]

{"sheet":"２月","index":12,"n_rows":33,"n_cols":12,"rows_kept":33,"cut":false,"hidden":false,"merged":[[1,5,1,7],[0,5,0,7],[0,0,0,3],[1,0,1,2],[1,3,1,4]]}
[{"$f":"年度 & \"年度\"","v":"2020年度"},null,null,null,"２月行事予定表（案）",{"$f":"学校名 & \"小学校\"","v":"エクセル小学校"}]
["２月",null,null,"児童関係",null,"職員関係"]
[{"$f":"年間予定!R3","v":0},"日","曜","朝","主な行事等","会議・研修等",null,"日直"]
[null,{"$f":"DATE(年度+1, 2,1)","v":"2021-02-01"},{"$f":"TEXT(B4,\"aaa\")","v":"月"},{"$f":"年間予定!BL4","v":0},{"$f":"年間予定!BM4","v":0},{"$f":"年間予定!BN4","v":0},null,null,null,null,"通しNo-1","最終行"]
[null,{"$f":"B4+1","v":"2021-02-02"},{"$f":"TEXT(B5,\"aaa\")","v":"火"},{"$f":"年間予定!BL5","v":0},{"$f":"年間予定!BM5","v":0},{"$f":"年間予定!BN5","v":0},null,null,null,null,153,{"$f":"IF(OR(MOD((年度+1),400)=0,AND(MOD((年度+1),4)=0,MOD((年度+1),100)<>0)),32,31)","v":31}]
[null,{"$f":"B5+1","v":"2021-02-03"},"水",{"$f":"年間予定!BL6","v":0},{"$f":"年間予定!BM6","v":0},{"$f":"年間予定!BN6","v":0}]
[null,"2021-02-04","木",{"$f":"年間予定!BL7","v":0},{"$f":"年間予定!BM7","v":0},{"$f":"年間予定!BN7","v":0}]
[null,"2021-02-05","金",{"$f":"年間予定!BL8","v":0},{"$f":"年間予定!BM8","v":0},{"$f":"年間予定!BN8","v":0}]
[null,"2021-02-06","土",{"$f":"年間予定!BL9","v":0},{"$f":"年間予定!BM9","v":0},{"$f":"年間予定!BN9","v":0}]
[null,"2021-02-07","日",{"$f":"年間予定!BL10","v":0},{"$f":"年間予定!BM10","v":0},{"$f":"年間予定!BN10","v":0}]
[null,"2021-02-08","月",{"$f":"年間予定!BL11","v":0},{"$f":"年間予定!BM11","v":0},{"$f":"年間予定!BN11","v":0}]
[null,"2021-02-09","火",{"$f":"年間予定!BL12","v":0},{"$f":"年間予定!BM12","v":0},{"$f":"年間予定!BN12","v":0}]
[null,"2021-02-10","水",{"$f":"年間予定!BL13","v":0},{"$f":"年間予定!BM13","v":0},{"$f":"年間予定!BN13","v":0}]
[null,"2021-02-11","木",{"$f":"年間予定!BL14","v":0},{"$f":"年間予定!BM14","v":0},{"$f":"年間予定!BN14","v":0}]
[null,"2021-02-12","金",{"$f":"年間予定!BL15","v":0},{"$f":"年間予定!BM15","v":0},{"$f":"年間予定!BN15","v":0}]
[null,"2021-02-13","土",{"$f":"年間予定!BL16","v":0},{"$f":"年間予定!BM16","v":0},{"$f":"年間予定!BN16","v":0}]
[null,"2021-02-14","日",{"$f":"年間予定!BL17","v":0},{"$f":"年間予定!BM17","v":0},{"$f":"年間予定!BN17","v":0}]
[null,"2021-02-15","月",{"$f":"年間予定!BL18","v":0},{"$f":"年間予定!BM18","v":0},{"$f":"年間予定!BN18","v":0}]
[null,"2021-02-16","火",{"$f":"年間予定!BL19","v":0},{"$f":"年間予定!BM19","v":0},{"$f":"年間予定!BN19","v":0}]
[null,"2021-02-17","水",{"$f":"年間予定!BL20","v":0},{"$f":"年間予定!BM20","v":0},{"$f":"年間予定!BN20","v":0}]
[null,"2021-02-18","木",{"$f":"年間予定!BL21","v":0},{"$f":"年間予定!BM21","v":0},{"$f":"年間予定!BN21","v":0}]
[null,"2021-02-19","金",{"$f":"年間予定!BL22","v":0},{"$f":"年間予定!BM22","v":0},{"$f":"年間予定!BN22","v":0}]
[null,"2021-02-20","土",{"$f":"年間予定!BL23","v":0},{"$f":"年間予定!BM23","v":0},{"$f":"年間予定!BN23","v":0}]
[null,"2021-02-21","日",{"$f":"年間予定!BL24","v":0},{"$f":"年間予定!BM24","v":0},{"$f":"年間予定!BN24","v":0}]
[null,"2021-02-22","月",{"$f":"年間予定!BL25","v":0},{"$f":"年間予定!BM25","v":0},{"$f":"年間予定!BN25","v":0}]
[null,"2021-02-23","火",{"$f":"年間予定!BL26","v":0},{"$f":"年間予定!BM26","v":0},{"$f":"年間予定!BN26","v":0}]
[null,"2021-02-24","水",{"$f":"年間予定!BL27","v":0},{"$f":"年間予定!BM27","v":0},{"$f":"年間予定!BN27","v":0}]
[null,"2021-02-25","木",{"$f":"年間予定!BL28","v":0},{"$f":"年間予定!BM28","v":0},{"$f":"年間予定!BN28","v":0}]
[null,"2021-02-26","金",{"$f":"年間予定!BL29","v":0},{"$f":"年間予定!BM29","v":0},{"$f":"年間予定!BN29","v":0}]
[null,"2021-02-27","土",{"$f":"年間予定!BL30","v":0},{"$f":"年間予定!BM30","v":0},{"$f":"年間予定!BN30","v":0}]
[null,"2021-02-28","日",{"$f":"年間予定!BL31","v":0},{"$f":"年間予定!BM31","v":0},{"$f":"年間予定!BN31","v":0}]
[null,"2021-03-01","月"]
[{"$f":"年間予定!$BM$35","v":0}]

{"sheet":"３月","index":13,"n_rows":35,"n_cols":14,"rows_kept":35,"cut":false,"hidden":false,"merged":[[34,0,37,3],[0,0,0,3],[1,3,1,4],[1,5,1,7],[1,0,1,2],[0,5,0,7]]}
[{"$f":"年度 & \"年度\"","v":"2020年度"},null,null,null,"３月行事予定表（案）",{"$f":"学校名 & \"小学校\"","v":"エクセル小学校"}]
["３月",null,null,"児童関係",null,"職員関係"]
[{"$f":"年間予定!R3","v":0},"日","曜","朝","主な行事等","会議・研究会等",null,"日直"]
[null,{"$f":"DATE(年度+1, 3,1)","v":"2021-03-01"},{"$f":"TEXT(B4,\"aaa\")","v":"月"},{"$f":"年間予定!BR4","v":0},{"$f":"年間予定!BS4","v":0},{"$f":"年間予定!BT4","v":0},null,null,null,null,"通しNo-1","最終行","課業日\n終了行","休日\n当番通しNo"]
[null,{"$f":"B4+1","v":"2021-03-02"},{"$f":"TEXT(B5,\"aaa\")","v":"火"},{"$f":"年間予定!BR5","v":0},{"$f":"年間予定!BS5","v":0},{"$f":"年間予定!BT5","v":0},null,null,null,null,172,33,27,23]
[null,{"$f":"B5+1","v":"2021-03-03"},"水",{"$f":"年間予定!BR6","v":0},{"$f":"年間予定!BS6","v":0},{"$f":"年間予定!BT6","v":0}]
[null,"2021-03-04","木",{"$f":"年間予定!BR7","v":0},{"$f":"年間予定!BS7","v":0},{"$f":"年間予定!BT7","v":0}]
[null,"2021-03-05","金",{"$f":"年間予定!BR8","v":0},{"$f":"年間予定!BS8","v":0},{"$f":"年間予定!BT8","v":0}]
[null,"2021-03-06","土",{"$f":"年間予定!BR9","v":0},{"$f":"年間予定!BS9","v":0},{"$f":"年間予定!BT9","v":0}]
[null,"2021-03-07","日",{"$f":"年間予定!BR10","v":0},{"$f":"年間予定!BS10","v":0},{"$f":"年間予定!BT10","v":0}]
[null,"2021-03-08","月",{"$f":"年間予定!BR11","v":0},{"$f":"年間予定!BS11","v":0},{"$f":"年間予定!BT11","v":0}]
[null,"2021-03-09","火",{"$f":"年間予定!BR12","v":0},{"$f":"年間予定!BS12","v":0},{"$f":"年間予定!BT12","v":0}]
[null,"2021-03-10","水",{"$f":"年間予定!BR13","v":0},{"$f":"年間予定!BS13","v":0},{"$f":"年間予定!BT13","v":0}]
[null,"2021-03-11","木",{"$f":"年間予定!BR14","v":0},{"$f":"年間予定!BS14","v":0},{"$f":"年間予定!BT14","v":0}]
[null,"2021-03-12","金",{"$f":"年間予定!BR15","v":0},{"$f":"年間予定!BS15","v":0},{"$f":"年間予定!BT15","v":0}]
[null,"2021-03-13","土",{"$f":"年間予定!BR16","v":0},{"$f":"年間予定!BS16","v":0},{"$f":"年間予定!BT16","v":0}]
[null,"2021-03-14","日",{"$f":"年間予定!BR17","v":0},{"$f":"年間予定!BS17","v":0},{"$f":"年間予定!BT17","v":0}]
[null,"2021-03-15","月",{"$f":"年間予定!BR18","v":0},{"$f":"年間予定!BS18","v":0},{"$f":"年間予定!BT18","v":0}]
[null,"2021-03-16","火",{"$f":"年間予定!BR19","v":0},{"$f":"年間予定!BS19","v":0},{"$f":"年間予定!BT19","v":0}]
[null,"2021-03-17","水",{"$f":"年間予定!BR20","v":0},{"$f":"年間予定!BS20","v":0},{"$f":"年間予定!BT20","v":0}]
[null,"2021-03-18","木",{"$f":"年間予定!BR21","v":0},{"$f":"年間予定!BS21","v":0},{"$f":"年間予定!BT21","v":0}]
[null,"2021-03-19","金",{"$f":"年間予定!BR22","v":0},{"$f":"年間予定!BS22","v":0},{"$f":"年間予定!BT22","v":0}]
[null,"2021-03-20","土",{"$f":"年間予定!BR23","v":0},{"$f":"年間予定!BS23","v":0},{"$f":"年間予定!BT23","v":0}]
[null,"2021-03-21","日",{"$f":"年間予定!BR24","v":0},{"$f":"年間予定!BS24","v":0},{"$f":"年間予定!BT24","v":0}]
[null,"2021-03-22","月",{"$f":"年間予定!BR25","v":0},{"$f":"年間予定!BS25","v":0},{"$f":"年間予定!BT25","v":0}]
[null,"2021-03-23","火",{"$f":"年間予定!BR26","v":0},{"$f":"年間予定!BS26","v":0},{"$f":"年間予定!BT26","v":0}]
[null,"2021-03-24","水",{"$f":"年間予定!BR27","v":0},{"$f":"年間予定!BS27","v":0},{"$f":"年間予定!BT27","v":0}]
[null,"2021-03-25","木",{"$f":"年間予定!BR28","v":0},{"$f":"年間予定!BS28","v":0},{"$f":"年間予定!BT28","v":0}]
[null,"2021-03-26","金",{"$f":"年間予定!BR29","v":0},{"$f":"年間予定!BS29","v":0},{"$f":"年間予定!BT29","v":0}]
[null,"2021-03-27","土",{"$f":"年間予定!BR30","v":0},{"$f":"年間予定!BS30","v":0},{"$f":"年間予定!BT30","v":0}]
[null,"2021-03-28","日",{"$f":"年間予定!BR31","v":0},{"$f":"年間予定!BS31","v":0},{"$f":"年間予定!BT31","v":0}]
[null,"2021-03-29","月",{"$f":"年間予定!BR32","v":0},{"$f":"年間予定!BS32","v":0},{"$f":"年間予定!BT32","v":0}]
[null,"2021-03-30","火",{"$f":"年間予定!BR33","v":0},{"$f":"年間予定!BS33","v":0},{"$f":"年間予定!BT33","v":0}]
[null,"2021-03-31","水",{"$f":"年間予定!BR34","v":0},{"$f":"年間予定!BS34","v":0},{"$f":"年間予定!BT34","v":0}]
[{"$f":"年間予定!$BS$35","v":0}]

{"sheet":"日直順番","index":14,"n_rows":251,"n_cols":10,"rows_kept":251,"cut":false,"hidden":false,"merged":[]}
[null,"番号","学年","名前","通しNo","番号（赴任順）"]
[null,1,6,"北海",1,1,"岩手",null,"日直職員数",47]
[null,2,6,"青森",2,2,"愛媛"]
[null,3,6,"岩手",3,3,"三重"]
[null,4,6,"宮城",4,4,"福岡"]
[null,5,6,"秋田",5,5,"鹿児島"]
[null,6,5,"山形",6,6,"徳島"]
[null,7,5,"福島",7,7,"秋田"]
[null,8,5,"茨城",8,8,"宮崎"]
[null,9,5,"栃木",9,9,"青森"]
[null,10,5,"群馬",10,10,"鳥取"]
[null,11,4,"埼玉",11,11,"岐阜"]
[null,12,4,"千葉",12,12,"山形"]
[null,13,4,"東京",13,13,"兵庫"]
[null,14,4,"神奈川",14,14,"岡山"]
[null,15,4,"新潟",15,15,"広島"]
[null,16,3,"富山",16,16,"奈良"]
[null,17,3,"石川",17,17,"埼玉"]
[null,18,3,"福井",18,18,"群馬"]
[null,19,3,"山梨",19,19,"愛知"]
[null,20,3,"長野",20,20,"香川"]
[null,21,2,"岐阜",21,21,"和歌山"]
[null,22,2,"静岡",22,22,"北海"]
[null,23,2,"愛知",23,23,"山口"]
[null,24,2,"三重",24,24,"福島"]
[null,25,2,"滋賀",25,25,"京都"]
[null,26,1,"京都",26,26,"佐賀"]
[null,27,1,"大阪",27,27,"山梨"]
[null,28,1,"兵庫",28,28,"神奈川"]
[null,29,1,"奈良",29,29,"大阪"]
[null,30,1,"和歌山",30,30,"静岡"]
[null,31,"専科支援など","鳥取",31,31,"福井"]
[null,32,"専科支援など","島根",32,32,"大分"]
[null,33,"専科支援など","岡山",33,33,"石川"]
[null,34,"専科支援など","広島",34,34,"富山"]
[null,35,"専科支援など","山口",35,35,"新潟"]
[null,36,"専科支援など","徳島",36,36,"長崎"]
[null,37,"専科支援など","香川",37,37,"熊本"]
[null,38,"専科支援など","愛媛",38,38,"滋賀"]
[null,39,"専科支援など","高知",39,39,"東京"]
[null,40,"専科支援など","福岡",40,40,"高知"]
[null,41,"専科支援など","佐賀",41,41,"宮城"]
[null,42,"専科支援など","長崎",42,42,"沖縄"]
[null,43,"専科支援など","熊本",43,43,"島根"]
[null,44,"専科支援など","大分",44,44,"長野"]
[null,45,"専科支援など","宮崎",45,45,"千葉"]
[null,46,"専科支援など","鹿児島",46,46,"茨城"]
[null,47,"専科支援など","沖縄",47,47,"栃木"]
[null,null,null,null,48]
[null,null,null,null,49]
[null,null,null,null,50]
[null,null,null,null,51]
[null,null,null,null,52]
[null,null,null,null,53]
[null,null,null,null,54]
[null,null,null,null,55]
[null,null,null,null,56]
[null,null,null,null,57]
[null,null,null,null,58]
[null,null,null,null,59]
[null,null,null,null,60]
[null,null,null,null,61]
[null,null,null,null,62]
[null,null,null,null,63]
[null,null,null,null,64]
[null,null,null,null,65]
[null,null,null,null,66]
[null,null,null,null,67]
[null,null,null,null,68]
[null,null,null,null,69]
[null,null,null,null,70]
[null,null,null,null,71]
[null,null,null,null,72]
[null,null,null,null,73]
[null,null,null,null,74]
[null,null,null,null,75]
[null,null,null,null,76]
[null,null,null,null,77]
[null,null,null,null,78]
[null,null,null,null,79]
[null,null,null,null,80]
[null,null,null,null,81]
[null,null,null,null,82]
[null,null,null,null,83]
[null,null,null,null,84]
[null,null,null,null,85]
[null,null,null,null,86]
[null,null,null,null,87]
[null,null,null,null,88]
[null,null,null,null,89]
[null,null,null,null,90]
[null,null,null,null,91]
[null,null,null,null,92]
[null,null,null,null,93]
[null,null,null,null,94]
[null,null,null,null,95]
[null,null,null,null,96]
[null,null,null,null,97]
[null,null,null,null,98]
[null,null,null,null,99]
[null,null,null,null,100]
[null,null,null,null,101]
[null,null,null,null,102]
[null,null,null,null,103]
[null,null,null,null,104]
[null,null,null,null,105]
[null,null,null,null,106]
[null,null,null,null,107]
[null,null,null,null,108]
[null,null,null,null,109]
[null,null,null,null,110]
[null,null,null,null,111]
[null,null,null,null,112]
[null,null,null,null,113]
[null,null,null,null,114]
[null,null,null,null,115]
[null,null,null,null,116]
[null,null,null,null,117]
[null,null,null,null,118]
[null,null,null,null,119]
[null,null,null,null,120]
[null,null,null,null,121]
[null,null,null,null,122]
[null,null,null,null,123]
[null,null,null,null,124]
[null,null,null,null,125]
[null,null,null,null,126]
[null,null,null,null,127]
[null,null,null,null,128]
[null,null,null,null,129]
[null,null,null,null,130]
[null,null,null,null,131]
[null,null,null,null,132]
[null,null,null,null,133]
[null,null,null,null,134]
[null,null,null,null,135]
[null,null,null,null,136]
[null,null,null,null,137]
[null,null,null,null,138]
[null,null,null,null,139]
[null,null,null,null,140]
[null,null,null,null,141]
[null,null,null,null,142]
[null,null,null,null,143]
[null,null,null,null,144]
[null,null,null,null,145]
[null,null,null,null,146]
[null,null,null,null,147]
[null,null,null,null,148]
[null,null,null,null,149]
[null,null,null,null,150]
[null,null,null,null,151]
[null,null,null,null,152]
[null,null,null,null,153]
[null,null,null,null,154]
[null,null,null,null,155]
[null,null,null,null,156]
[null,null,null,null,157]
[null,null,null,null,158]
[null,null,null,null,159]
[null,null,null,null,160]
[null,null,null,null,161]
[null,null,null,null,162]
[null,null,null,null,163]
[null,null,null,null,164]
[null,null,null,null,165]
[null,null,null,null,166]
[null,null,null,null,167]
[null,null,null,null,168]
[null,null,null,null,169]
[null,null,null,null,170]
[null,null,null,null,171]
[null,null,null,null,172]
[null,null,null,null,173]
[null,null,null,null,174]
[null,null,null,null,175]
[null,null,null,null,176]
[null,null,null,null,177]
[null,null,null,null,178]
[null,null,null,null,179]
[null,null,null,null,180]
[null,null,null,null,181]
[null,null,null,null,182]
[null,null,null,null,183]
[null,null,null,null,184]
[null,null,null,null,185]
[null,null,null,null,186]
[null,null,null,null,187]
[null,null,null,null,188]
[null,null,null,null,189]
[null,null,null,null,190]
[null,null,null,null,191]
[null,null,null,null,192]
[null,null,null,null,193]
[null,null,null,null,194]
[null,null,null,null,195]
[null,null,null,null,196]
[null,null,null,null,197]
[null,null,null,null,198]
[null,null,null,null,199]
[null,null,null,null,200]
[null,null,null,null,201]
[null,null,null,null,202]
[null,null,null,null,203]
[null,null,null,null,204]
[null,null,null,null,205]
[null,null,null,null,206]
[null,null,null,null,207]
[null,null,null,null,208]
[null,null,null,null,209]
[null,null,null,null,210]
[null,null,null,null,211]
[null,null,null,null,212]
[null,null,null,null,213]
[null,null,null,null,214]
[null,null,null,null,215]
[null,null,null,null,216]
[null,null,null,null,217]
[null,null,null,null,218]
[null,null,null,null,219]
[null,null,null,null,220]
[null,null,null,null,221]
[null,null,null,null,222]
[null,null,null,null,223]
[null,null,null,null,224]
[null,null,null,null,225]
[null,null,null,null,226]
[null,null,null,null,227]
[null,null,null,null,228]
[null,null,null,null,229]
[null,null,null,null,230]
[null,null,null,null,231]
[null,null,null,null,232]
[null,null,null,null,233]
[null,null,null,null,234]
[null,null,null,null,235]
[null,null,null,null,236]
[null,null,null,null,237]
[null,null,null,null,238]
[null,null,null,null,239]
[null,null,null,null,240]
[null,null,null,null,241]
[null,null,null,null,242]
[null,null,null,null,243]
[null,null,null,null,244]
[null,null,null,null,245]
[null,null,null,null,246]
[null,null,null,null,247]
[null,null,null,null,248]
[null,null,null,null,249]
[null,null,null,null,250]