{"text_format":"1","workbook":"xlsx","n_sheets":2,"sheets":["Gamen1","Code1"],"not_rendered":{"charts":0,"images":0,"macros":1,"external_links":0,"defined_names":3,"comments":0,"pivot_tables":0},"unopened":[],"bounds":{"document_bytes":16777216,"sheet_cells":100000,"rows_first":2000,"rows_last":500,"rows_between":2000,"halvings":0,"cell_chars":16384,"cell_head_chars":4096},"cells_cut":0,"cells_raw":0,"read":"whole","date_system":"1900"}

{"sheet":"Gamen1","index":0,"n_rows":27,"n_cols":15,"rows_kept":27,"cut":false,"hidden":false,"merged":[[24,12,24,13],[15,9,15,10],[24,8,24,10],[3,9,3,11],[24,1,24,3],[24,5,24,6],[16,1,16,2],[17,9,17,10],[18,9,18,10],[19,9,19,10],[20,9,20,10],[21,9,21,10],[22,9,22,10],[0,5,0,6],[0,1,0,4],[1,1,1,3],[1,5,1,6],[16,9,16,10]]}
[null,"２ケタか３ケタで\n割る数より大きい数で",null,null,null,"2～99で\n割られる数より小さな数で"]
[null,993,null,null,"÷",72,null,"＝",{"$f":"$B$2*$F$2","v":71496}]
[]
[null,"筆算でやりましょう",null,null,null,null,null,null,null,"小さい□に後でくり上がり数字が自動的に出ます"]
[]
[null,null,null,null,null,null,null,null,null,null,null,null,null,null,"正解"]
[null,null,null,{"$f":"INT($F$2/10)","v":7},{"$f":"MOD($F$2,10)","v":2},{"$f":"INT($B$2/100)","v":9},{"$f":"MOD(INT($B$2/10),10)","v":9},{"$f":"MOD($B$2,10)","v":3},null,null,null,null,null,null,"不正解"]
[]
[]
[]
[]
[]
[]
[]
[]
[null,null,null,null,null,{"$f":"IF(INT($J16/100),MOD(INT($J16/100),10),\"\")","v":""},{"$f":"IF(INT($J16/10),MOD(INT($J16/10),10),\"\")","v":1},{"$f":"MOD($J16,10)","v":3},null,{"$f":"INT($B$2/$F$2)","v":13}]
[null,"繰り上がりの小数字",null,{"$f":"INT($F$2/10)","v":7},{"$f":"MOD($F$2,10)","v":2},{"$f":"INT($B$2/100)","v":9},{"$f":"MOD(INT($B$2/10),10)","v":9},{"$f":"MOD($B$2,10)","v":3},null,{"$f":"B2","v":993}]
[null,null,null,null,null,{"$f":"IF(INT($J18/100),MOD(INT($J18/100),10),\"\")","v":8},{"$f":"IF(INT($J18/10),MOD(INT($J18/10),10),\"\")","v":0},{"$f":"MOD($J18,10)","v":0},null,800]
[null,null,null,{"$f":"IF(INT($J$19/1000),MOD(INT($J$19/1000),10),\"\")","v":""},null,{"$f":"IF(INT($J19/100),MOD(INT($J19/100),10),\"\")","v":1},{"$f":"IF(INT($J19/10),MOD(INT($J19/10),10),\"\")","v":9},{"$f":"MOD($J19,10)","v":3},null,{"$f":"J17-J18","v":193}]
[null,null,null,null,null,{"$f":"IF(INT($J20/100),MOD(INT($J20/100),10),\"\")","v":""},{"$f":"IF(INT($J20/10),MOD(INT($J20/10),10),\"\")","v":""},{"$f":"MOD($J20,10)","v":0},null,0]
[null,null,null,null,null,1,{"$f":"IF(INT($J21/10),MOD(INT($J21/10),10),\"\")","v":9},3,null,{"$f":"J19-J20","v":193}]
[null,null,null,null,null,"",2,8,null,28]
[null,null,null,{"$f":"IF(INT($I$25/10000),MOD(INT($I$25/10000),10),\"\")","v":""},{"$f":"IF(INT($I$25/1000),MOD(INT($I$25/1000),10),\"\")","v":""},1,6,5,null,{"$f":"J21-J22","v":165}]
[]
[null,{"$f":"$B$2","v":993},null,null,"÷",{"$f":"$F$2","v":72},null,"＝",{"$f":"INT($B$2/$F$2)","v":13},null,null,"…",{"$f":"MOD($B$2,$F$2)","v":57}]
[null,null,null,null,null,null,null,null,"百","十","一"]
[null,null,null,null,null,null,null,null,{"$f":"INT($I25/100)","v":0},{"$f":"MOD(INT($I25/10),10)","v":1},{"$f":"MOD($I25,10)","v":3}]

{"sheet":"Code1","index":1,"n_rows":118,"n_cols":12,"rows_kept":118,"cut":false,"hidden":false,"merged":[[2,2,2,7],[8,2,8,7],[9,2,9,7],[10,2,10,7],[11,2,11,7],[41,2,41,7],[13,2,13,6],[4,2,4,7],[3,2,3,7],[6,2,6,7],[5,2,5,7],[48,2,48,7],[49,2,49,7],[42,2,42,7],[43,2,43,7],[44,2,44,7],[46,2,46,7],[47,2,47,7]]}
[]
[null,"順番に何をするのかな"]
[null,"行目","わり算のひっ算の仕方"]
[null,1]
[null,2]
[null,3]
[null,4]
[]
[null,null,"商が 整数の間は繰り返す"]
[null,null,"商が　何ケタになるか調べる"]
[null,null,"もし おろす数があれば　おろす　↑"]
[null,null,"たてる　かける　ひく　"]
[]
[null,null,"最初に商の立つ位置は？"]
[]
[]
[null,null,{"$f":"INT(Gamen1!$F$2/10)","v":7},{"$f":"MOD(Gamen1!$F$2,10)","v":2},{"$f":"INT(Gamen1!B2/100)","v":9},{"$f":"MOD(INT(Gamen1!B2/10),10)","v":9},{"$f":"MOD(Gamen1!B2,10)","v":3}]
[]
[]
[]
[]
[]
[]
[]
[]
[]
[]
[]
[]
[]
[]
[]
[]
[]
[]
[]
[]
[]
[]
[]
[]
[]
[]
[]
[]
[]
[null,null,"商が 整数の間は繰り返す"]
[null,null,"商が　何ケタになるか調べる"]
[null,null,"もし おろす数があれば　おろす　↑"]
[null,null,"たてる　かける　ひく　"]
[]
[]
[]
[]
[]
[]
[]
[]
[]
[]
[]
[]
[]
[]
[]
[]
[]
[]
[]
[]
[]
[]
[]
[]
[]
[]
[]
[]
[]
[]
[]
[]
[]
[]
[]
[]
[]
[]
[]
[]
[]
[]
[]
[]
[]
[]
[]
[]
[]
[]
[]
[null,"行目","図形をかくプログラム　"]
[null,1]
[null,2]
[null,3]
[null,4]
[null,5,null,null,null,null,null,null,"x座標","ｙ座標","ｘ増減","ｙ増減"]
[null,null,null,null,null,null,null,1,398.5,63]
[null,null,"それぞれの頂点の位置を調べる",null,null,null,null,2,313.75,79.5,{"$f":"I109-I108","v":-84.75},{"$f":"J109-J108","v":16.5}]
[null,null,"線対称の頂点を打ち　線でつなげる",null,null,null,null,3,358,99.75,{"$f":"I110-I109","v":44.25},{"$f":"J110-J109","v":20.25}]
[null,null,"枠内の図形が「フリーフォーム」で1つか調べる",null,null,null,null,4,312.25,135.75,-45.75,36]
[null,null,"図形内を塗るか調べて　「はい」なら塗る",null,null,null,null,5,379.75,172.5,67.5,36.75]
[null,null,"上に戻って次の点で同じことをする",null,null,null,null,6,428.5,138,48.75,-34.5]
[null,null,null,null,null,null,null,7,398.5,63,-30,-75]
[null,null,null,null,null,null,null,8,null,null,-398.5,-63]
[null,"行目","確かめ　塗らない方がよくわかる"]
[null,1,"左の枠を　グループ化する"]
[null,2,"色を変え　ゆっくりと　左右反転させる"]