{"text_format":"1","workbook":"xlsx","n_sheets":15,"sheets":["初期設定","標準授業時数","様式1","4月","5月","6月","7月","8月","9月","10月","11月","12月","1月","2月","3月"],"not_rendered":{"charts":0,"images":1,"macros":1,"external_links":0,"defined_names":23,"comments":1,"pivot_tables":0},"unopened":[],"bounds":{"document_bytes":16777216,"sheet_cells":100000,"rows_first":2000,"rows_last":500,"rows_between":2000,"halvings":0,"cell_chars":16384,"cell_head_chars":4096},"cells_cut":0,"cells_raw":0,"read":"whole","date_system":"1900"}

{"sheet":"初期設定","index":0,"n_rows":368,"n_cols":19,"rows_kept":368,"cut":false,"hidden":false,"merged":[[1,12,1,13],[12,0,13,0],[12,1,13,1],[5,0,6,0],[5,1,6,1],[7,0,8,0],[7,1,8,1],[1,10,1,11],[1,2,1,3],[1,4,1,5],[1,6,1,7],[1,8,1,9]]}
[null,null,null,null,null,"祝日一覧"]
[2021,"年度","2020年(年度ではない)",null,"2021年(年度ではない)",null,"2022年(年度ではない)",null,"2023年(年度ではない)",null,"2024年(年度ではない)",null,"2025年(年度ではない)",null,null,null,"年間AB週の記録"]
[null,null,"2020/1/1","元日","2021-01-01","元日","2022-01-01","元日","2023-01-01","元日","2024-01-01","元日","2025-01-01","元日",null,null,{"$f":"年度 & \"/ 4/1\"","v":"2021/ 4/1"},{"$f":"TEXT(Q3,\"aaa\")","v":"木"}]
[null,null,"2020-01-13","成人の日","2021-01-11","成人の日","2022-01-10","成人の日","2023-01-02","振替休日","2024-01-08","成人の日","2025-01-13","成人の日",null,null,{"$f":"Q3+1","v":"2021-04-02"},{"$f":"TEXT(Q4,\"aaa\")","v":"金"}]
[null,null,"2020-02-11","建国記念の日","2021-02-11","建国記念の日","2022-02-11","建国記念の日","2023-01-09","成人の日","2024-02-11","建国記念の日","2025-02-11","建国記念の日",null,null,{"$f":"Q4+1","v":"2021-04-03"},"土"]
[6,"年","2020-02-23","天皇誕生日","2021-02-23","天皇誕生日","2022-02-23","天皇誕生日","2023-02-11","建国記念の日","2024-02-12","振替休日","2025-02-23","天皇誕生日",null,null,"2021-04-04","日"]
[null,null,"2020-02-24","振替休日","2021-03-20","春分の日","2022-03-21","春分の日","2023-02-23","天皇誕生日","2024-02-23","天皇誕生日","2025-02-24","振替休日",null,null,"2021-04-05","月"]
[1,"組","2020-03-20","春分の日","2021-04-29","昭和の日","2022-04-29","昭和の日","2023-03-21","春分の日","2024-03-20","春分の日","2025-03-20","春分の日",null,null,"2021-04-06","火","A"]
[null,null,"2020-04-29","昭和の日","2021-05-03","憲法記念日","2022-05-03","憲法記念日","2023-04-29","昭和の日","2024-04-29","昭和の日","2025-04-29","昭和の日",null,null,"2021-04-07","水","A"]
[null,null,"2020-05-03","憲法記念日","2021-05-04","みどりの日","2022-05-04","みどりの日","2023-05-03","憲法記念日","2024-05-03","憲法記念日","2025-05-03","憲法記念日",null,null,"2021-04-08","木","A"]
[null,null,"2020-05-04","みどりの日","2021-05-05","こどもの日","2022-05-05","こどもの日","2023-05-04","みどりの日","2024-05-04","みどりの日","2025-05-04","みどりの日",null,null,"2021-04-09","金","A"]
[null,null,"2020-05-05","こどもの日","2021-07-19","海の日","2022-07-18","海の日","2023-05-05","こどもの日","2024-05-05","こどもの日","2025-05-05","こどもの日",null,null,"2021-04-10","土","A"]
["エクセル","小学校","2020-05-06","振替休日","2021-08-11","山の日","2022-08-11","山の日","2023-07-17","海の日","2024-05-06","振替休日","2025-05-06","振替休日",null,null,"2021-04-11","日","A"]
[null,null,"2020-07-23","海の日","2021-09-20","敬老の日","2022-09-19","敬老の日","2023-08-11","山の日","2024-07-15","海の日","2025-07-21","海の日",null,null,"2021-04-12","月","A"]
[null,null,"2020-07-24","スポーツの日","2021-09-23","秋分の日","2022-09-23","秋分の日","2023-09-18","敬老の日","2024-08-11","山の日","2025-08-11","山の日",null,null,"2021-04-13","火","B"]
[null,null,"2020-08-10","山の日","2021-10-11","スポーツの日","2022-10-10","スポーツの日","2023-09-23","秋分の日","2024-08-12","振替休日","2025-09-15","敬老の日",null,null,"2021-04-14","水","B"]
[null,null,"2020-09-21","敬老の日","2021-11-03","文化の日","2022-11-03","文化の日","2023-10-09","スポーツの日","2024-09-16","敬老の日","2025-09-23","秋分の日",null,null,"2021-04-15","木","B"]
[null,null,"2020-09-22","秋分の日","2021-11-23","勤労感謝の日","2022-11-23","勤労感謝の日","2023-11-03","文化の日","2024-09-22","秋分の日","2025-10-13","スポーツの日",null,null,"2021-04-16","金","B"]
[null,null,"2020-11-03","文化の日",null,null,null,null,"2023-11-23","勤労感謝の日","2024-09-23","振替休日","2025-11-03","文化の日",null,null,"2021-04-17","土","B"]
[null,null,"2020-11-23","勤労感謝の日",null,null,null,null,null,null,"2024-10-14","スポーツの日","2025-11-23","勤労感謝の日",null,null,"2021-04-18","日","B"]
[null,null,null,null,null,null,null,null,null,null,"2024-11-03","文化の日","2025-11-24","振替休日",null,null,"2021-04-19","月","B"]
[null,null,null,null,null,null,null,null,null,null,"2024-11-04","振替休日",null,null,null,null,"2021-04-20","火","A"]
[null,null,null,null,null,null,null,null,null,null,"2024-11-23","勤労感謝の日",null,null,null,null,"2021-04-21","水","A"]
[null,null,null,null,null,null,null,null,null,null,null,null,null,null,null,null,"2021-04-22","木","A"]
[null,null,null,"日曜参観代休",null,"日曜参観代休",null,"日曜参観代休",null,"日曜参観代休",null,"日曜参観代休",null,"日曜参観代休",null,null,"2021-04-23","金","A"]
[null,null,null,"運動会代休",null,"運動会代休",null,"運動会代休",null,"運動会代休",null,"運動会代休",null,"運動会代休",null,null,"2021-04-24","土","A"]
[null,null,null,null,null,null,null,null,null,null,null,null,null,null,null,null,"2021-04-25","日","A"]
[null,null,"2020-01-02","年始","2021-01-02","年始","2022-01-02","年始","2023-01-02","年始","2024-01-02","年始","2025-01-02","年始",null,null,"2021-04-26","月","A"]
[null,null,"2020-01-03","年始","2021-01-03","年始","2022-01-03","年始","2023-01-03","年始","2024-01-03","年始","2025-01-03","年始",null,null,"2021-04-27","火","B"]
[null,null,null,null,null,null,null,null,null,null,null,null,null,null,null,null,"2021-04-28","水","B"]
[null,null,null,"夏季閉庁日",null,null,null,null,null,null,null,null,null,null,null,null,"2021-04-29","木","B"]
[null,null,null,"夏季閉庁日",null,null,null,null,null,null,null,null,null,null,null,null,"2021-04-30","金","B"]
[null,null,null,null,null,null,null,null,null,null,null,null,null,null,null,null,"2021-05-01","土","B"]
[null,null,"2020-12-29","年末","2021-12-29","年末","2022-12-29","年末","2023-12-29","年末","2024-12-29","年末","2025-12-29","年末",null,null,"2021-05-02","日","B"]
[null,null,"2020-12-30","年末","2021-12-30","年末","2022-12-30","年末","2023-12-30","年末","2024-12-30","年末","2025-12-30","年末",null,null,"2021-05-03","月","B"]
[null,null,"2020-12-31","年末","2021-12-31","年末","2022-12-31","年末","2023/19/31","年末","2024/19/31","年末","2025-12-31","年末",null,null,"2021-05-04","火","A"]
[null,null,null,null,null,null,null,null,null,null,null,null,null,null,null,null,"2021-05-05","水","A"]
[null,null,null,null,null,null,null,null,null,null,null,null,null,null,null,null,"2021-05-06","木","A"]
[null,null,"土日登校",null,null,null,null,null,null,null,null,null,null,null,null,null,"2021-05-07","金","A"]
[null,null,null,"日曜参観",null,"土曜参観",null,"土曜参観",null,"土曜参観",null,"土曜参観",null,"土曜参観",null,null,"2021-05-08","土","A"]
[null,null,null,"運動会",null,"運動会",null,"運動会",null,"運動会",null,"運動会",null,"運動会",null,null,"2021-05-09","日","A"]
[null,null,null,null,null,null,null,null,null,null,null,null,null,null,null,null,"2021-05-10","月","A"]
[null,null,null,null,null,null,null,null,null,null,null,null,null,null,null,null,"2021-05-11","火","B"]
[null,null,null,null,null,null,null,null,null,null,null,null,null,null,null,null,"2021-05-12","水","B"]
[null,null,null,null,null,null,null,null,null,null,null,null,null,null,null,null,"2021-05-13","木","B"]
[null,null,null,null,null,null,null,null,null,null,null,null,null,null,null,null,"2021-05-14","金","B"]
[null,null,null,null,null,null,null,null,null,null,null,null,null,null,null,null,"2021-05-15","土","B"]
[null,null,null,null,null,null,null,null,null,null,null,null,null,null,null,null,"2021-05-16","日","B"]
[null,null,null,null,null,null,null,null,null,null,null,null,null,null,null,null,"2021-05-17","月","B"]
[null,null,null,null,null,null,null,null,null,null,null,null,null,null,null,null,"2021-05-18","火","A"]
[null,null,null,null,null,null,null,null,null,null,null,null,null,null,null,null,"2021-05-19","水","A"]
[null,null,null,null,null,null,null,null,null,null,null,null,null,null,null,null,"2021-05-20","木","A"]
[null,null,null,null,null,null,null,null,null,null,null,null,null,null,null,null,"2021-05-21","金","A"]
[null,null,null,null,null,null,null,null,null,null,null,null,null,null,null,null,"2021-05-22","土","A"]
[null,null,null,null,null,null,null,null,null,null,null,null,null,null,null,null,"2021-05-23","日","A"]
[null,null,null,null,null,null,null,null,null,null,null,null,null,null,null,null,"2021-05-24","月","A"]
[null,null,null,null,null,null,null,null,null,null,null,null,null,null,null,null,"2021-05-25","火","B"]
[null,null,null,null,null,null,null,null,null,null,null,null,null,null,null,null,"2021-05-26","水","B"]
[null,null,null,null,null,null,null,null,null,null,null,null,null,null,null,null,"2021-05-27","木","B"]
[null,null,null,null,null,null,null,null,null,null,null,null,null,null,null,null,"2021-05-28","金","B"]
[null,null,null,null,null,null,null,null,null,null,null,null,null,null,null,null,"2021-05-29","土","B"]
[null,null,null,null,null,null,null,null,null,null,null,null,null,null,null,null,"2021-05-30","日","B"]
[null,null,null,null,null,null,null,null,null,null,null,null,null,null,null,null,"2021-05-31","月","B"]
[null,null,null,null,null,null,null,null,null,null,null,null,null,null,null,null,"2021-06-01","火","A"]
[null,null,null,null,null,null,null,null,null,null,null,null,null,null,null,null,"2021-06-02","水","A"]
[null,null,null,null,null,null,null,null,null,null,null,null,null,null,null,null,"2021-06-03","木","A"]
[null,null,null,null,null,null,null,null,null,null,null,null,null,null,null,null,"2021-06-04","金","A"]
[null,null,null,null,null,null,null,null,null,null,null,null,null,null,null,null,"2021-06-05",{"$f":"TEXT(Q68,\"aaa\")","v":"土"},"A"]
[null,null,null,null,null,null,null,null,null,null,null,null,null,null,null,null,{"$f":"Q68+1","v":"2021-06-06"},"日","A"]
[null,null,null,null,null,null,null,null,null,null,null,null,null,null,null,null,"2021-06-07","月","A"]
[null,null,null,null,null,null,null,null,null,null,null,null,null,null,null,null,"2021-06-08","火","B"]
[null,null,null,null,null,null,null,null,null,null,null,null,null,null,null,null,"2021-06-09","水","B"]
[null,null,null,null,null,null,null,null,null,null,null,null,null,null,null,null,"2021-06-10","木","B"]
[null,null,null,null,null,null,null,null,null,null,null,null,null,null,null,null,"2021-06-11","金","B"]
[null,null,null,null,null,null,null,null,null,null,null,null,null,null,null,null,"2021-06-12","土","B"]
[null,null,null,null,null,null,null,null,null,null,null,null,null,null,null,null,"2021-06-13","日","B"]
[null,null,null,null,null,null,null,null,null,null,null,null,null,null,null,null,"2021-06-14","月","B"]
[null,null,null,null,null,null,null,null,null,null,null,null,null,null,null,null,"2021-06-15","火","A"]
[null,null,null,null,null,null,null,null,null,null,null,null,null,null,null,null,"2021-06-16","水","A"]
[null,null,null,null,null,null,null,null,null,null,null,null,null,null,null,null,"2021-06-17","木","A"]
[null,null,null,null,null,null,null,null,null,null,null,null,null,null,null,null,"2021-06-18","金","A"]
[null,null,null,null,null,null,null,null,null,null,null,null,null,null,null,null,"2021-06-19","土","A"]
[null,null,null,null,null,null,null,null,null,null,null,null,null,null,null,null,"2021-06-20","日","A"]
[null,null,null,null,null,null,null,null,null,null,null,null,null,null,null,null,"2021-06-21","月","A"]
[null,null,null,null,null,null,null,null,null,null,null,null,null,null,null,null,"2021-06-22","火","B"]
[null,null,null,null,null,null,null,null,null,null,null,null,null,null,null,null,"2021-06-23","水","B"]
[null,null,null,null,null,null,null,null,null,null,null,null,null,null,null,null,"2021-06-24","木","B"]
[null,null,null,null,null,null,null,null,null,null,null,null,null,null,null,null,"2021-06-25","金","B"]
[null,null,null,null,null,null,null,null,null,null,null,null,null,null,null,null,"2021-06-26","土","B"]
[null,null,null,null,null,null,null,null,null,null,null,null,null,null,null,null,"2021-06-27","日","B"]
[null,null,null,null,null,null,null,null,null,null,null,null,null,null,null,null,"2021-06-28","月","B"]
[null,null,null,null,null,null,null,null,null,null,null,null,null,null,null,null,"2021-06-29","火","A"]
[null,null,null,null,null,null,null,null,null,null,null,null,null,null,null,null,"2021-06-30","水","A"]
[null,null,null,null,null,null,null,null,null,null,null,null,null,null,null,null,"2021-07-01","木","A"]
[null,null,null,null,null,null,null,null,null,null,null,null,null,null,null,null,"2021-07-02","金","A"]
[null,null,null,null,null,null,null,null,null,null,null,null,null,null,null,null,"2021-07-03","土","A"]
[null,null,null,null,null,null,null,null,null,null,null,null,null,null,null,null,"2021-07-04","日","A"]
[null,null,null,null,null,null,null,null,null,null,null,null,null,null,null,null,"2021-07-05","月","A"]
[null,null,null,null,null,null,null,null,null,null,null,null,null,null,null,null,"2021-07-06","火","B"]
[null,null,null,null,null,null,null,null,null,null,null,null,null,null,null,null,"2021-07-07","水","B"]
[null,null,null,null,null,null,null,null,null,null,null,null,null,null,null,null,"2021-07-08","木","B"]
[null,null,null,null,null,null,null,null,null,null,null,null,null,null,null,null,"2021-07-09","金","B"]
[null,null,null,null,null,null,null,null,null,null,null,null,null,null,null,null,"2021-07-10","土","B"]
[null,null,null,null,null,null,null,null,null,null,null,null,null,null,null,null,"2021-07-11","日","B"]
[null,null,null,null,null,null,null,null,null,null,null,null,null,null,null,null,"2021-07-12","月","B"]
[null,null,null,null,null,null,null,null,null,null,null,null,null,null,null,null,"2021-07-13","火","A"]
[null,null,null,null,null,null,null,null,null,null,null,null,null,null,null,null,"2021-07-14","水","A"]
[null,null,null,null,null,null,null,null,null,null,null,null,null,null,null,null,"2021-07-15","木","A"]
[null,null,null,null,null,null,null,null,null,null,null,null,null,null,null,null,"2021-07-16","金","A"]
[null,null,null,null,null,null,null,null,null,null,null,null,null,null,null,null,"2021-07-17","土","A"]
[null,null,null,null,null,null,null,null,null,null,null,null,null,null,null,null,"2021-07-18","日","A"]
[null,null,null,null,null,null,null,null,null,null,null,null,null,null,null,null,"2021-07-19","月","A"]
[null,null,null,null,null,null,null,null,null,null,null,null,null,null,null,null,"2021-07-20","火","B"]
[null,null,null,null,null,null,null,null,null,null,null,null,null,null,null,null,"2021-07-21","水","B"]
[null,null,null,null,null,null,null,null,null,null,null,null,null,null,null,null,"2021-07-22","木","B"]
[null,null,null,null,null,null,null,null,null,null,null,null,null,null,null,null,"2021-07-23","金","B"]
[null,null,null,null,null,null,null,null,null,null,null,null,null,null,null,null,"2021-07-24","土","B"]
[null,null,null,null,null,null,null,null,null,null,null,null,null,null,null,null,"2021-07-25","日","B"]
[null,null,null,null,null,null,null,null,null,null,null,null,null,null,null,null,"2021-07-26","月","B"]
[null,null,null,null,null,null,null,null,null,null,null,null,null,null,null,null,"2021-07-27","火","A"]
[null,null,null,null,null,null,null,null,null,null,null,null,null,null,null,null,"2021-07-28","水","A"]
[null,null,null,null,null,null,null,null,null,null,null,null,null,null,null,null,"2021-07-29","木","A"]
[null,null,null,null,null,null,null,null,null,null,null,null,null,null,null,null,"2021-07-30","金","A"]
[null,null,null,null,null,null,null,null,null,null,null,null,null,null,null,null,"2021-07-31","土","A"]
[null,null,null,null,null,null,null,null,null,null,null,null,null,null,null,null,"2021-08-01","日","A"]
[null,null,null,null,null,null,null,null,null,null,null,null,null,null,null,null,"2021-08-02","月","A"]
[null,null,null,null,null,null,null,null,null,null,null,null,null,null,null,null,"2021-08-03","火","B"]
[null,null,null,null,null,null,null,null,null,null,null,null,null,null,null,null,"2021-08-04","水","B"]
[null,null,null,null,null,null,null,null,null,null,null,null,null,null,null,null,"2021-08-05","木","B"]
[null,null,null,null,null,null,null,null,null,null,null,null,null,null,null,null,"2021-08-06","金","B"]
[null,null,null,null,null,null,null,null,null,null,null,null,null,null,null,null,"2021-08-07","土","B"]
[null,null,null,null,null,null,null,null,null,null,null,null,null,null,null,null,"2021-08-08",{"$f":"TEXT(Q132,\"aaa\")","v":"日"},"B"]
[null,null,null,null,null,null,null,null,null,null,null,null,null,null,null,null,{"$f":"Q132+1","v":"2021-08-09"},"月","B"]
[null,null,null,null,null,null,null,null,null,null,null,null,null,null,null,null,"2021-08-10","火","A"]
[null,null,null,null,null,null,null,null,null,null,null,null,null,null,null,null,"2021-08-11","水","A"]
[null,null,null,null,null,null,null,null,null,null,null,null,null,null,null,null,"2021-08-12","木","A"]
[null,null,null,null,null,null,null,null,null,null,null,null,null,null,null,null,"2021-08-13","金","A"]
[null,null,null,null,null,null,null,null,null,null,null,null,null,null,null,null,"2021-08-14","土","A"]
[null,null,null,null,null,null,null,null,null,null,null,null,null,null,null,null,"2021-08-15","日","A"]
[null,null,null,null,null,null,null,null,null,null,null,null,null,null,null,null,"2021-08-16","月","A"]
[null,null,null,null,null,null,null,null,null,null,null,null,null,null,null,null,"2021-08-17","火","B"]
[null,null,null,null,null,null,null,null,null,null,null,null,null,null,null,null,"2021-08-18","水","B"]
[null,null,null,null,null,null,null,null,null,null,null,null,null,null,null,null,"2021-08-19","木","B"]
[null,null,null,null,null,null,null,null,null,null,null,null,null,null,null,null,"2021-08-20","金","B"]
[null,null,null,null,null,null,null,null,null,null,null,null,null,null,null,null,"2021-08-21","土","B"]
[null,null,null,null,null,null,null,null,null,null,null,null,null,null,null,null,"2021-08-22","日","B"]
[null,null,null,null,null,null,null,null,null,null,null,null,null,null,null,null,"2021-08-23","月","B"]
[null,null,null,null,null,null,null,null,null,null,null,null,null,null,null,null,"2021-08-24","火","A"]
[null,null,null,null,null,null,null,null,null,null,null,null,null,null,null,null,"2021-08-25","水","A"]
[null,null,null,null,null,null,null,null,null,null,null,null,null,null,null,null,"2021-08-26","木","A"]
[null,null,null,null,null,null,null,null,null,null,null,null,null,null,null,null,"2021-08-27","金","A"]
[null,null,null,null,null,null,null,null,null,null,null,null,null,null,null,null,"2021-08-28","土","A"]
[null,null,null,null,null,null,null,null,null,null,null,null,null,null,null,null,"2021-08-29","日","A"]
[null,null,null,null,null,null,null,null,null,null,null,null,null,null,null,null,"2021-08-30","月","A"]
[null,null,null,null,null,null,null,null,null,null,null,null,null,null,null,null,"2021-08-31","火","B"]
[null,null,null,null,null,null,null,null,null,null,null,null,null,null,null,null,"2021-09-01","水","B"]
[null,null,null,null,null,null,null,null,null,null,null,null,null,null,null,null,"2021-09-02","木","B"]
[null,null,null,null,null,null,null,null,null,null,null,null,null,null,null,null,"2021-09-03","金","B"]
[null,null,null,null,null,null,null,null,null,null,null,null,null,null,null,null,"2021-09-04","土","B"]
[null,null,null,null,null,null,null,null,null,null,null,null,null,null,null,null,"2021-09-05","日","B"]
[null,null,null,null,null,null,null,null,null,null,null,null,null,null,null,null,"2021-09-06","月","B"]
[null,null,null,null,null,null,null,null,null,null,null,null,null,null,null,null,"2021-09-07","火","A"]
[null,null,null,null,null,null,null,null,null,null,null,null,null,null,null,null,"2021-09-08","水","A"]
[null,null,null,null,null,null,null,null,null,null,null,null,null,null,null,null,"2021-09-09","木","A"]
[null,null,null,null,null,null,null,null,null,null,null,null,null,null,null,null,"2021-09-10","金","A"]
[null,null,null,null,null,null,null,null,null,null,null,null,null,null,null,null,"2021-09-11","土","A"]
[null,null,null,null,null,null,null,null,null,null,null,null,null,null,null,null,"2021-09-12","日","A"]
[null,null,null,null,null,null,null,null,null,null,null,null,null,null,null,null,"2021-09-13","月","A"]
[null,null,null,null,null,null,null,null,null,null,null,null,null,null,null,null,"2021-09-14","火","B"]
[null,null,null,null,null,null,null,null,null,null,null,null,null,null,null,null,"2021-09-15","水","B"]
[null,null,null,null,null,null,null,null,null,null,null,null,null,null,null,null,"2021-09-16","木","B"]
[null,null,null,null,null,null,null,null,null,null,null,null,null,null,null,null,"2021-09-17","金","B"]
[null,null,null,null,null,null,null,null,null,null,null,null,null,null,null,null,"2021-09-18","土","B"]
[null,null,null,null,null,null,null,null,null,null,null,null,null,null,null,null,"2021-09-19","日","B"]
[null,null,null,null,null,null,null,null,null,null,null,null,null,null,null,null,"2021-09-20","月","B"]
[null,null,null,null,null,null,null,null,null,null,null,null,null,null,null,null,"2021-09-21","火","A"]
[null,null,null,null,null,null,null,null,null,null,null,null,null,null,null,null,"2021-09-22","水","A"]
[null,null,null,null,null,null,null,null,null,null,null,null,null,null,null,null,"2021-09-23","木","A"]
[null,null,null,null,null,null,null,null,null,null,null,null,null,null,null,null,"2021-09-24","金","A"]
[null,null,null,null,null,null,null,null,null,null,null,null,null,null,null,null,"2021-09-25","土","A"]
[null,null,null,null,null,null,null,null,null,null,null,null,null,null,null,null,"2021-09-26","日","A"]
[null,null,null,null,null,null,null,null,null,null,null,null,null,null,null,null,"2021-09-27","月","A"]
[null,null,null,null,null,null,null,null,null,null,null,null,null,null,null,null,"2021-09-28","火","B"]
[null,null,null,null,null,null,null,null,null,null,null,null,null,null,null,null,"2021-09-29","水","B"]
[null,null,null,null,null,null,null,null,null,null,null,null,null,null,null,null,"2021-09-30","木","B"]
[null,null,null,null,null,null,null,null,null,null,null,null,null,null,null,null,"2021-10-01","金","B"]
[null,null,null,null,null,null,null,null,null,null,null,null,null,null,null,null,"2021-10-02","土","B"]
[null,null,null,null,null,null,null,null,null,null,null,null,null,null,null,null,"2021-10-03","日","B"]
[null,null,null,null,null,null,null,null,null,null,null,null,null,null,null,null,"2021-10-04","月","B"]
[null,null,null,null,null,null,null,null,null,null,null,null,null,null,null,null,"2021-10-05","火","A"]
[null,null,null,null,null,null,null,null,null,null,null,null,null,null,null,null,"2021-10-06","水","A"]
[null,null,null,null,null,null,null,null,null,null,null,null,null,null,null,null,"2021-10-07","木","A"]
[null,null,null,null,null,null,null,null,null,null,null,null,null,null,null,null,"2021-10-08","金","A"]
[null,null,null,null,null,null,null,null,null,null,null,null,null,null,null,null,"2021-10-09","土","A"]
[null,null,null,null,null,null,null,null,null,null,null,null,null,null,null,null,"2021-10-10","日","A"]
[null,null,null,null,null,null,null,null,null,null,null,null,null,null,null,null,"2021-10-11",{"$f":"TEXT(Q196,\"aaa\")","v":"月"},"A"]
[null,null,null,null,null,null,null,null,null,null,null,null,null,null,null,null,{"$f":"Q196+1","v":"2021-10-12"},"火","B"]
[null,null,null,null,null,null,null,null,null,null,null,null,null,null,null,null,"2021-10-13","水","B"]
[null,null,null,null,null,null,null,null,null,null,null,null,null,null,null,null,"2021-10-14","木","B"]
[null,null,null,null,null,null,null,null,null,null,null,null,null,null,null,null,"2021-10-15","金","B"]
[null,null,null,null,null,null,null,null,null,null,null,null,null,null,null,null,"2021-10-16","土","B"]
[null,null,null,null,null,null,null,null,null,null,null,null,null,null,null,null,"2021-10-17","日","B"]
[null,null,null,null,null,null,null,null,null,null,null,null,null,null,null,null,"2021-10-18","月","B"]
[null,null,null,null,null,null,null,null,null,null,null,null,null,null,null,null,"2021-10-19","火","A"]
[null,null,null,null,null,null,null,null,null,null,null,null,null,null,null,null,"2021-10-20","水","A"]
[null,null,null,null,null,null,null,null,null,null,null,null,null,null,null,null,"2021-10-21","木","A"]
[null,null,null,null,null,null,null,null,null,null,null,null,null,null,null,null,"2021-10-22","金","A"]
[null,null,null,null,null,null,null,null,null,null,null,null,null,null,null,null,"2021-10-23","土","A"]
[null,null,null,null,null,null,null,null,null,null,null,null,null,null,null,null,"2021-10-24","日","A"]
[null,null,null,null,null,null,null,null,null,null,null,null,null,null,null,null,"2021-10-25","月","A"]
[null,null,null,null,null,null,null,null,null,null,null,null,null,null,null,null,"2021-10-26","火","B"]
[null,null,null,null,null,null,null,null,null,null,null,null,null,null,null,null,"2021-10-27","水","B"]
[null,null,null,null,null,null,null,null,null,null,null,null,null,null,null,null,"2021-10-28","木","B"]
[null,null,null,null,null,null,null,null,null,null,null,null,null,null,null,null,"2021-10-29","金","B"]
[null,null,null,null,null,null,null,null,null,null,null,null,null,null,null,null,"2021-10-30","土","B"]
[null,null,null,null,null,null,null,null,null,null,null,null,null,null,null,null,"2021-10-31","日","B"]
[null,null,null,null,null,null,null,null,null,null,null,null,null,null,null,null,"2021-11-01","月","B"]
[null,null,null,null,null,null,null,null,null,null,null,null,null,null,null,null,"2021-11-02","火","A"]
[null,null,null,null,null,null,null,null,null,null,null,null,null,null,null,null,"2021-11-03","水","A"]
[null,null,null,null,null,null,null,null,null,null,null,null,null,null,null,null,"2021-11-04","木","A"]
[null,null,null,null,null,null,null,null,null,null,null,null,null,null,null,null,"2021-11-05","金","A"]
[null,null,null,null,null,null,null,null,null,null,null,null,null,null,null,null,"2021-11-06","土","A"]
[null,null,null,null,null,null,null,null,null,null,null,null,null,null,null,null,"2021-11-07","日","A"]
[null,null,null,null,null,null,null,null,null,null,null,null,null,null,null,null,"2021-11-08","月","A"]
[null,null,null,null,null,null,null,null,null,null,null,null,null,null,null,null,"2021-11-09","火","B"]
[null,null,null,null,null,null,null,null,null,null,null,null,null,null,null,null,"2021-11-10","水","B"]
[null,null,null,null,null,null,null,null,null,null,null,null,null,null,null,null,"2021-11-11","木","B"]
[null,null,null,null,null,null,null,null,null,null,null,null,null,null,null,null,"2021-11-12","金","B"]
[null,null,null,null,null,null,null,null,null,null,null,null,null,null,null,null,"2021-11-13","土","B"]
[null,null,null,null,null,null,null,null,null,null,null,null,null,null,null,null,"2021-11-14","日","B"]
[null,null,null,null,null,null,null,null,null,null,null,null,null,null,null,null,"2021-11-15","月","B"]
[null,null,null,null,null,null,null,null,null,null,null,null,null,null,null,null,"2021-11-16","火","A"]
[null,null,null,null,null,null,null,null,null,null,null,null,null,null,null,null,"2021-11-17","水","A"]
[null,null,null,null,null,null,null,null,null,null,null,null,null,null,null,null,"2021-11-18","木","A"]
[null,null,null,null,null,null,null,null,null,null,null,null,null,null,null,null,"2021-11-19","金","A"]
[null,null,null,null,null,null,null,null,null,null,null,null,null,null,null,null,"2021-11-20","土","A"]
[null,null,null,null,null,null,null,null,null,null,null,null,null,null,null,null,"2021-11-21","日","A"]
[null,null,null,null,null,null,null,null,null,null,null,null,null,null,null,null,"2021-11-22","月","A"]
[null,null,null,null,null,null,null,null,null,null,null,null,null,null,null,null,"2021-11-23","火","B"]
[null,null,null,null,null,null,null,null,null,null,null,null,null,null,null,null,"2021-11-24","水","B"]
[null,null,null,null,null,null,null,null,null,null,null,null,null,null,null,null,"2021-11-25","木","B"]
[null,null,null,null,null,null,null,null,null,null,null,null,null,null,null,null,"2021-11-26","金","B"]
[null,null,null,null,null,null,null,null,null,null,null,null,null,null,null,null,"2021-11-27","土","B"]
[null,null,null,null,null,null,null,null,null,null,null,null,null,null,null,null,"2021-11-28","日","B"]
[null,null,null,null,null,null,null,null,null,null,null,null,null,null,null,null,"2021-11-29","月","B"]
[null,null,null,null,null,null,null,null,null,null,null,null,null,null,null,null,"2021-11-30","火","A"]
[null,null,null,null,null,null,null,null,null,null,null,null,null,null,null,null,"2021-12-01","水","A"]
[null,null,null,null,null,null,null,null,null,null,null,null,null,null,null,null,"2021-12-02","木","A"]
[null,null,null,null,null,null,null,null,null,null,null,null,null,null,null,null,"2021-12-03","金","A"]
[null,null,null,null,null,null,null,null,null,null,null,null,null,null,null,null,"2021-12-04","土","A"]
[null,null,null,null,null,null,null,null,null,null,null,null,null,null,null,null,"2021-12-05","日","A"]
[null,null,null,null,null,null,null,null,null,null,null,null,null,null,null,null,"2021-12-06","月","A"]
[null,null,null,null,null,null,null,null,null,null,null,null,null,null,null,null,"2021-12-07","火","B"]
[null,null,null,null,null,null,null,null,null,null,null,null,null,null,null,null,"2021-12-08","水","B"]
[null,null,null,null,null,null,null,null,null,null,null,null,null,null,null,null,"2021-12-09","木","B"]
[null,null,null,null,null,null,null,null,null,null,null,null,null,null,null,null,"2021-12-10","金","B"]
[null,null,null,null,null,null,null,null,null,null,null,null,null,null,null,null,"2021-12-11","土","B"]
[null,null,null,null,null,null,null,null,null,null,null,null,null,null,null,null,"2021-12-12","日","B"]
[null,null,null,null,null,null,null,null,null,null,null,null,null,null,null,null,"2021-12-13","月","B"]
[null,null,null,null,null,null,null,null,null,null,null,null,null,null,null,null,"2021-12-14",{"$f":"TEXT(Q260,\"aaa\")","v":"火"},"A"]
[null,null,null,null,null,null,null,null,null,null,null,null,null,null,null,null,{"$f":"Q260+1","v":"2021-12-15"},"水","A"]
[null,null,null,null,null,null,null,null,null,null,null,null,null,null,null,null,"2021-12-16","木","A"]
[null,null,null,null,null,null,null,null,null,null,null,null,null,null,null,null,"2021-12-17","金","A"]
[null,null,null,null,null,null,null,null,null,null,null,null,null,null,null,null,"2021-12-18","土","A"]
[null,null,null,null,null,null,null,null,null,null,null,null,null,null,null,null,"2021-12-19","日","A"]
[null,null,null,null,null,null,null,null,null,null,null,null,null,null,null,null,"2021-12-20","月","A"]
[null,null,null,null,null,null,null,null,null,null,null,null,null,null,null,null,"2021-12-21","火","B"]
[null,null,null,null,null,null,null,null,null,null,null,null,null,null,null,null,"2021-12-22","水","B"]
[null,null,null,null,null,null,null,null,null,null,null,null,null,null,null,null,"2021-12-23","木","B"]
[null,null,null,null,null,null,null,null,null,null,null,null,null,null,null,null,"2021-12-24","金","B"]
[null,null,null,null,null,null,null,null,null,null,null,null,null,null,null,null,"2021-12-25","土","B"]
[null,null,null,null,null,null,null,null,null,null,null,null,null,null,null,null,"2021-12-26","日","B"]
[null,null,null,null,null,null,null,null,null,null,null,null,null,null,null,null,"2021-12-27","月","B"]
[null,null,null,null,null,null,null,null,null,null,null,null,null,null,null,null,"2021-12-28","火","A"]
[null,null,null,null,null,null,null,null,null,null,null,null,null,null,null,null,"2021-12-29","水","A"]
[null,null,null,null,null,null,null,null,null,null,null,null,null,null,null,null,"2021-12-30","木","A"]
[null,null,null,null,null,null,null,null,null,null,null,null,null,null,null,null,"2021-12-31","金","A"]
[null,null,null,null,null,null,null,null,null,null,null,null,null,null,null,null,"2022-01-01","土","A"]
[null,null,null,null,null,null,null,null,null,null,null,null,null,null,null,null,"2022-01-02","日","A"]
[null,null,null,null,null,null,null,null,null,null,null,null,null,null,null,null,"2022-01-03","月","A"]
[null,null,null,null,null,null,null,null,null,null,null,null,null,null,null,null,"2022-01-04","火","B"]
[null,null,null,null,null,null,null,null,null,null,null,null,null,null,null,null,"2022-01-05","水","B"]
[null,null,null,null,null,null,null,null,null,null,null,null,null,null,null,null,"2022-01-06","木","B"]
[null,null,null,null,null,null,null,null,null,null,null,null,null,null,null,null,"2022-01-07","金","B"]
[null,null,null,null,null,null,null,null,null,null,null,null,null,null,null,null,"2022-01-08","土","B"]
[null,null,null,null,null,null,null,null,null,null,null,null,null,null,null,null,"2022-01-09","日","B"]
[null,null,null,null,null,null,null,null,null,null,null,null,null,null,null,null,"2022-01-10","月","B"]
[null,null,null,null,null,null,null,null,null,null,null,null,null,null,null,null,"2022-01-11","火","A"]
[null,null,null,null,null,null,null,null,null,null,null,null,null,null,null,null,"2022-01-12","水","A"]
[null,null,null,null,null,null,null,null,null,null,null,null,null,null,null,null,"2022-01-13","木","A"]
[null,null,null,null,null,null,null,null,null,null,null,null,null,null,null,null,"2022-01-14","金","A"]
[null,null,null,null,null,null,null,null,null,null,null,null,null,null,null,null,"2022-01-15","土","A"]
[null,null,null,null,null,null,null,null,null,null,null,null,null,null,null,null,"2022-01-16","日","A"]
[null,null,null,null,null,null,null,null,null,null,null,null,null,null,null,null,"2022-01-17","月","A"]
[null,null,null,null,null,null,null,null,null,null,null,null,null,null,null,null,"2022-01-18","火","B"]
[null,null,null,null,null,null,null,null,null,null,null,null,null,null,null,null,"2022-01-19","水","B"]
[null,null,null,null,null,null,null,null,null,null,null,null,null,null,null,null,"2022-01-20","木","B"]
[null,null,null,null,null,null,null,null,null,null,null,null,null,null,null,null,"2022-01-21","金","B"]
[null,null,null,null,null,null,null,null,null,null,null,null,null,null,null,null,"2022-01-22","土","B"]
[null,null,null,null,null,null,null,null,null,null,null,null,null,null,null,null,"2022-01-23","日","B"]
[null,null,null,null,null,null,null,null,null,null,null,null,null,null,null,null,"2022-01-24","月","B"]
[null,null,null,null,null,null,null,null,null,null,null,null,null,null,null,null,"2022-01-25","火","A"]
[null,null,null,null,null,null,null,null,null,null,null,null,null,null,null,null,"2022-01-26","水","A"]
[null,null,null,null,null,null,null,null,null,null,null,null,null,null,null,null,"2022-01-27","木","A"]
[null,null,null,null,null,null,null,null,null,null,null,null,null,null,null,null,"2022-01-28","金","A"]
[null,null,null,null,null,null,null,null,null,null,null,null,null,null,null,null,"2022-01-29","土","A"]
[null,null,null,null,null,null,null,null,null,null,null,null,null,null,null,null,"2022-01-30","日","A"]
[null,null,null,null,null,null,null,null,null,null,null,null,null,null,null,null,"2022-01-31","月","A"]
[null,null,null,null,null,null,null,null,null,null,null,null,null,null,null,null,"2022-02-01","火","B"]
[null,null,null,null,null,null,null,null,null,null,null,null,null,null,null,null,"2022-02-02","水","B"]
[null,null,null,null,null,null,null,null,null,null,null,null,null,null,null,null,"2022-02-03","木","B"]
[null,null,null,null,null,null,null,null,null,null,null,null,null,null,null,null,"2022-02-04","金","B"]
[null,null,null,null,null,null,null,null,null,null,null,null,null,null,null,null,"2022-02-05","土","B"]
[null,null,null,null,null,null,null,null,null,null,null,null,null,null,null,null,"2022-02-06","日","B"]
[null,null,null,null,null,null,null,null,null,null,null,null,null,null,null,null,"2022-02-07","月","B"]
[null,null,null,null,null,null,null,null,null,null,null,null,null,null,null,null,"2022-02-08","火","A"]
[null,null,null,null,null,null,null,null,null,null,null,null,null,null,null,null,"2022-02-09","水","A"]
[null,null,null,null,null,null,null,null,null,null,null,null,null,null,null,null,"2022-02-10","木","A"]
[null,null,null,null,null,null,null,null,null,null,null,null,null,null,null,null,"2022-02-11","金","A"]
[null,null,null,null,null,null,null,null,null,null,null,null,null,null,null,null,"2022-02-12","土","A"]
[null,null,null,null,null,null,null,null,null,null,null,null,null,null,null,null,"2022-02-13","日","A"]
[null,null,null,null,null,null,null,null,null,null,null,null,null,null,null,null,"2022-02-14","月","A"]
[null,null,null,null,null,null,null,null,null,null,null,null,null,null,null,null,"2022-02-15","火","B"]
[null,null,null,null,null,null,null,null,null,null,null,null,null,null,null,null,"2022-02-16",{"$f":"TEXT(Q324,\"aaa\")","v":"水"},"B"]
[null,null,null,null,null,null,null,null,null,null,null,null,null,null,null,null,{"$f":"Q324+1","v":"2022-02-17"},"木","B"]
[null,null,null,null,null,null,null,null,null,null,null,null,null,null,null,null,"2022-02-18","金","B"]
[null,null,null,null,null,null,null,null,null,null,null,null,null,null,null,null,"2022-02-19","土","B"]
[null,null,null,null,null,null,null,null,null,null,null,null,null,null,null,null,"2022-02-20","日","B"]
[null,null,null,null,null,null,null,null,null,null,null,null,null,null,null,null,"2022-02-21","月","B"]
[null,null,null,null,null,null,null,null,null,null,null,null,null,null,null,null,"2022-02-22","火","A"]
[null,null,null,null,null,null,null,null,null,null,null,null,null,null,null,null,"2022-02-23","水","A"]
[null,null,null,null,null,null,null,null,null,null,null,null,null,null,null,null,"2022-02-24","木","A"]
[null,null,null,null,null,null,null,null,null,null,null,null,null,null,null,null,"2022-02-25","金","A"]
[null,null,null,null,null,null,null,null,null,null,null,null,null,null,null,null,"2022-02-26","土","A"]
[null,null,null,null,null,null,null,null,null,null,null,null,null,null,null,null,"2022-02-27","日","A"]
[null,null,null,null,null,null,null,null,null,null,null,null,null,null,null,null,"2022-02-28","月","A"]
[null,null,null,null,null,null,null,null,null,null,null,null,null,null,null,null,"2022-03-01","火","B"]
[null,null,null,null,null,null,null,null,null,null,null,null,null,null,null,null,"2022-03-02","水","B"]
[null,null,null,null,null,null,null,null,null,null,null,null,null,null,null,null,"2022-03-03","木","B"]
[null,null,null,null,null,null,null,null,null,null,null,null,null,null,null,null,"2022-03-04","金","B"]
[null,null,null,null,null,null,null,null,null,null,null,null,null,null,null,null,"2022-03-05","土","B"]
[null,null,null,null,null,null,null,null,null,null,null,null,null,null,null,null,"2022-03-06","日","B"]
[null,null,null,null,null,null,null,null,null,null,null,null,null,null,null,null,"2022-03-07","月","B"]
[null,null,null,null,null,null,null,null,null,null,null,null,null,null,null,null,"2022-03-08","火","A"]
[null,null,null,null,null,null,null,null,null,null,null,null,null,null,null,null,"2022-03-09","水","A"]
[null,null,null,null,null,null,null,null,null,null,null,null,null,null,null,null,"2022-03-10","木","A"]
[null,null,null,null,null,null,null,null,null,null,null,null,null,null,null,null,"2022-03-11","金","A"]
[null,null,null,null,null,null,null,null,null,null,null,null,null,null,null,null,"2022-03-12","土","A"]
[null,null,null,null,null,null,null,null,null,null,null,null,null,null,null,null,"2022-03-13","日","A"]
[null,null,null,null,null,null,null,null,null,null,null,null,null,null,null,null,"2022-03-14","月","A"]
[null,null,null,null,null,null,null,null,null,null,null,null,null,null,null,null,"2022-03-15","火","B"]
[null,null,null,null,null,null,null,null,null,null,null,null,null,null,null,null,"2022-03-16","水","B"]
[null,null,null,null,null,null,null,null,null,null,null,null,null,null,null,null,"2022-03-17","木","B"]
[null,null,null,null,null,null,null,null,null,null,null,null,null,null,null,null,"2022-03-18","金","B"]
[null,null,null,null,null,null,null,null,null,null,null,null,null,null,null,null,"2022-03-19","土","B"]
[null,null,null,null,null,null,null,null,null,null,null,null,null,null,null,null,"2022-03-20","日","B"]
[null,null,null,null,null,null,null,null,null,null,null,null,null,null,null,null,"2022-03-21","月","B"]
[null,null,null,null,null,null,null,null,null,null,null,null,null,null,null,null,"2022-03-22","火","A"]
[null,null,null,null,null,null,null,null,null,null,null,null,null,null,null,null,"2022-03-23","水","A"]
[null,null,null,null,null,null,null,null,null,null,null,null,null,null,null,null,"2022-03-24","木","A"]
[null,null,null,null,null,null,null,null,null,null,null,null,null,null,null,null,"2022-03-25","金","A"]
[null,null,null,null,null,null,null,null,null,null,null,null,null,null,null,null,"2022-03-26","土","A"]
[null,null,null,null,null,null,null,null,null,null,null,null,null,null,null,null,"2022-03-27","日","A"]
[null,null,null,null,null,null,null,null,null,null,null,null,null,null,null,null,"2022-03-28","月","A"]
[null,null,null,null,null,null,null,null,null,null,null,null,null,null,null,null,"2022-03-29","火","B"]
[null,null,null,null,null,null,null,null,null,null,null,null,null,null,null,null,"2022-03-30","水","B"]
[null,null,null,null,null,null,null,null,null,null,null,null,null,null,null,null,"2022-03-31","木","B"]
[null,null,null,null,null,null,null,null,null,null,null,null,null,null,null,null,"2022-04-01",{"$f":"TEXT(Q368,\"aaa\")","v":"金"},"B"]

{"sheet":"標準授業時数","index":1,"n_rows":31,"n_cols":9,"rows_kept":31,"cut":false,"hidden":false,"merged":[[29,0,30,0],[23,0,24,0],[9,0,10,0],[0,0,0,1],[1,0,2,0],[3,0,4,0],[5,0,6,0],[7,0,8,0],[25,0,26,0],[27,0,28,0],[11,0,12,0],[13,0,14,0],[15,0,16,0],[17,0,18,0],[21,0,22,0],[19,0,20,0]]}
["　　　　　　　　　　学年　\n　教科等",null,1,2,3,4,5,6,"計"]
["国語","時数",306,315,245,245,175,175,{"$f":"SUM(C2:H2)","v":1461}]
[null,"週当コマ数",9,9,7,7,5,5]
["社会","時数",null,null,70,90,100,105,{"$f":"SUM(C4:H4)","v":365}]
[null,"週当コマ数",null,null,2,2.6,2.9,3]
["算数","時数",136,175,175,175,175,175,{"$f":"SUM(C6:H6)","v":1011}]
[null,"週当コマ数",4,5,5,5,5,5]
["理科","時数",null,null,90,105,105,105,405]
[null,"週当コマ数",null,null,2.6,3,3,3]
["生活","時数",102,105,null,null,null,null,207]
[null,"週当コマ数",3,3]
["音楽","時数",68,70,60,60,50,50,358]
[null,"週当コマ数",2,2,1.7,1.7,1.4,1.4]
["図画工作","時数",68,70,60,60,50,50,358]
[null,"週当コマ数",2,2,1.7,1.7,1.4,1.4]
["家庭","時数",null,null,null,null,60,55,115]
[null,"週当コマ数",null,null,null,null,1.7,1.6]
["体育","時数",102,105,105,105,90,90,597]
[null,"週当コマ数",3,3,3,3,2.6,2.6]
["英語","時数",null,null,null,null,70,70,140]
[null,"週当コマ数",null,null,null,null,2,2]
["道徳","時数",34,35,35,35,35,35,209]
[null,"週当コマ数",1,1,1,1,1,1]
["外国語活動","時数",null,null,35,35,null,null,{"$f":"SUM(C24:H24)","v":70}]
[null,"週当コマ数",null,null,1,1]
["総合的な学習の時間","時数",null,null,70,70,70,70,{"$f":"SUM(C26:H26)","v":280}]
[null,"週当コマ数",null,null,2,2,2,2]
["特別活動","時数",34,35,35,35,35,35,{"$f":"SUM(C28:H28)","v":209}]
[null,"週当コマ数",1,1,1,1,1,1]
["合計","時数",{"$f":"SUM(C2,C4,C6,C8,C10,C12,C14,C16,C18,C22,C24,C26,C28)","v":850},910,980,1015,{"$f":"SUM(G2,G4,G6,G8,G10,G12,G14,G16,G18,G20,G22,G24,G26,G28)","v":1015},{"$f":"SUM(H2,H4,H6,H8,H10,H12,H14,H16,H18,H20,H22,H24,H26,H28)","v":1015},{"$f":"SUM(C30:H30)","v":5785}]
[null,"週当コマ数",25,26,28,29,{"$f":"SUM(G3,G5,G7,G9,G11,G13,G15,G17,G19,G21,G23,G25,G27,G29)","v":29},{"$f":"SUM(H3,H5,H7,H9,H11,H13,H15,H17,H19,H21,H23,H25,H27,H29)","v":29}]

{"sheet":"様式1","index":2,"n_rows":37,"n_cols":19,"rows_kept":37,"cut":false,"hidden":false,"merged":[[0,1,0,19],[4,1,5,1],[4,2,5,2],[4,3,5,3],[4,4,5,4],[4,5,5,5],[4,6,5,6],[4,7,5,7],[4,8,5,8],[4,14,5,14],[4,16,5,16],[4,9,5,9],[4,10,5,10],[4,12,5,12],[4,18,5,18],[4,11,5,11],[4,13,5,13],[4,15,5,15],[4,17,5,17]]}
[null,{"$f":"\"令和\"&初期設定!A2-2018&\"(\"&初期設定!A2&\")年度　　　授 業 時 数 記 録（様式１）\"","v":"令和3(2021)年度　　　授 業 時 数 記 録（様式１）"}]
[null,null,{"$f":"\"( \"&学年&\" )\"","v":"( 6 )"},"年",{"$f":"\"( \"&組&\" )\"","v":"( 1 )"},"組",null,null,null,null,null,null,null,null,null,null,{"$f":"学校名&\"小学校\"","v":"エクセル小学校"}]
[null,null,null,null,null,null,null,null,null,null,null,null,null,null,null,null,null,"　　　"]
[]
[null,null,"国語","社会","算数","理科","生活","音楽","図工","家庭","体育","英語","道徳","外国語","総合","特活","合計\n時数","学校\n　行事","委員会\nクラブ"]
[]
[null,4]
[null,5]
[null,6]
[null,7]
[null,"１\n合計",{"$f":"SUM(C7:C10)","v":0},0,0,0,0,0,0,0,0,0,0,0,0,0,{"$f":"SUM(C11:P11)","v":0},{"$f":"SUM(R7:R10)","v":0},{"$f":"SUM(S7:S10)","v":0}]
[null,8]
[null,9]
[null,10]
[null,11]
[null,12]
[null,"２\n合計",{"$f":"SUM(C12:C16)","v":0},{"$f":"SUM(D12:D16)","v":0},0,0,0,0,0,0,0,{"$f":"SUM(L12:L16)","v":0},0,0,0,0,0,{"$f":"SUM(R12:R16)","v":0},{"$f":"SUM(S12:S16)","v":0}]
[null,"１・２\n合計",{"$f":"SUM(C17,C11)","v":0},0,0,0,0,0,0,0,0,{"$f":"SUM(L17,L11)","v":0},0,0,0,0,0,{"$f":"SUM(R11,R17)","v":0},{"$f":"SUM(S11,S17)","v":0}]
[null,1]
[null,2]
[null,3]
[null,"３\n合計",{"$f":"SUM(C19:C21)","v":0},{"$f":"SUM(D19:D21)","v":0},0,0,0,0,0,0,0,{"$f":"SUM(L19:L21)","v":0},0,0,0,0,0,{"$f":"SUM(R19:R21)","v":0},{"$f":"SUM(S19:S21)","v":0}]
[null,"\n総合計",{"$f":"SUM(C18,C22)","v":0},{"$f":"SUM(D18,D22)","v":0},0,0,0,0,0,0,0,{"$f":"SUM(L18,L22)","v":0},0,0,0,0,0,{"$f":"SUM(R18,R22)","v":0},{"$f":"SUM(S18,S22)","v":0}]
[]
[]
[null,null,"国語","社会","算数","理科","生活","音楽","図工","家庭","体育","英語","道徳","外国語","総合","特活"]
[null,"1学期",{"$f":"ROUNDUP(C35*0.36,0)","v":63},38,63,38,0,18,18,20,33,26,13,{"$f":"ROUNDUP(N35*0.36,0)","v":0},26,13]
[null,"差",{"$f":"IF(C27=0,\"\",C11-C27)","v":-63},-38,-63,-38,"",-18,-18,-20,-33,-26,-13,{"$f":"IF(N27=0,\"\",N11-N27)","v":""},-26,-13]
[null,"1学期\n達成率",{"$f":"IF(C27=0,\"\",(C11/C27))","v":0},{"$f":"IF(D$27=0,\"\",(D$11/D$27))","v":0},0,0,"",0,0,0,0,0,0,"",0,0]
[null,"全体\n達成率",{"$f":"IF(C27=0,\"\",(C11/C35))","v":0},{"$f":"IF(D27=0,\"\",(D11/D35))","v":0},0,0,"",0,0,0,0,0,0,"",0,0]
[null,"2学期",{"$f":"ROUNDUP(C35*0.38,0)+C27","v":130},{"$f":"ROUNDUP(D35*0.38,0)+D27","v":78},{"$f":"ROUNDUP(E35*0.38,0)+E27","v":130},78,0,37,37,41,68,53,27,{"$f":"ROUNDUP(N35*0.38,0)+N27","v":0},53,27]
[null,"差",{"$f":"IF(C31=0,\"\",C18-C31)","v":-130},-78,-130,-78,"",-37,-37,-41,-68,-53,-27,{"$f":"IF(N31=0,\"\",N18-N31)","v":""},-53,-27]
[null,"1,2学期\n達成率",{"$f":"IF(C31=0,\"\",(C18/C31))","v":0},{"$f":"IF(D31=0,\"\",(D18/D31))","v":0},0,0,"",0,0,0,0,0,0,"",0,0]
[null,"全体\n達成率",{"$f":"IF(C31=0,\"\",(C18/C35))","v":0},{"$f":"IF(D31=0,\"\",(D18/D35))","v":0},0,0,"",0,0,0,0,0,0,"",0,0]
[null,"3学期",{"$f":"IF(学年=1,標準授業時数!C2,IF(学年=2,標準授業時数!D2,IF(学年=3,標準授業時数!E2,IF(学年=4,標準授業時数!F2,IF(学年=5,標準授業時数!G2,IF(学年=6,標準授業時数!H2,\"\"))))))","v":175},{"$f":"IF(学年=1,標準授業時数!C4,IF(学年=2,標準授業時数!D4,IF(学年=3,標準授業時数!E4,IF(学年=4,標準授業時数!F4,IF(学年=5,標準授業時数!G4,IF(学年=6,標準授業時数!H4,\"\"))))))","v":105},{"$f":"IF(学年=1,標準授業時数!C6,IF(学年=2,標準授業時数!D6,IF(学年=3,標準授業時数!E6,IF(学年=4,標準授業時数!F6,IF(学年=5,標準授業時数!G6,IF(学年=6,標準授業時数!H6,\"\"))))))","v":175},{"$f":"IF(学年=1,標準授業時数!C8,IF(学年=2,標準授業時数!D8,IF(学年=3,標準授業時数!E8,IF(学年=4,標準授業時数!F8,IF(学年=5,標準授業時数!G8,IF(学年=6,標準授業時数!H8,\"\"))))))","v":105},{"$f":"IF(学年=1,標準授業時数!C10,IF(学年=2,標準授業時数!D10,IF(学年=3,標準授業時数!E10,IF(学年=4,標準授業時数!F10,IF(学年=5,標準授業時数!G10,IF(学年=6,標準授業時数!H10,\"\"))))))","v":0},{"$f":"IF(学年=1,標準授業時数!C12,IF(学年=2,標準授業時数!D12,IF(学年=3,標準授業時数!E12,IF(学年=4,標準授業時数!F12,IF(学年=5,標準授業時数!G12,IF(学年=6,標準授業時数!H12,\"\"))))))","v":50},{"$f":"IF(学年=1,標準授業時数!C14,IF(学年=2,標準授業時数!D14,IF(学年=3,標準授業時数!E14,IF(学年=4,標準授業時数!F14,IF(学年=5,標準授業時数!G14,IF(学年=6,標準授業時数!H14,\"\"))))))","v":50},{"$f":"IF(学年=1,標準授業時数!C16,IF(学年=2,標準授業時数!D16,IF(学年=3,標準授業時数!E16,IF(学年=4,標準授業時数!F16,IF(学年=5,標準授業時数!G16,IF(学年=6,標準授業時数!H16,\"\"))))))","v":55},{"$f":"IF(学年=1,標準授業時数!C18,IF(学年=2,標準授業時数!D18,IF(学年=3,標準授業時数!E18,IF(学年=4,標準授業時数!F18,IF(学年=5,標準授業時数!G18,IF(学年=6,標準授業時数!H18,\"\"))))))","v":90},{"$f":"IF(学年=1,標準授業時数!C20,IF(学年=2,標準授業時数!D20,IF(学年=3,標準授業時数!E20,IF(学年=4,標準授業時数!F20,IF(学年=5,標準授業時数!G20,IF(学年=6,標準授業時数!H20,\"\"))))))","v":70},{"$f":"IF(学年=1,標準授業時数!C22,IF(学年=2,標準授業時数!D22,IF(学年=3,標準授業時数!E22,IF(学年=4,標準授業時数!F22,IF(学年=5,標準授業時数!G22,IF(学年=6,標準授業時数!H22,\"\"))))))","v":35},{"$f":"IF(学年=1,標準授業時数!C24,IF(学年=2,標準授業時数!D24,IF(学年=3,標準授業時数!E24,IF(学年=4,標準授業時数!F24,IF(学年=5,標準授業時数!G24,IF(学年=6,標準授業時数!H24,\"\"))))))","v":0},{"$f":"IF(学年=1,標準授業時数!C26,IF(学年=2,標準授業時数!D26,IF(学年=3,標準授業時数!E26,IF(学年=4,標準授業時数!F26,IF(学年=5,標準授業時数!G26,IF(学年=6,標準授業時数!H26,\"\"))))))","v":70},{"$f":"IF(学年=1,標準授業時数!C28,IF(学年=2,標準授業時数!D28,IF(学年=3,標準授業時数!E28,IF(学年=4,標準授業時数!F28,IF(学年=5,標準授業時数!G28,IF(学年=6,標準授業時数!H28,\"\"))))))","v":35}]
[null,"差",{"$f":"IF(C35=0,\"\",C23-C35)","v":-175},-105,-175,-105,"",-50,-50,-55,-90,-70,-35,"",-70,-35]
[null,"Total\n達成率",{"$f":"IF(C35=0,\"\",(C23/C35))","v":0},{"$f":"IF(D35=0,\"\",(D23/D35))","v":0},0,0,"",0,0,0,0,0,0,"",0,0]

{"sheet":"4月","index":3,"n_rows":95,"n_cols":72,"rows_kept":95,"cut":false,"hidden":false,"merged":[[10,19,20,19],[11,16,11,17],[10,16,10,17],[14,16,14,17],[13,16,13,17],[12,16,12,17],[16,16,16,17],[17,16,17,17],[20,16,20,17],[9,4,9,5],[9,6,9,7],[9,8,9,9],[9,10,9,11],[9,12,9,13],[9,14,9,15],[9,16,9,17],[21,16,21,17],[22,16,22,17],[15,16,15,17],[18,16,18,17],[19,16,19,17],[38,16,38,17],[39,16,39,17],[30,16,30,17],[31,16,31,17],[32,16,32,17],[33,16,33,17],[34,16,34,17],[35,16,35,17],[36,16,36,17],[37,16,37,17],[23,16,23,17],[24,16,24,17],[27,16,27,17],[28,16,28,17],[29,16,29,17],[25,16,25,17],[26,16,26,17]]}
[null,4,"月","時間割を入力してください",null,null,null,null,null,null,null,null,null,null,null,null,null,null,null,null,null,null,null,null,null,null,null,null,null,null,null,null,null,null,null,null,null,null,null,null,"国語","社会","算数","理科","生活","音楽","図工","家庭","体育","英語","道徳","外国","総合","特活","委員","学校","国半","社半","算半","理半","生半","音半","図半","家半","体半","英半","道半","外半","総半","特半","委半","学半"]
[null,null,"A","月","火","水","木","金",null,"B","月","火","水","木","金",null,null,null,null,null,null,null,null,null,null,null,null,null,null,null,null,null,null,null,null,null,null,null,null,null,"リスト範囲"]
[null,null,1,"国語","社会","音楽","国語","総合",null,1,"国語","社会","音楽","国語","総合"]
[null,null,2,"算数","算数","社会","算数","算数",null,2,"算数","算数","社会","算数","算数"]
[null,null,3,"理科","家庭","英語","道徳","国語",null,3,"理科","図工","英語","道徳","国語"]
["記入済みセル",null,4,"理科","家庭","算数","総合","音楽",null,4,"理科","図工","算数","総合","家庭"]
[{"$f":"COUNTIF(E11:R41,\"*?\")","v":0},null,5,"社会","国語","国語","理科","体育",null,5,"社会","国語","国語","理科","体育"]
[null,null,6,"英語","体育",null,"体育","特活",null,6,"英語","体育",null,"体育","特活"]
[]
[null,"AB","月日","曜日",1,null,2,null,3,null,4,null,5,null,6,null,"学校行事",null,null,null,"追加",null,"計","１h","0.5h",null,"転記用"]
[null,null,{"$f":"DATE(年度,4,1)","v":"2021-04-01"},null,null,null,null,null,null,null,null,null,null,null,null,null,null,null,null,"各教科など",null,"国語",{"$f":"X11+Y11*0.5+U11","v":0},{"$f":"COUNTIF($E$11:$P$40,$V11)","v":0},{"$f":"COUNTIF($E$11:$P$40,$Z11)","v":0},"国半"]
[null,null,{"$f":"C11+1","v":"2021-04-02"},null,null,null,null,null,null,null,null,null,null,null,null,null,null,null,null,null,null,"社会",0,0,0,"社半"]
[null,null,"2021-04-03",null,null,null,null,null,null,null,null,null,null,null,null,null,null,null,null,null,null,"算数",0,0,0,"算半"]
[null,null,"2021-04-04",null,null,null,null,null,null,null,null,null,null,null,null,null,null,null,null,null,null,"理科",0,0,0,"理半"]
[null,null,"2021-04-05",null,null,null,null,null,null,null,null,null,null,null,null,null,null,null,null,null,null,"生活",0,0,0,"生半"]
[null,null,"2021-04-06",{"$f":"TEXT(C16,\"aaa\")","v":"火"},null,null,null,null,null,null,null,null,null,null,null,null,null,null,null,null,null,"音楽",0,0,0,"音半"]
[null,null,"2021-04-07",{"$f":"TEXT(C17,\"aaa\")","v":"水"},null,null,null,null,null,null,null,null,null,null,null,null,null,null,null,null,null,"図工",0,0,0,"図半"]
[null,null,"2021-04-08",{"$f":"TEXT(C18,\"aaa\")","v":"木"},null,null,null,null,null,null,null,null,null,null,null,null,null,null,null,null,null,"家庭",0,0,0,"家半"]
[null,null,"2021-04-09","金",null,null,null,null,null,null,null,null,null,null,null,null,null,null,null,null,null,"体育",0,0,0,"体半"]
[null,null,"2021-04-10","土",null,null,null,null,null,null,null,null,null,null,null,null,null,null,null,null,null,"英語",{"$f":"X20+Y20*0.5+U20","v":0},0,0,"英半"]
[null,null,"2021-04-11","日",null,null,null,null,null,null,null,null,null,null,null,null,null,null,null,null,null,"道徳",{"$f":"X21+Y21*0.5+U21","v":0},{"$f":"COUNTIF($E$11:$P$40,$V21)","v":0},{"$f":"COUNTIF($E$11:$P$40,$Z21)","v":0},"道半"]
[null,null,"2021-04-12","月",null,null,null,null,null,null,null,null,null,null,null,null,null,null,null,null,null,"外国",{"$f":"X22+Y22*0.5+U22","v":0},{"$f":"COUNTIF($E$11:$P$40,$V22)","v":0},{"$f":"COUNTIF($E$11:$P$40,$Z22)","v":0},"外半"]
[null,null,"2021-04-13","火",null,null,null,null,null,null,null,null,null,null,null,null,null,null,null,null,null,"総合",{"$f":"X23+Y23*0.5+U23","v":0},{"$f":"COUNTIF($E$11:$P$40,$V23)","v":0},{"$f":"COUNTIF($E$11:$P$40,$Z23)","v":0},"総半"]
[null,null,"2021-04-14","水",null,null,null,null,null,null,null,null,null,null,null,null,null,null,null,"特活",null,"特活",{"$f":"X24+Y24*0.5+U24","v":0},{"$f":"COUNTIF($E$11:$P$40,$V24)","v":0},{"$f":"COUNTIF($E$11:$P$40,$Z24)","v":0},"特半"]
[null,null,"2021-04-15","木",null,null,null,null,null,null,null,null,null,null,null,null,null,null,null,null,null,"合計",{"$f":"SUM(W11:W24)","v":0}]
[null,null,"2021-04-16","金",null,null,null,null,null,null,null,null,null,null,null,null,null,null,null,null,null,"学校",{"$f":"X26+Y26*0.5+U26","v":0},{"$f":"COUNTIF($E$11:$P$40,$V26)","v":0},{"$f":"COUNTIF($E$11:$P$40,$Z26)","v":0},"学半"]
[null,null,"2021-04-17","土",null,null,null,null,null,null,null,null,null,null,null,null,null,null,null,null,null,"委員",{"$f":"X27+Y27*0.5+U27","v":0},{"$f":"COUNTIF($E$11:$P$40,$V27)","v":0},{"$f":"COUNTIF($E$11:$P$40,$Z27)","v":0},"委半"]
[null,null,"2021-04-18","日"]
[null,null,"2021-04-19","月"]
[null,null,"2021-04-20","火"]
[null,null,"2021-04-21","水"]
[null,null,"2021-04-22","木"]
[null,null,"2021-04-23","金"]
[null,null,"2021-04-24","土"]
[null,null,"2021-04-25","日"]
[null,null,"2021-04-26","月"]
[null,null,"2021-04-27","火"]
[null,null,"2021-04-28","水"]
[null,null,"2021-04-29","木"]
[null,null,{"$f":"C39+1","v":"2021-04-30"},"金"]
[]
[]
[]
[]
[]
[]
[]
[]
[]
[]
[]
[]
[]
[]
[]
[]
[]
[]
[]
[]
[]
[]
[]
[]
[]
[]
[]
[]
[]
[]
[]
[]
[]
[]
[]
[]
[]
[]
[]
[]
[]
[]
[]
[]
[]
[]
[]
[]
[]
[]
[]
[]
[]
[]
[null,null,null,null,null,null,null,null,null,null,null,null,null,null,null,null,null,{"$f":"SUM(Q66:Q95)","v":0}]

{"sheet":"5月","index":4,"n_rows":96,"n_cols":72,"rows_kept":96,"cut":false,"hidden":false,"merged":[[9,14,9,15],[9,16,9,17],[15,16,15,17],[10,16,10,17],[11,16,11,17],[12,16,12,17],[13,16,13,17],[14,16,14,17],[9,4,9,5],[9,6,9,7],[9,8,9,9],[9,10,9,11],[9,12,9,13],[17,16,17,17],[18,16,18,17],[19,16,19,17],[20,16,20,17],[10,19,20,19],[16,16,16,17],[40,16,40,17],[31,16,31,17],[32,16,32,17],[33,16,33,17],[34,16,34,17],[35,16,35,17],[36,16,36,17],[37,16,37,17],[38,16,38,17],[39,16,39,17],[26,16,26,17],[27,16,27,17],[28,16,28,17],[29,16,29,17],[30,16,30,17],[21,16,21,17],[22,16,22,17],[23,16,23,17],[24,16,24,17],[25,16,25,17]]}
[null,5,"月","時間割変更があれば入力",null,null,null,null,null,null,null,null,null,null,null,null,null,null,null,null,null,null,null,null,null,null,null,null,null,null,null,null,null,null,null,null,null,null,null,null,"国語","社会","算数","理科","生活","音楽","図工","家庭","体育","英語","道徳","外国","総合","特活","委員","学校","国半","社半","算半","理半","生半","音半","図半","家半","体半","英半","道半","外半","総半","特半","委半","学半"]
[null,null,"A","月","火","水","木","金",null,"B","月","火","水","木","金",null,null,null,null,null,null,null,null,null,null,null,null,null,null,null,null,null,null,null,null,null,null,null,null,null,"リスト範囲"]
[null,null,1,{"$f":"'4月'!D3","v":"国語"},{"$f":"'4月'!E3","v":"社会"},{"$f":"'4月'!F3","v":"音楽"},{"$f":"'4月'!G3","v":"国語"},{"$f":"'4月'!H3","v":"総合"},null,1,{"$f":"'4月'!K3","v":"国語"},{"$f":"'4月'!L3","v":"社会"},{"$f":"'4月'!M3","v":"音楽"},{"$f":"'4月'!N3","v":"国語"},{"$f":"'4月'!O3","v":"総合"}]
[null,null,2,{"$f":"'4月'!D4","v":"算数"},{"$f":"'4月'!E4","v":"算数"},{"$f":"'4月'!F4","v":"社会"},{"$f":"'4月'!G4","v":"算数"},{"$f":"'4月'!H4","v":"算数"},null,2,{"$f":"'4月'!K4","v":"算数"},{"$f":"'4月'!L4","v":"算数"},{"$f":"'4月'!M4","v":"社会"},{"$f":"'4月'!N4","v":"算数"},{"$f":"'4月'!O4","v":"算数"}]
[null,null,3,{"$f":"'4月'!D5","v":"理科"},{"$f":"'4月'!E5","v":"家庭"},{"$f":"'4月'!F5","v":"英語"},{"$f":"'4月'!G5","v":"道徳"},{"$f":"'4月'!H5","v":"国語"},null,3,{"$f":"'4月'!K5","v":"理科"},{"$f":"'4月'!L5","v":"図工"},{"$f":"'4月'!M5","v":"英語"},{"$f":"'4月'!N5","v":"道徳"},{"$f":"'4月'!O5","v":"国語"}]
["記入済みセル",null,4,{"$f":"'4月'!D6","v":"理科"},{"$f":"'4月'!E6","v":"家庭"},{"$f":"'4月'!F6","v":"算数"},{"$f":"'4月'!G6","v":"総合"},{"$f":"'4月'!H6","v":"音楽"},null,4,{"$f":"'4月'!K6","v":"理科"},{"$f":"'4月'!L6","v":"図工"},{"$f":"'4月'!M6","v":"算数"},{"$f":"'4月'!N6","v":"総合"},{"$f":"'4月'!O6","v":"家庭"}]
[{"$f":"COUNTIF(E11:R41,\"*?\")","v":0},null,5,{"$f":"'4月'!D7","v":"社会"},{"$f":"'4月'!E7","v":"国語"},{"$f":"'4月'!F7","v":"国語"},{"$f":"'4月'!G7","v":"理科"},{"$f":"'4月'!H7","v":"体育"},null,5,{"$f":"'4月'!K7","v":"社会"},{"$f":"'4月'!L7","v":"国語"},{"$f":"'4月'!M7","v":"国語"},{"$f":"'4月'!N7","v":"理科"},{"$f":"'4月'!O7","v":"体育"}]
[null,null,6,{"$f":"'4月'!D8","v":"英語"},{"$f":"'4月'!E8","v":"体育"},{"$f":"'4月'!F8","v":0},{"$f":"'4月'!G8","v":"体育"},{"$f":"'4月'!H8","v":"特活"},null,6,{"$f":"'4月'!K8","v":"英語"},{"$f":"'4月'!L8","v":"体育"},{"$f":"'4月'!M8","v":0},{"$f":"'4月'!N8","v":"体育"},{"$f":"'4月'!O8","v":"特活"}]
[]
[null,"AB","月日","曜日",1,null,2,null,3,null,4,null,5,null,6,null,"学校行事",null,null,null,"追加",null,"計","１h","0.5h",null,"転記用"]
[null,null,{"$f":"DATE(年度,5,1)","v":"2021-05-01"},{"$f":"TEXT(C11,\"aaa\")","v":"土"},null,null,null,null,null,null,null,null,null,null,null,null,null,null,null,"各教科など",null,"国語",{"$f":"X11+Y11*0.5+U11","v":0},{"$f":"COUNTIF($E$11:$P$41,$V11)","v":0},{"$f":"COUNTIF($E$11:$P$41,$Z11)","v":0},"国半"]
[null,null,{"$f":"C11+1","v":"2021-05-02"},{"$f":"TEXT(C12,\"aaa\")","v":"日"},null,null,null,null,null,null,null,null,null,null,null,null,null,null,null,null,null,"社会",0,0,0,"社半"]
[null,null,"2021-05-03","月",null,null,null,null,null,null,null,null,null,null,null,null,null,null,null,null,null,"算数",0,0,0,"算半"]
[null,null,"2021-05-04","火",null,null,null,null,null,null,null,null,null,null,null,null,null,null,null,null,null,"理科",0,0,0,"理半"]
[null,null,"2021-05-05","水",null,null,null,null,null,null,null,null,null,null,null,null,null,null,null,null,null,"生活",0,0,0,"生半"]
[null,null,"2021-05-06","木",null,null,null,null,null,null,null,null,null,null,null,null,null,null,null,null,null,"音楽",0,0,0,"音半"]
[null,null,"2021-05-07","金",null,null,null,null,null,null,null,null,null,null,null,null,null,null,null,null,null,"図工",0,0,0,"図半"]
[null,null,"2021-05-08","土",null,null,null,null,null,null,null,null,null,null,null,null,null,null,null,null,null,"家庭",0,0,0,"家半"]
[null,null,"2021-05-09","日",null,null,null,null,null,null,null,null,null,null,null,null,null,null,null,null,null,"体育",0,0,0,"体半"]
[null,null,"2021-05-10","月",null,null,null,null,null,null,null,null,null,null,null,null,null,null,null,null,null,"英語",0,0,0,"英半"]
[null,null,{"$f":"C20+1","v":"2021-05-11"},"火",null,null,null,null,null,null,null,null,null,null,null,null,null,null,null,null,null,"道徳",{"$f":"X21+Y21*0.5+U21","v":0},0,0,"道半"]
[null,null,"2021-05-12","水",null,null,null,null,null,null,null,null,null,null,null,null,null,null,null,null,null,"外国",{"$f":"X22+Y22*0.5+U22","v":0},0,0,"外半"]
[null,null,"2021-05-13","木",null,null,null,null,null,null,null,null,null,null,null,null,null,null,null,null,null,"総合",{"$f":"X23+Y23*0.5+U23","v":0},0,0,"総半"]
[null,null,"2021-05-14","金",null,null,null,null,null,null,null,null,null,null,null,null,null,null,null,"特活",null,"特活",{"$f":"X24+Y24*0.5+U24","v":0},0,0,"特半"]
[null,null,"2021-05-15","土",null,null,null,null,null,null,null,null,null,null,null,null,null,null,null,null,null,"合計",{"$f":"SUM(W11:W24)","v":0}]
[null,null,"2021-05-16","日",null,null,null,null,null,null,null,null,null,null,null,null,null,null,null,null,null,"学校",{"$f":"X26+Y26*0.5+U26","v":0},{"$f":"COUNTIF($E$11:$P$41,$V26)","v":0},{"$f":"COUNTIF($E$11:$P$41,$Z26)","v":0},"学半"]
[null,null,"2021-05-17","月",null,null,null,null,null,null,null,null,null,null,null,null,null,null,null,null,null,"委員",{"$f":"X27+Y27*0.5+U27","v":0},{"$f":"COUNTIF($E$11:$P$41,$V27)","v":0},{"$f":"COUNTIF($E$11:$P$41,$Z27)","v":0},"委半"]
[null,null,"2021-05-18","火"]
[null,null,"2021-05-19","水"]
[null,null,"2021-05-20","木"]
[null,null,"2021-05-21","金"]
[null,null,"2021-05-22","土"]
[null,null,"2021-05-23","日"]
[null,null,"2021-05-24","月"]
[null,null,{"$f":"C34+1","v":"2021-05-25"},"火"]
[null,null,"2021-05-26","水"]
[null,null,"2021-05-27","木"]
[null,null,"2021-05-28","金"]
[null,null,"2021-05-29","土"]
[null,null,"2021-05-30","日"]
[null,null,{"$f":"C39+2","v":"2021-05-31"},"月"]
[]
[]
[]
[]
[]
[]
[]
[]
[]
[]
[]
[]
[]
[]
[]
[]
[]
[]
[]
[]
[]
[]
[]
[]
[]
[]
[]
[]
[]
[]
[]
[]
[]
[]
[]
[]
[]
[]
[]
[]
[]
[]
[]
[]
[]
[]
[]
[]
[]
[]
[]
[]
[]
[]
[null,null,null,null,null,null,null,null,null,null,null,null,null,null,null,null,null,{"$f":"SUM(Q67:Q96)","v":0}]

{"sheet":"6月","index":5,"n_rows":95,"n_cols":72,"rows_kept":95,"cut":false,"hidden":false,"merged":[[9,4,9,5],[9,6,9,7],[9,8,9,9],[9,10,9,11],[9,12,9,13],[9,14,9,15],[9,16,9,17],[22,16,22,17],[23,16,23,17],[24,16,24,17],[15,16,15,17],[10,16,10,17],[11,16,11,17],[12,16,12,17],[13,16,13,17],[14,16,14,17],[25,16,25,17],[16,16,16,17],[17,16,17,17],[18,16,18,17],[19,16,19,17],[20,16,20,17],[10,19,20,19],[36,16,36,17],[37,16,37,17],[38,16,38,17],[39,16,39,17],[31,16,31,17],[32,16,32,17],[33,16,33,17],[34,16,34,17],[35,16,35,17],[26,16,26,17],[27,16,27,17],[28,16,28,17],[29,16,29,17],[30,16,30,17],[21,16,21,17]]}
[null,6,"月","時間割変更があれば入力",null,null,null,null,null,null,null,null,null,null,null,null,null,null,null,null,null,null,null,null,null,null,null,null,null,null,null,null,null,null,null,null,null,null,null,null,"国語","社会","算数","理科","生活","音楽","図工","家庭","体育","英語","道徳","外国","総合","特活","委員","学校","国半","社半","算半","理半","生半","音半","図半","家半","体半","英半","道半","外半","総半","特半","委半","学半"]
[null,null,"A","月","火","水","木","金",null,"B","月","火","水","木","金",null,null,null,null,null,null,null,null,null,null,null,null,null,null,null,null,null,null,null,null,null,null,null,null,null,"リスト範囲"]
[null,null,1,{"$f":"'5月'!D3","v":"国語"},{"$f":"'5月'!E3","v":"社会"},{"$f":"'5月'!F3","v":"音楽"},{"$f":"'5月'!G3","v":"国語"},{"$f":"'5月'!H3","v":"総合"},null,1,{"$f":"'5月'!K3","v":"国語"},{"$f":"'5月'!L3","v":"社会"},{"$f":"'5月'!M3","v":"音楽"},{"$f":"'5月'!N3","v":"国語"},{"$f":"'5月'!O3","v":"総合"}]
[null,null,2,{"$f":"'5月'!D4","v":"算数"},{"$f":"'5月'!E4","v":"算数"},{"$f":"'5月'!F4","v":"社会"},{"$f":"'5月'!G4","v":"算数"},{"$f":"'5月'!H4","v":"算数"},null,2,{"$f":"'5月'!K4","v":"算数"},{"$f":"'5月'!L4","v":"算数"},{"$f":"'5月'!M4","v":"社会"},{"$f":"'5月'!N4","v":"算数"},{"$f":"'5月'!O4","v":"算数"}]
[null,null,3,{"$f":"'5月'!D5","v":"理科"},{"$f":"'5月'!E5","v":"家庭"},{"$f":"'5月'!F5","v":"英語"},{"$f":"'5月'!G5","v":"道徳"},{"$f":"'5月'!H5","v":"国語"},null,3,{"$f":"'5月'!K5","v":"理科"},{"$f":"'5月'!L5","v":"図工"},{"$f":"'5月'!M5","v":"英語"},{"$f":"'5月'!N5","v":"道徳"},{"$f":"'5月'!O5","v":"国語"}]
["記入済みセル",null,4,{"$f":"'5月'!D6","v":"理科"},{"$f":"'5月'!E6","v":"家庭"},{"$f":"'5月'!F6","v":"算数"},{"$f":"'5月'!G6","v":"総合"},{"$f":"'5月'!H6","v":"音楽"},null,4,{"$f":"'5月'!K6","v":"理科"},{"$f":"'5月'!L6","v":"図工"},{"$f":"'5月'!M6","v":"算数"},{"$f":"'5月'!N6","v":"総合"},{"$f":"'5月'!O6","v":"家庭"}]
[{"$f":"COUNTIF(E11:R41,\"*?\")","v":0},null,5,{"$f":"'5月'!D7","v":"社会"},{"$f":"'5月'!E7","v":"国語"},{"$f":"'5月'!F7","v":"国語"},{"$f":"'5月'!G7","v":"理科"},{"$f":"'5月'!H7","v":"体育"},null,5,{"$f":"'5月'!K7","v":"社会"},{"$f":"'5月'!L7","v":"国語"},{"$f":"'5月'!M7","v":"国語"},{"$f":"'5月'!N7","v":"理科"},{"$f":"'5月'!O7","v":"体育"}]
[null,null,6,{"$f":"'5月'!D8","v":"英語"},{"$f":"'5月'!E8","v":"体育"},{"$f":"'5月'!F8","v":0},{"$f":"'5月'!G8","v":"体育"},{"$f":"'5月'!H8","v":"特活"},null,6,{"$f":"'5月'!K8","v":"英語"},{"$f":"'5月'!L8","v":"体育"},{"$f":"'5月'!M8","v":0},{"$f":"'5月'!N8","v":"体育"},{"$f":"'5月'!O8","v":"特活"}]
[]
[null,"AB","月日","曜日",1,null,2,null,3,null,4,null,5,null,6,null,"学校行事",null,null,null,"追加",null,"計","１h","0.5h",null,"転記用"]
[null,"A",{"$f":"DATE(年度,6,1)","v":"2021-06-01"},{"$f":"TEXT(C11,\"aaa\")","v":"火"},null,null,null,null,null,null,null,null,null,null,null,null,null,null,null,"各教科など",null,"国語",{"$f":"X11+Y11*0.5+U11","v":0},{"$f":"COUNTIF($E$11:$P$40,$V11)","v":0},{"$f":"COUNTIF($E$11:$P$40,$Z11)","v":0},"国半",34]
[null,"A",{"$f":"C11+1","v":"2021-06-02"},{"$f":"TEXT(C12,\"aaa\")","v":"水"},null,null,null,null,null,null,null,null,null,null,null,null,null,null,null,null,null,"社会",0,0,0,"社半",9.5]
[null,"A","2021-06-03","木",null,null,null,null,null,null,null,null,null,null,null,null,null,null,null,null,null,"算数",0,0,0,"算半",22]
[null,"A","2021-06-04","金",null,null,null,null,null,null,null,null,null,null,null,null,null,null,null,null,null,"理科",0,0,0,"理半",14]
[null,"A","2021-06-05","土",null,null,null,null,null,null,null,null,null,null,null,null,null,null,null,null,null,"生活",0,0,0,"生半",0]
[null,"A","2021-06-06","日",null,null,null,null,null,null,null,null,null,null,null,null,null,null,null,null,null,"音楽",0,0,0,"音半",2]
[null,"A","2021-06-07","月",null,null,null,null,null,null,null,null,null,null,null,null,null,null,null,null,null,"図工",0,0,0,"図半",4]
[null,"B","2021-06-08","火",null,null,null,null,null,null,null,null,null,null,null,null,null,null,null,null,null,"家庭",0,0,0,"家半",8]
[null,"B","2021-06-09","水",null,null,null,null,null,null,null,null,null,null,null,null,null,null,null,null,null,"体育",0,0,0,"体半",13]
[null,"B","2021-06-10","木",null,null,null,null,null,null,null,null,null,null,null,null,null,null,null,null,null,"英語",0,0,0,"英半",9]
[null,"B","2021-06-11","金",null,null,null,null,null,null,null,null,null,null,null,null,null,null,null,null,null,"道徳",{"$f":"X21+Y21*0.5+U21","v":0},{"$f":"COUNTIF($E$11:$P$40,$V21)","v":0},{"$f":"COUNTIF($E$11:$P$40,$Z21)","v":0},"道半",4]
[null,"B","2021-06-12","土",null,null,null,null,null,null,null,null,null,null,null,null,null,null,null,null,null,"外国",{"$f":"X22+Y22*0.5+U22","v":0},{"$f":"COUNTIF($E$11:$P$40,$V22)","v":0},{"$f":"COUNTIF($E$11:$P$40,$Z22)","v":0},"外半",0]
[null,"B","2021-06-13","日",null,null,null,null,null,null,null,null,null,null,null,null,null,null,null,null,null,"総合",{"$f":"X23+Y23*0.5+U23","v":0},{"$f":"COUNTIF($E$11:$P$40,$V23)","v":0},{"$f":"COUNTIF($E$11:$P$40,$Z23)","v":0},"総半",4.5]
[null,"B","2021-06-14","月",null,null,null,null,null,null,null,null,null,null,null,null,null,null,null,"特活",null,"特活",{"$f":"X24+Y24*0.5+U24","v":0},{"$f":"COUNTIF($E$11:$P$40,$V24)","v":0},{"$f":"COUNTIF($E$11:$P$40,$Z24)","v":0},"特半",4]
[null,"A","2021-06-15","火",null,null,null,null,null,null,null,null,null,null,null,null,null,null,null,null,null,"合計",{"$f":"SUM(W11:W24)","v":0},null,null,null,128]
[null,"A","2021-06-16","水",null,null,null,null,null,null,null,null,null,null,null,null,null,null,null,null,null,"学校",{"$f":"X26+Y26*0.5+U26","v":0},{"$f":"COUNTIF($E$11:$P$40,$V26)","v":0},{"$f":"COUNTIF($E$11:$P$40,$Z26)","v":0},"学半",0]
[null,"A","2021-06-17","木",null,null,null,null,null,null,null,null,null,null,null,null,null,null,null,null,null,"委員",{"$f":"X27+Y27*0.5+U27","v":0},{"$f":"COUNTIF($E$11:$P$40,$V27)","v":0},{"$f":"COUNTIF($E$11:$P$40,$Z27)","v":0},"委半",0]
[null,"A","2021-06-18","金"]
[null,"A","2021-06-19","土"]
[null,"A","2021-06-20","日"]
[null,"A","2021-06-21","月"]
[null,"B","2021-06-22","火"]
[null,"B","2021-06-23","水"]
[null,"B","2021-06-24","木"]
[null,"B","2021-06-25","金"]
[null,"B","2021-06-26","土"]
[null,"B","2021-06-27","日"]
[null,"B","2021-06-28","月"]
[null,"A","2021-06-29","火"]
[null,"A",{"$f":"C39+1","v":"2021-06-30"},"水"]
[]
[]
[]
[]
[]
[]
[]
[]
[]
[]
[]
[]
[]
[]
[]
[]
[]
[]
[]
[]
[]
[]
[]
[]
[]
[]
[]
[]
[]
[]
[]
[]
[]
[]
[]
[]
[]
[]
[]
[]
[]
[]
[]
[]
[]
[]
[]
[]
[]
[]
[]
[]
[]
[]
[null,null,null,null,null,null,null,null,null,null,null,null,null,null,null,null,null,{"$f":"SUM(Q66:Q95)","v":0}]

{"sheet":"7月","index":6,"n_rows":96,"n_cols":72,"rows_kept":96,"cut":false,"hidden":false,"merged":[[10,19,20,19],[9,4,9,5],[9,6,9,7],[9,8,9,9],[9,10,9,11],[9,12,9,13],[9,14,9,15],[9,16,9,17],[10,16,10,17],[11,16,11,17],[12,16,12,17],[17,16,17,17],[18,16,18,17],[19,16,19,17],[20,16,20,17],[13,16,13,17],[14,16,14,17],[15,16,15,17],[40,16,40,17],[31,16,31,17],[32,16,32,17],[33,16,33,17],[34,16,34,17],[35,16,35,17],[36,16,36,17],[37,16,37,17],[38,16,38,17],[39,16,39,17],[26,16,26,17],[27,16,27,17],[28,16,28,17],[29,16,29,17],[16,16,16,17],[30,16,30,17],[21,16,21,17],[22,16,22,17],[23,16,23,17],[24,16,24,17],[25,16,25,17]]}
[null,7,"月","時間割変更があれば入力",null,null,null,null,null,null,null,null,null,null,null,null,null,null,null,null,null,null,null,null,null,null,null,null,null,null,null,null,null,null,null,null,null,null,null,null,"国語","社会","算数","理科","生活","音楽","図工","家庭","体育","英語","道徳","外国","総合","特活","委員","学校","国半","社半","算半","理半","生半","音半","図半","家半","体半","英半","道半","外半","総半","特半","委半","学半"]
[null,null,"A","月","火","水","木","金",null,"B","月","火","水","木","金",null,null,null,null,null,null,null,null,null,null,null,null,null,null,null,null,null,null,null,null,null,null,null,null,null,"リスト範囲"]
[null,null,1,{"$f":"'6月'!D3","v":"国語"},{"$f":"'6月'!E3","v":"社会"},{"$f":"'6月'!F3","v":"音楽"},{"$f":"'6月'!G3","v":"国語"},{"$f":"'6月'!H3","v":"総合"},null,1,{"$f":"'6月'!K3","v":"国語"},{"$f":"'6月'!L3","v":"社会"},{"$f":"'6月'!M3","v":"音楽"},{"$f":"'6月'!N3","v":"国語"},{"$f":"'6月'!O3","v":"総合"}]
[null,null,2,{"$f":"'6月'!D4","v":"算数"},{"$f":"'6月'!E4","v":"算数"},{"$f":"'6月'!F4","v":"社会"},{"$f":"'6月'!G4","v":"算数"},{"$f":"'6月'!H4","v":"算数"},null,2,{"$f":"'6月'!K4","v":"算数"},{"$f":"'6月'!L4","v":"算数"},{"$f":"'6月'!M4","v":"社会"},{"$f":"'6月'!N4","v":"算数"},{"$f":"'6月'!O4","v":"算数"}]
[null,null,3,{"$f":"'6月'!D5","v":"理科"},{"$f":"'6月'!E5","v":"家庭"},{"$f":"'6月'!F5","v":"英語"},{"$f":"'6月'!G5","v":"道徳"},{"$f":"'6月'!H5","v":"国語"},null,3,{"$f":"'6月'!K5","v":"理科"},{"$f":"'6月'!L5","v":"図工"},{"$f":"'6月'!M5","v":"英語"},{"$f":"'6月'!N5","v":"道徳"},{"$f":"'6月'!O5","v":"国語"}]
["記入済みセル",null,4,{"$f":"'6月'!D6","v":"理科"},{"$f":"'6月'!E6","v":"家庭"},{"$f":"'6月'!F6","v":"算数"},{"$f":"'6月'!G6","v":"総合"},{"$f":"'6月'!H6","v":"音楽"},null,4,{"$f":"'6月'!K6","v":"理科"},{"$f":"'6月'!L6","v":"図工"},{"$f":"'6月'!M6","v":"算数"},{"$f":"'6月'!N6","v":"総合"},{"$f":"'6月'!O6","v":"家庭"}]
[{"$f":"COUNTIF(E11:R41,\"*?\")","v":0},null,5,{"$f":"'6月'!D7","v":"社会"},{"$f":"'6月'!E7","v":"国語"},{"$f":"'6月'!F7","v":"国語"},{"$f":"'6月'!G7","v":"理科"},{"$f":"'6月'!H7","v":"体育"},null,5,{"$f":"'6月'!K7","v":"社会"},{"$f":"'6月'!L7","v":"国語"},{"$f":"'6月'!M7","v":"国語"},{"$f":"'6月'!N7","v":"理科"},{"$f":"'6月'!O7","v":"体育"}]
[null,null,6,{"$f":"'6月'!D8","v":"英語"},{"$f":"'6月'!E8","v":"体育"},{"$f":"'6月'!F8","v":0},{"$f":"'6月'!G8","v":"体育"},{"$f":"'6月'!H8","v":"特活"},null,6,{"$f":"'6月'!K8","v":"英語"},{"$f":"'6月'!L8","v":"体育"},{"$f":"'6月'!M8","v":0},{"$f":"'6月'!N8","v":"体育"},{"$f":"'6月'!O8","v":"特活"}]
[]
[null,"AB","月日","曜日",1,null,2,null,3,null,4,null,5,null,6,null,"学校行事",null,null,null,"追加",null,"計","１h","0.5h",null,"転記用"]
[null,null,{"$f":"DATE(年度,7,1)","v":"2021-07-01"},{"$f":"TEXT(C11,\"aaa\")","v":"木"},null,null,null,null,null,null,null,null,null,null,null,null,null,null,null,"各教科など",null,"国語",{"$f":"X11+Y11*0.5+U11","v":0},{"$f":"COUNTIF($E$11:$P$41,$V11)","v":0},{"$f":"COUNTIF($E$11:$P$41,$Z11)","v":0},"国半"]
[null,null,{"$f":"C11+1","v":"2021-07-02"},{"$f":"TEXT(C12,\"aaa\")","v":"金"},null,null,null,null,null,null,null,null,null,null,null,null,null,null,null,null,null,"社会",0,0,0,"社半"]
[null,null,"2021-07-03","土",null,null,null,null,null,null,null,null,null,null,null,null,null,null,null,null,null,"算数",0,0,0,"算半"]
[null,null,"2021-07-04","日",null,null,null,null,null,null,null,null,null,null,null,null,null,null,null,null,null,"理科",0,0,0,"理半"]
[null,null,"2021-07-05","月",null,null,null,null,null,null,null,null,null,null,null,null,null,null,null,null,null,"生活",0,0,0,"生半"]
[null,null,"2021-07-06","火",null,null,null,null,null,null,null,null,null,null,null,null,null,null,null,null,null,"音楽",0,0,0,"音半"]
[null,null,"2021-07-07","水",null,null,null,null,null,null,null,null,null,null,null,null,null,null,null,null,null,"図工",0,0,0,"図半"]
[null,null,"2021-07-08","木",null,null,null,null,null,null,null,null,null,null,null,null,null,null,null,null,null,"家庭",0,0,0,"家半"]
[null,null,"2021-07-09","金",null,null,null,null,null,null,null,null,null,null,null,null,null,null,null,null,null,"体育",0,0,0,"体半"]
[null,null,"2021-07-10","土",null,null,null,null,null,null,null,null,null,null,null,null,null,null,null,null,null,"英語",0,0,0,"英半"]
[null,null,"2021-07-11","日",null,null,null,null,null,null,null,null,null,null,null,null,null,null,null,null,null,"道徳",{"$f":"X21+Y21*0.5+U21","v":0},0,0,"道半"]
[null,null,"2021-07-12","月",null,null,null,null,null,null,null,null,null,null,null,null,null,null,null,null,null,"外国",{"$f":"X22+Y22*0.5+U22","v":0},0,0,"外半"]
[null,null,"2021-07-13","火",null,null,null,null,null,null,null,null,null,null,null,null,null,null,null,null,null,"総合",{"$f":"X23+Y23*0.5+U23","v":0},0,0,"総半"]
[null,null,"2021-07-14","水",null,null,null,null,null,null,null,null,null,null,null,null,null,null,null,"特活",null,"特活",{"$f":"X24+Y24*0.5+U24","v":0},0,0,"特半"]
[null,null,"2021-07-15","木",null,null,null,null,null,null,null,null,null,null,null,null,null,null,null,null,null,"合計",{"$f":"SUM(W11:W24)","v":0}]
[null,null,"2021-07-16","金",null,null,null,null,null,null,null,null,null,null,null,null,null,null,null,null,null,"学校",{"$f":"X26+Y26*0.5+U26","v":0},{"$f":"COUNTIF($E$11:$P$41,$V26)","v":0},{"$f":"COUNTIF($E$11:$P$41,$Z26)","v":0},"学半"]
[null,null,"2021-07-17","土",null,null,null,null,null,null,null,null,null,null,null,null,null,null,null,null,null,"委員",{"$f":"X27+Y27*0.5+U27","v":0},{"$f":"COUNTIF($E$11:$P$41,$V27)","v":0},{"$f":"COUNTIF($E$11:$P$41,$Z27)","v":0},"委半"]
[null,null,"2021-07-18","日"]
[null,null,"2021-07-19","月"]
[null,null,"2021-07-20","火"]
[null,null,"2021-07-21","水"]
[null,null,"2021-07-22","木"]
[null,null,"2021-07-23","金"]
[null,null,"2021-07-24","土"]
[null,null,"2021-07-25","日"]
[null,null,"2021-07-26","月"]
[null,null,"2021-07-27","火"]
[null,null,"2021-07-28","水"]
[null,null,"2021-07-29","木"]
[null,null,{"$f":"C39+1","v":"2021-07-30"},"金"]
[null,null,{"$f":"C40+1","v":"2021-07-31"},"土"]
[]
[]
[]
[]
[]
[]
[]
[]
[]
[]
[]
[]
[]
[]
[]
[]
[]
[]
[]
[]
[]
[]
[]
[]
[]
[]
[]
[]
[]
[]
[]
[]
[]
[]
[]
[]
[]
[]
[]
[]
[]
[]
[]
[]
[]
[]
[]
[]
[]
[]
[]
[]
[]
[]
[null,null,null,null,null,null,null,null,null,null,null,null,null,null,null,null,null,{"$f":"SUM(Q67:Q96)","v":0}]

{"sheet":"8月","index":7,"n_rows":96,"n_cols":72,"rows_kept":96,"cut":false,"hidden":false,"merged":[[10,19,20,19],[9,4,9,5],[9,6,9,7],[9,8,9,9],[9,10,9,11],[9,12,9,13],[9,14,9,15],[9,16,9,17],[10,16,10,17],[11,16,11,17],[12,16,12,17],[17,16,17,17],[18,16,18,17],[19,16,19,17],[20,16,20,17],[13,16,13,17],[14,16,14,17],[15,16,15,17],[40,16,40,17],[31,16,31,17],[32,16,32,17],[33,16,33,17],[34,16,34,17],[35,16,35,17],[36,16,36,17],[37,16,37,17],[38,16,38,17],[39,16,39,17],[26,16,26,17],[27,16,27,17],[28,16,28,17],[29,16,29,17],[16,16,16,17],[30,16,30,17],[21,16,21,17],[22,16,22,17],[23,16,23,17],[24,16,24,17],[25,16,25,17]]}
[null,8,"月","時間割変更があれば入力",null,null,null,null,null,null,null,null,null,null,null,null,null,null,null,null,null,null,null,null,null,null,null,null,null,null,null,null,null,null,null,null,null,null,null,null,"国語","社会","算数","理科","生活","音楽","図工","家庭","体育","英語","道徳","外国","総合","特活","委員","学校","国半","社半","算半","理半","生半","音半","図半","家半","体半","英半","道半","外半","総半","特半","委半","学半"]
[null,null,"A","月","火","水","木","金",null,"B","月","火","水","木","金",null,null,null,null,null,null,null,null,null,null,null,null,null,null,null,null,null,null,null,null,null,null,null,null,null,"リスト範囲"]
[null,null,1,{"$f":"'7月'!D3","v":"国語"},{"$f":"'7月'!E3","v":"社会"},{"$f":"'7月'!F3","v":"音楽"},{"$f":"'7月'!G3","v":"国語"},{"$f":"'7月'!H3","v":"総合"},null,1,{"$f":"'7月'!K3","v":"国語"},{"$f":"'7月'!L3","v":"社会"},{"$f":"'7月'!M3","v":"音楽"},{"$f":"'7月'!N3","v":"国語"},{"$f":"'7月'!O3","v":"総合"}]
[null,null,2,{"$f":"'7月'!D4","v":"算数"},{"$f":"'7月'!E4","v":"算数"},{"$f":"'7月'!F4","v":"社会"},{"$f":"'7月'!G4","v":"算数"},{"$f":"'7月'!H4","v":"算数"},null,2,{"$f":"'7月'!K4","v":"算数"},{"$f":"'7月'!L4","v":"算数"},{"$f":"'7月'!M4","v":"社会"},{"$f":"'7月'!N4","v":"算数"},{"$f":"'7月'!O4","v":"算数"}]
[null,null,3,{"$f":"'7月'!D5","v":"理科"},{"$f":"'7月'!E5","v":"家庭"},{"$f":"'7月'!F5","v":"英語"},{"$f":"'7月'!G5","v":"道徳"},{"$f":"'7月'!H5","v":"国語"},null,3,{"$f":"'7月'!K5","v":"理科"},{"$f":"'7月'!L5","v":"図工"},{"$f":"'7月'!M5","v":"英語"},{"$f":"'7月'!N5","v":"道徳"},{"$f":"'7月'!O5","v":"国語"}]
["記入済みセル",null,4,{"$f":"'7月'!D6","v":"理科"},{"$f":"'7月'!E6","v":"家庭"},{"$f":"'7月'!F6","v":"算数"},{"$f":"'7月'!G6","v":"総合"},{"$f":"'7月'!H6","v":"音楽"},null,4,{"$f":"'7月'!K6","v":"理科"},{"$f":"'7月'!L6","v":"図工"},{"$f":"'7月'!M6","v":"算数"},{"$f":"'7月'!N6","v":"総合"},{"$f":"'7月'!O6","v":"家庭"}]
[{"$f":"COUNTIF(E11:R41,\"*?\")","v":0},null,5,{"$f":"'7月'!D7","v":"社会"},{"$f":"'7月'!E7","v":"国語"},{"$f":"'7月'!F7","v":"国語"},{"$f":"'7月'!G7","v":"理科"},{"$f":"'7月'!H7","v":"体育"},null,5,{"$f":"'7月'!K7","v":"社会"},{"$f":"'7月'!L7","v":"国語"},{"$f":"'7月'!M7","v":"国語"},{"$f":"'7月'!N7","v":"理科"},{"$f":"'7月'!O7","v":"体育"}]
[null,null,6,{"$f":"'7月'!D8","v":"英語"},{"$f":"'7月'!E8","v":"体育"},{"$f":"'7月'!F8","v":0},{"$f":"'7月'!G8","v":"体育"},{"$f":"'7月'!H8","v":"特活"},null,6,{"$f":"'7月'!K8","v":"英語"},{"$f":"'7月'!L8","v":"体育"},{"$f":"'7月'!M8","v":0},{"$f":"'7月'!N8","v":"体育"},{"$f":"'7月'!O8","v":"特活"}]
[]
[null,"AB","月日","曜日",1,null,2,null,3,null,4,null,5,null,6,null,"学校行事",null,null,null,"追加",null,"計","１h","0.5h",null,"転記用"]
[null,null,{"$f":"DATE(年度,8,1)","v":"2021-08-01"},{"$f":"TEXT(C11,\"aaa\")","v":"日"},null,null,null,null,null,null,null,null,null,null,null,null,null,null,null,"各教科など",null,"国語",{"$f":"X11+Y11*0.5+U11","v":0},{"$f":"COUNTIF($E$11:$P$41,$V11)","v":0},{"$f":"COUNTIF($E$11:$P$41,$Z11)","v":0},"国半"]
[null,null,{"$f":"C11+1","v":"2021-08-02"},"月",null,null,null,null,null,null,null,null,null,null,null,null,null,null,null,null,null,"社会",0,0,0,"社半"]
[null,null,"2021-08-03","火",null,null,null,null,null,null,null,null,null,null,null,null,null,null,null,null,null,"算数",0,0,0,"算半"]
[null,null,"2021-08-04","水",null,null,null,null,null,null,null,null,null,null,null,null,null,null,null,null,null,"理科",0,0,0,"理半"]
[null,null,"2021-08-05","木",null,null,null,null,null,null,null,null,null,null,null,null,null,null,null,null,null,"生活",0,0,0,"生半"]
[null,null,"2021-08-06","金",null,null,null,null,null,null,null,null,null,null,null,null,null,null,null,null,null,"音楽",0,0,0,"音半"]
[null,null,"2021-08-07","土",null,null,null,null,null,null,null,null,null,null,null,null,null,null,null,null,null,"図工",0,0,0,"図半"]
[null,null,"2021-08-08","日",null,null,null,null,null,null,null,null,null,null,null,null,null,null,null,null,null,"家庭",0,0,0,"家半"]
[null,null,"2021-08-09","月",null,null,null,null,null,null,null,null,null,null,null,null,null,null,null,null,null,"体育",0,0,0,"体半"]
[null,null,"2021-08-10","火",null,null,null,null,null,null,null,null,null,null,null,null,null,null,null,null,null,"英語",0,0,0,"英半"]
[null,null,"2021-08-11","水",null,null,null,null,null,null,null,null,null,null,null,null,null,null,null,null,null,"道徳",{"$f":"X21+Y21*0.5+U21","v":0},0,0,"道半"]
[null,null,"2021-08-12","木",null,null,null,null,null,null,null,null,null,null,null,null,null,null,null,null,null,"外国",{"$f":"X22+Y22*0.5+U22","v":0},0,0,"外半"]
[null,null,"2021-08-13","金",null,null,null,null,null,null,null,null,null,null,null,null,null,null,null,null,null,"総合",{"$f":"X23+Y23*0.5+U23","v":0},0,0,"総半"]
[null,null,"2021-08-14","土",null,null,null,null,null,null,null,null,null,null,null,null,null,null,null,"特活",null,"特活",{"$f":"X24+Y24*0.5+U24","v":0},0,0,"特半"]
[null,null,"2021-08-15","日",null,null,null,null,null,null,null,null,null,null,null,null,null,null,null,null,null,"合計",{"$f":"SUM(W11:W24)","v":0}]
[null,null,"2021-08-16","月",null,null,null,null,null,null,null,null,null,null,null,null,null,null,null,null,null,"学校",{"$f":"X26+Y26*0.5+U26","v":0},{"$f":"COUNTIF($E$11:$P$41,$V26)","v":0},{"$f":"COUNTIF($E$11:$P$41,$Z26)","v":0},"学半"]
[null,null,"2021-08-17","火",null,null,null,null,null,null,null,null,null,null,null,null,null,null,null,null,null,"委員",{"$f":"X27+Y27*0.5+U27","v":0},{"$f":"COUNTIF($E$11:$P$41,$V27)","v":0},{"$f":"COUNTIF($E$11:$P$41,$Z27)","v":0},"委半"]
[null,null,"2021-08-18","水"]
[null,null,"2021-08-19","木"]
[null,null,"2021-08-20","金"]
[null,null,"2021-08-21","土"]
[null,null,"2021-08-22","日"]
[null,null,"2021-08-23","月"]
[null,null,"2021-08-24","火"]
[null,null,"2021-08-25",{"$f":"TEXT(C35,\"aaa\")","v":"水"}]
[null,null,"2021-08-26",{"$f":"TEXT(C36,\"aaa\")","v":"木"}]
[null,null,"2021-08-27",{"$f":"TEXT(C37,\"aaa\")","v":"金"}]
[null,null,"2021-08-28","土"]
[null,null,"2021-08-29","日"]
[null,null,{"$f":"C39+1","v":"2021-08-30"},"月"]
[null,null,{"$f":"C40+1","v":"2021-08-31"},"火"]
[]
[]
[]
[]
[]
[]
[]
[]
[]
[]
[]
[]
[]
[]
[]
[]
[]
[]
[]
[]
[]
[]
[]
[]
[]
[]
[]
[]
[]
[]
[]
[]
[]
[]
[]
[]
[]
[]
[]
[]
[]
[]
[]
[]
[]
[]
[]
[]
[]
[]
[]
[]
[]
[]
[null,null,null,null,null,null,null,null,null,null,null,null,null,null,null,null,null,{"$f":"SUM(Q67:Q96)","v":0}]

{"sheet":"9月","index":8,"n_rows":96,"n_cols":72,"rows_kept":96,"cut":false,"hidden":false,"merged":[[19,16,19,17],[20,16,20,17],[22,16,22,17],[13,16,13,17],[14,16,14,17],[15,16,15,17],[16,16,16,17],[17,16,17,17],[9,4,9,5],[9,6,9,7],[9,8,9,9],[9,10,9,11],[10,16,10,17],[9,12,9,13],[9,14,9,15],[9,16,9,17],[39,16,39,17],[31,16,31,17],[32,16,32,17],[33,16,33,17],[34,16,34,17],[35,16,35,17],[10,19,20,19],[36,16,36,17],[37,16,37,17],[38,16,38,17],[26,16,26,17],[27,16,27,17],[28,16,28,17],[29,16,29,17],[30,16,30,17],[21,16,21,17],[23,16,23,17],[24,16,24,17],[25,16,25,17],[11,16,11,17],[12,16,12,17],[18,16,18,17]]}
[null,9,"月","時間割変更があれば入力",null,null,null,null,null,null,null,null,null,null,null,null,null,null,null,null,null,null,null,null,null,null,null,null,null,null,null,null,null,null,null,null,null,null,null,null,"国語","社会","算数","理科","生活","音楽","図工","家庭","体育","英語","道徳","外国","総合","特活","委員","学校","国半","社半","算半","理半","生半","音半","図半","家半","体半","英半","道半","外半","総半","特半","委半","学半"]
[null,null,"A","月","火","水","木","金",null,"B","月","火","水","木","金",null,null,null,null,null,null,null,null,null,null,null,null,null,null,null,null,null,null,null,null,null,null,null,null,null,"リスト範囲"]
[null,null,1,{"$f":"'7月'!D3","v":"国語"},{"$f":"'7月'!E3","v":"社会"},{"$f":"'7月'!F3","v":"音楽"},{"$f":"'7月'!G3","v":"国語"},{"$f":"'7月'!H3","v":"総合"},null,1,{"$f":"'7月'!K3","v":"国語"},{"$f":"'7月'!L3","v":"社会"},{"$f":"'7月'!M3","v":"音楽"},{"$f":"'7月'!N3","v":"国語"},{"$f":"'7月'!O3","v":"総合"}]
[null,null,2,{"$f":"'7月'!D4","v":"算数"},{"$f":"'7月'!E4","v":"算数"},{"$f":"'7月'!F4","v":"社会"},{"$f":"'7月'!G4","v":"算数"},{"$f":"'7月'!H4","v":"算数"},null,2,{"$f":"'7月'!K4","v":"算数"},{"$f":"'7月'!L4","v":"算数"},{"$f":"'7月'!M4","v":"社会"},{"$f":"'7月'!N4","v":"算数"},{"$f":"'7月'!O4","v":"算数"}]
[null,null,3,{"$f":"'7月'!D5","v":"理科"},{"$f":"'7月'!E5","v":"家庭"},{"$f":"'7月'!F5","v":"英語"},{"$f":"'7月'!G5","v":"道徳"},{"$f":"'7月'!H5","v":"国語"},null,3,{"$f":"'7月'!K5","v":"理科"},{"$f":"'7月'!L5","v":"図工"},{"$f":"'7月'!M5","v":"英語"},{"$f":"'7月'!N5","v":"道徳"},{"$f":"'7月'!O5","v":"国語"}]
["記入済みセル",null,4,{"$f":"'7月'!D6","v":"理科"},{"$f":"'7月'!E6","v":"家庭"},{"$f":"'7月'!F6","v":"算数"},{"$f":"'7月'!G6","v":"総合"},{"$f":"'7月'!H6","v":"音楽"},null,4,{"$f":"'7月'!K6","v":"理科"},{"$f":"'7月'!L6","v":"図工"},{"$f":"'7月'!M6","v":"算数"},{"$f":"'7月'!N6","v":"総合"},{"$f":"'7月'!O6","v":"家庭"}]
[{"$f":"COUNTIF(E11:R41,\"*?\")","v":0},null,5,{"$f":"'7月'!D7","v":"社会"},{"$f":"'7月'!E7","v":"国語"},{"$f":"'7月'!F7","v":"国語"},{"$f":"'7月'!G7","v":"理科"},{"$f":"'7月'!H7","v":"体育"},null,5,{"$f":"'7月'!K7","v":"社会"},{"$f":"'7月'!L7","v":"国語"},{"$f":"'7月'!M7","v":"国語"},{"$f":"'7月'!N7","v":"理科"},{"$f":"'7月'!O7","v":"体育"}]
[null,null,6,{"$f":"'7月'!D8","v":"英語"},{"$f":"'7月'!E8","v":"体育"},{"$f":"'7月'!F8","v":0},{"$f":"'7月'!G8","v":"体育"},{"$f":"'7月'!H8","v":"特活"},null,6,{"$f":"'7月'!K8","v":"英語"},{"$f":"'7月'!L8","v":"体育"},{"$f":"'7月'!M8","v":0},{"$f":"'7月'!N8","v":"体育"},{"$f":"'7月'!O8","v":"特活"}]
[]
[null,"AB","月日","曜日",1,null,2,null,3,null,4,null,5,null,6,null,"学校行事",null,null,null,"追加",null,"計","１h","0.5h",null,"転記用"]
[null,null,{"$f":"DATE(年度,9,1)","v":"2021-09-01"},{"$f":"TEXT(C11,\"aaa\")","v":"水"},null,null,null,null,null,null,null,null,null,null,null,null,null,null,null,"各教科など",null,"国語",{"$f":"X11+Y11*0.5+U11","v":0},{"$f":"COUNTIF($E$11:$P$40,$V11)","v":0},{"$f":"COUNTIF($E$11:$P$40,$Z11)","v":0},"国半",34]
[null,null,{"$f":"C11+1","v":"2021-09-02"},{"$f":"TEXT(C12,\"aaa\")","v":"木"},null,null,null,null,null,null,null,null,null,null,null,null,null,null,null,null,null,"社会",0,0,0,"社半",8]
[null,null,"2021-09-03","金",null,null,null,null,null,null,null,null,null,null,null,null,null,null,null,null,null,"算数",0,0,0,"算半",22]
[null,null,"2021-09-04","土",null,null,null,null,null,null,null,null,null,null,null,null,null,null,null,null,null,"理科",0,0,0,"理半",10]
[null,null,"2021-09-05","日",null,null,null,null,null,null,null,null,null,null,null,null,null,null,null,null,null,"生活",0,0,0,"生半",0]
[null,null,"2021-09-06","月",null,null,null,null,null,null,null,null,null,null,null,null,null,null,null,null,null,"音楽",0,0,0,"音半",2]
[null,null,"2021-09-07","火",null,null,null,null,null,null,null,null,null,null,null,null,null,null,null,null,null,"図工",0,0,0,"図半",6]
[null,null,"2021-09-08","水",null,null,null,null,null,null,null,null,null,null,null,null,null,null,null,null,null,"家庭",0,0,0,"家半",4]
[null,null,"2021-09-09","木",null,null,null,null,null,null,null,null,null,null,null,null,null,null,null,null,null,"体育",0,0,0,"体半",4]
[null,null,"2021-09-10","金",null,null,null,null,null,null,null,null,null,null,null,null,null,null,null,null,null,"英語",0,0,0,"英半",8]
[null,null,"2021-09-11","土",null,null,null,null,null,null,null,null,null,null,null,null,null,null,null,null,null,"道徳",{"$f":"X21+Y21*0.5+U21","v":0},{"$f":"COUNTIF($E$11:$P$40,$V21)","v":0},{"$f":"COUNTIF($E$11:$P$40,$Z21)","v":0},"道半",4]
[null,null,"2021-09-12","日",null,null,null,null,null,null,null,null,null,null,null,null,null,null,null,null,null,"外国",{"$f":"X22+Y22*0.5+U22","v":0},{"$f":"COUNTIF($E$11:$P$40,$V22)","v":0},{"$f":"COUNTIF($E$11:$P$40,$Z22)","v":0},"外半",4]
[null,null,"2021-09-13","月",null,null,null,null,null,null,null,null,null,null,null,null,null,null,null,null,null,"総合",{"$f":"X23+Y23*0.5+U23","v":0},{"$f":"COUNTIF($E$11:$P$40,$V23)","v":0},{"$f":"COUNTIF($E$11:$P$40,$Z23)","v":0},"総半",0]
[null,null,"2021-09-14","火",null,null,null,null,null,null,null,null,null,null,null,null,null,null,null,"特活",null,"特活",{"$f":"X24+Y24*0.5+U24","v":0},{"$f":"COUNTIF($E$11:$P$40,$V24)","v":0},{"$f":"COUNTIF($E$11:$P$40,$Z24)","v":0},"特半",4]
[null,null,"2021-09-15","水",null,null,null,null,null,null,null,null,null,null,null,null,null,null,null,null,null,"合計",{"$f":"SUM(W11:W24)","v":0},null,null,null,110]
[null,null,"2021-09-16","木",null,null,null,null,null,null,null,null,null,null,null,null,null,null,null,null,null,"学校",{"$f":"X26+Y26*0.5+U26","v":0},{"$f":"COUNTIF($E$11:$P$40,$V26)","v":0},{"$f":"COUNTIF($E$11:$P$40,$Z26)","v":0},"学半"]
[null,null,"2021-09-17","金",null,null,null,null,null,null,null,null,null,null,null,null,null,null,null,null,null,"委員",{"$f":"X27+Y27*0.5+U27","v":0},{"$f":"COUNTIF($E$11:$P$40,$V27)","v":0},{"$f":"COUNTIF($E$11:$P$40,$Z27)","v":0},"委半"]
[null,null,"2021-09-18","土"]
[null,null,"2021-09-19","日"]
[null,null,"2021-09-20","月"]
[null,null,"2021-09-21","火"]
[null,null,"2021-09-22","水"]
[null,null,"2021-09-23","木"]
[null,null,"2021-09-24","金"]
[null,null,"2021-09-25","土"]
[null,null,"2021-09-26","日"]
[null,null,"2021-09-27","月"]
[null,null,"2021-09-28","火"]
[null,null,"2021-09-29","水"]
[null,null,{"$f":"C39+1","v":"2021-09-30"},"木"]
[]
[]
[]
[]
[]
[]
[]
[]
[]
[]
[]
[]
[]
[]
[]
[]
[]
[]
[]
[]
[]
[]
[]
[]
[]
[]
[]
[]
[]
[]
[]
[]
[]
[]
[]
[]
[]
[]
[]
[]
[]
[]
[]
[]
[]
[]
[]
[]
[]
[]
[]
[]
[]
[]
[]
[null,null,null,null,null,null,null,null,null,null,null,null,null,null,null,null,null,{"$f":"SUM(Q67:Q96)","v":0}]

{"sheet":"10月","index":9,"n_rows":97,"n_cols":72,"rows_kept":97,"cut":false,"hidden":false,"merged":[[16,16,16,17],[17,16,17,17],[18,16,18,17],[19,16,19,17],[10,19,20,19],[11,16,11,17],[12,16,12,17],[13,16,13,17],[14,16,14,17],[15,16,15,17],[20,16,20,17],[9,4,9,5],[9,6,9,7],[9,8,9,9],[9,10,9,11],[10,16,10,17],[9,12,9,13],[9,14,9,15],[9,16,9,17],[40,16,40,17],[31,16,31,17],[32,16,32,17],[33,16,33,17],[34,16,34,17],[35,16,35,17],[36,16,36,17],[37,16,37,17],[38,16,38,17],[39,16,39,17],[26,16,26,17],[27,16,27,17],[28,16,28,17],[29,16,29,17],[30,16,30,17],[21,16,21,17],[22,16,22,17],[23,16,23,17],[24,16,24,17],[25,16,25,17]]}
[null,10,"月","時間割変更があれば入力",null,null,null,null,null,null,null,null,null,null,null,null,null,null,null,null,null,null,null,null,null,null,null,null,null,null,null,null,null,null,null,null,null,null,null,null,"国語","社会","算数","理科","生活","音楽","図工","家庭","体育","英語","道徳","外国","総合","特活","委員","学校","国半","社半","算半","理半","生半","音半","図半","家半","体半","英半","道半","外半","総半","特半","委半","学半"]
[null,null,"A","月","火","水","木","金",null,"B","月","火","水","木","金",null,null,null,null,null,null,null,null,null,null,null,null,null,null,null,null,null,null,null,null,null,null,null,null,null,"リスト範囲"]
[null,null,1,{"$f":"'9月'!D3","v":"国語"},{"$f":"'9月'!E3","v":"社会"},{"$f":"'9月'!F3","v":"音楽"},{"$f":"'9月'!G3","v":"国語"},{"$f":"'9月'!H3","v":"総合"},null,1,{"$f":"'9月'!K3","v":"国語"},{"$f":"'9月'!L3","v":"社会"},{"$f":"'9月'!M3","v":"音楽"},{"$f":"'9月'!N3","v":"国語"},{"$f":"'9月'!O3","v":"総合"}]
[null,null,2,{"$f":"'9月'!D4","v":"算数"},{"$f":"'9月'!E4","v":"算数"},{"$f":"'9月'!F4","v":"社会"},{"$f":"'9月'!G4","v":"算数"},{"$f":"'9月'!H4","v":"算数"},null,2,{"$f":"'9月'!K4","v":"算数"},{"$f":"'9月'!L4","v":"算数"},{"$f":"'9月'!M4","v":"社会"},{"$f":"'9月'!N4","v":"算数"},{"$f":"'9月'!O4","v":"算数"}]
[null,null,3,{"$f":"'9月'!D5","v":"理科"},{"$f":"'9月'!E5","v":"家庭"},{"$f":"'9月'!F5","v":"英語"},{"$f":"'9月'!G5","v":"道徳"},{"$f":"'9月'!H5","v":"国語"},null,3,{"$f":"'9月'!K5","v":"理科"},{"$f":"'9月'!L5","v":"図工"},{"$f":"'9月'!M5","v":"英語"},{"$f":"'9月'!N5","v":"道徳"},{"$f":"'9月'!O5","v":"国語"}]
["記入済みセル",null,4,{"$f":"'9月'!D6","v":"理科"},{"$f":"'9月'!E6","v":"家庭"},{"$f":"'9月'!F6","v":"算数"},{"$f":"'9月'!G6","v":"総合"},{"$f":"'9月'!H6","v":"音楽"},null,4,{"$f":"'9月'!K6","v":"理科"},{"$f":"'9月'!L6","v":"図工"},{"$f":"'9月'!M6","v":"算数"},{"$f":"'9月'!N6","v":"総合"},{"$f":"'9月'!O6","v":"家庭"}]
[{"$f":"COUNTIF(E11:R41,\"*?\")","v":0},null,5,{"$f":"'9月'!D7","v":"社会"},{"$f":"'9月'!E7","v":"国語"},{"$f":"'9月'!F7","v":"国語"},{"$f":"'9月'!G7","v":"理科"},{"$f":"'9月'!H7","v":"体育"},null,5,{"$f":"'9月'!K7","v":"社会"},{"$f":"'9月'!L7","v":"国語"},{"$f":"'9月'!M7","v":"国語"},{"$f":"'9月'!N7","v":"理科"},{"$f":"'9月'!O7","v":"体育"}]
[null,null,6,{"$f":"'9月'!D8","v":"英語"},{"$f":"'9月'!E8","v":"体育"},{"$f":"'9月'!F8","v":0},{"$f":"'9月'!G8","v":"体育"},{"$f":"'9月'!H8","v":"特活"},null,6,{"$f":"'9月'!K8","v":"英語"},{"$f":"'9月'!L8","v":"体育"},{"$f":"'9月'!M8","v":0},{"$f":"'9月'!N8","v":"体育"},{"$f":"'9月'!O8","v":"特活"}]
[]
[null,"AB","月日","曜日",1,null,2,null,3,null,4,null,5,null,6,null,"学校行事",null,null,null,"追加",null,"計","１h","0.5h",null,"転記用"]
[null,null,{"$f":"DATE(年度,10,1)","v":"2021-10-01"},{"$f":"TEXT(C11,\"aaa\")","v":"金"},null,null,null,null,null,null,null,null,null,null,null,null,null,null,null,"各教科など",null,"国語",{"$f":"X11+Y11*0.5+U11","v":0},{"$f":"COUNTIF($E$11:$P$41,$V11)","v":0},{"$f":"COUNTIF($E$11:$P$41,$Z11)","v":0},"国半"]
[null,null,{"$f":"C11+1","v":"2021-10-02"},"土",null,null,null,null,null,null,null,null,null,null,null,null,null,null,null,null,null,"社会",0,0,0,"社半"]
[null,null,"2021-10-03","日",null,null,null,null,null,null,null,null,null,null,null,null,null,null,null,null,null,"算数",0,0,0,"算半"]
[null,null,"2021-10-04","月",null,null,null,null,null,null,null,null,null,null,null,null,null,null,null,null,null,"理科",0,0,0,"理半"]
[null,null,"2021-10-05","火",null,null,null,null,null,null,null,null,null,null,null,null,null,null,null,null,null,"生活",0,0,0,"生半"]
[null,null,"2021-10-06","水",null,null,null,null,null,null,null,null,null,null,null,null,null,null,null,null,null,"音楽",0,0,0,"音半"]
[null,null,"2021-10-07","木",null,null,null,null,null,null,null,null,null,null,null,null,null,null,null,null,null,"図工",0,0,0,"図半"]
[null,null,"2021-10-08","金",null,null,null,null,null,null,null,null,null,null,null,null,null,null,null,null,null,"家庭",0,0,0,"家半"]
[null,null,"2021-10-09","土",null,null,null,null,null,null,null,null,null,null,null,null,null,null,null,null,null,"体育",0,0,0,"体半"]
[null,null,"2021-10-10","日",null,null,null,null,null,null,null,null,null,null,null,null,null,null,null,null,null,"英語",0,0,0,"英半"]
[null,null,"2021-10-11","月",null,null,null,null,null,null,null,null,null,null,null,null,null,null,null,null,null,"道徳",{"$f":"X21+Y21*0.5+U21","v":0},0,0,"道半"]
[null,null,"2021-10-12","火",null,null,null,null,null,null,null,null,null,null,null,null,null,null,null,null,null,"外国",{"$f":"X22+Y22*0.5+U22","v":0},0,0,"外半"]
[null,null,"2021-10-13","水",null,null,null,null,null,null,null,null,null,null,null,null,null,null,null,null,null,"総合",{"$f":"X23+Y23*0.5+U23","v":0},0,0,"総半"]
[null,null,"2021-10-14","木",null,null,null,null,null,null,null,null,null,null,null,null,null,null,null,"特活",null,"特活",{"$f":"X24+Y24*0.5+U24","v":0},0,0,"特半"]
[null,null,"2021-10-15","金",null,null,null,null,null,null,null,null,null,null,null,null,null,null,null,null,null,"合計",{"$f":"SUM(W11:W24)","v":0}]
[null,null,"2021-10-16","土",null,null,null,null,null,null,null,null,null,null,null,null,null,null,null,null,null,"学校",{"$f":"X26+Y26*0.5+U26","v":0},{"$f":"COUNTIF($E$11:$P$41,$V26)","v":0},{"$f":"COUNTIF($E$11:$P$41,$Z26)","v":0},"学半"]
[null,null,"2021-10-17","日",null,null,null,null,null,null,null,null,null,null,null,null,null,null,null,null,null,"委員",{"$f":"X27+Y27*0.5+U27","v":0},{"$f":"COUNTIF($E$11:$P$41,$V27)","v":0},{"$f":"COUNTIF($E$11:$P$41,$Z27)","v":0},"委半"]
[null,null,"2021-10-18","月"]
[null,null,"2021-10-19","火"]
[null,null,"2021-10-20","水"]
[null,null,"2021-10-21","木"]
[null,null,"2021-10-22","金"]
[null,null,"2021-10-23","土"]
[null,null,"2021-10-24","日"]
[null,null,"2021-10-25","月"]
[null,null,"2021-10-26","火"]
[null,null,"2021-10-27","水"]
[null,null,"2021-10-28","木"]
[null,null,"2021-10-29","金"]
[null,null,"2021-10-30","土"]
[null,null,"2021-10-31","日"]
[]
[]
[]
[]
[]
[]
[]
[]
[]
[]
[]
[]
[]
[]
[]
[]
[]
[]
[]
[]
[]
[]
[]
[]
[]
[]
[]
[]
[]
[]
[]
[]
[]
[]
[]
[]
[]
[]
[]
[]
[]
[]
[]
[]
[]
[]
[]
[]
[]
[]
[]
[]
[]
[]
[]
[null,null,null,null,null,null,null,null,null,null,null,null,null,null,null,null,null,{"$f":"SUM(Q68:Q97)","v":0}]

{"sheet":"11月","index":10,"n_rows":96,"n_cols":72,"rows_kept":96,"cut":false,"hidden":false,"merged":[[19,16,19,17],[20,16,20,17],[22,16,22,17],[13,16,13,17],[14,16,14,17],[15,16,15,17],[16,16,16,17],[17,16,17,17],[9,4,9,5],[9,6,9,7],[9,8,9,9],[9,10,9,11],[10,16,10,17],[9,12,9,13],[9,14,9,15],[9,16,9,17],[39,16,39,17],[31,16,31,17],[32,16,32,17],[33,16,33,17],[34,16,34,17],[35,16,35,17],[10,19,20,19],[36,16,36,17],[37,16,37,17],[38,16,38,17],[26,16,26,17],[27,16,27,17],[28,16,28,17],[29,16,29,17],[30,16,30,17],[21,16,21,17],[23,16,23,17],[24,16,24,17],[25,16,25,17],[11,16,11,17],[12,16,12,17],[18,16,18,17]]}
[null,11,"月","時間割変更があれば入力",null,null,null,null,null,null,null,null,null,null,null,null,null,null,null,null,null,null,null,null,null,null,null,null,null,null,null,null,null,null,null,null,null,null,null,null,"国語","社会","算数","理科","生活","音楽","図工","家庭","体育","英語","道徳","外国","総合","特活","委員","学校","国半","社半","算半","理半","生半","音半","図半","家半","体半","英半","道半","外半","総半","特半","委半","学半"]
[null,null,"A","月","火","水","木","金",null,"B","月","火","水","木","金",null,null,null,null,null,null,null,null,null,null,null,null,null,null,null,null,null,null,null,null,null,null,null,null,null,"リスト範囲"]
[null,null,1,{"$f":"'10月'!D3","v":"国語"},{"$f":"'10月'!E3","v":"社会"},{"$f":"'10月'!F3","v":"音楽"},{"$f":"'10月'!G3","v":"国語"},{"$f":"'10月'!H3","v":"総合"},null,1,{"$f":"'10月'!K3","v":"国語"},{"$f":"'10月'!L3","v":"社会"},{"$f":"'10月'!M3","v":"音楽"},{"$f":"'10月'!N3","v":"国語"},{"$f":"'10月'!O3","v":"総合"}]
[null,null,2,{"$f":"'10月'!D4","v":"算数"},{"$f":"'10月'!E4","v":"算数"},{"$f":"'10月'!F4","v":"社会"},{"$f":"'10月'!G4","v":"算数"},{"$f":"'10月'!H4","v":"算数"},null,2,{"$f":"'10月'!K4","v":"算数"},{"$f":"'10月'!L4","v":"算数"},{"$f":"'10月'!M4","v":"社会"},{"$f":"'10月'!N4","v":"算数"},{"$f":"'10月'!O4","v":"算数"}]
[null,null,3,{"$f":"'10月'!D5","v":"理科"},{"$f":"'10月'!E5","v":"家庭"},{"$f":"'10月'!F5","v":"英語"},{"$f":"'10月'!G5","v":"道徳"},{"$f":"'10月'!H5","v":"国語"},null,3,{"$f":"'10月'!K5","v":"理科"},{"$f":"'10月'!L5","v":"図工"},{"$f":"'10月'!M5","v":"英語"},{"$f":"'10月'!N5","v":"道徳"},{"$f":"'10月'!O5","v":"国語"}]
["記入済みセル",null,4,{"$f":"'10月'!D6","v":"理科"},{"$f":"'10月'!E6","v":"家庭"},{"$f":"'10月'!F6","v":"算数"},{"$f":"'10月'!G6","v":"総合"},{"$f":"'10月'!H6","v":"音楽"},null,4,{"$f":"'10月'!K6","v":"理科"},{"$f":"'10月'!L6","v":"図工"},{"$f":"'10月'!M6","v":"算数"},{"$f":"'10月'!N6","v":"総合"},{"$f":"'10月'!O6","v":"家庭"}]
[{"$f":"COUNTIF(E11:R41,\"*?\")","v":0},null,5,{"$f":"'10月'!D7","v":"社会"},{"$f":"'10月'!E7","v":"国語"},{"$f":"'10月'!F7","v":"国語"},{"$f":"'10月'!G7","v":"理科"},{"$f":"'10月'!H7","v":"体育"},null,5,{"$f":"'10月'!K7","v":"社会"},{"$f":"'10月'!L7","v":"国語"},{"$f":"'10月'!M7","v":"国語"},{"$f":"'10月'!N7","v":"理科"},{"$f":"'10月'!O7","v":"体育"}]
[null,null,6,{"$f":"'10月'!D8","v":"英語"},{"$f":"'10月'!E8","v":"体育"},{"$f":"'10月'!F8","v":0},{"$f":"'10月'!G8","v":"体育"},{"$f":"'10月'!H8","v":"特活"},null,6,{"$f":"'10月'!K8","v":"英語"},{"$f":"'10月'!L8","v":"体育"},{"$f":"'10月'!M8","v":0},{"$f":"'10月'!N8","v":"体育"},{"$f":"'10月'!O8","v":"特活"}]
[]
[null,"AB","月日","曜日",1,null,2,null,3,null,4,null,5,null,6,null,"学校行事",null,null,null,"追加",null,"計","１h","0.5h",null,"転記用"]
[null,null,{"$f":"DATE(年度,11,1)","v":"2021-11-01"},{"$f":"TEXT(C11,\"aaa\")","v":"月"},null,null,null,null,null,null,null,null,null,null,null,null,null,null,null,"各教科など",null,"国語",{"$f":"X11+Y11*0.5+U11","v":0},{"$f":"COUNTIF($E$11:$P$40,$V11)","v":0},{"$f":"COUNTIF($E$11:$P$40,$Z11)","v":0},"国半"]
[null,null,{"$f":"C11+1","v":"2021-11-02"},"火",null,null,null,null,null,null,null,null,null,null,null,null,null,null,null,null,null,"社会",0,0,0,"社半"]
[null,null,"2021-11-03","水",null,null,null,null,null,null,null,null,null,null,null,null,null,null,null,null,null,"算数",0,0,0,"算半"]
[null,null,"2021-11-04","木",null,null,null,null,null,null,null,null,null,null,null,null,null,null,null,null,null,"理科",0,0,0,"理半"]
[null,null,"2021-11-05","金",null,null,null,null,null,null,null,null,null,null,null,null,null,null,null,null,null,"生活",0,0,0,"生半"]
[null,null,"2021-11-06","土",null,null,null,null,null,null,null,null,null,null,null,null,null,null,null,null,null,"音楽",0,0,0,"音半"]
[null,null,"2021-11-07","日",null,null,null,null,null,null,null,null,null,null,null,null,null,null,null,null,null,"図工",0,0,0,"図半"]
[null,null,"2021-11-08","月",null,null,null,null,null,null,null,null,null,null,null,null,null,null,null,null,null,"家庭",0,0,0,"家半"]
[null,null,"2021-11-09","火",null,null,null,null,null,null,null,null,null,null,null,null,null,null,null,null,null,"体育",0,0,0,"体半"]
[null,null,"2021-11-10","水",null,null,null,null,null,null,null,null,null,null,null,null,null,null,null,null,null,"英語",0,0,0,"英半"]
[null,null,"2021-11-11","木",null,null,null,null,null,null,null,null,null,null,null,null,null,null,null,null,null,"道徳",{"$f":"X21+Y21*0.5+U21","v":0},{"$f":"COUNTIF($E$11:$P$40,$V21)","v":0},{"$f":"COUNTIF($E$11:$P$40,$Z21)","v":0},"道半"]
[null,null,"2021-11-12","金",null,null,null,null,null,null,null,null,null,null,null,null,null,null,null,null,null,"外国",{"$f":"X22+Y22*0.5+U22","v":0},{"$f":"COUNTIF($E$11:$P$40,$V22)","v":0},{"$f":"COUNTIF($E$11:$P$40,$Z22)","v":0},"外半"]
[null,null,"2021-11-13","土",null,null,null,null,null,null,null,null,null,null,null,null,null,null,null,null,null,"総合",{"$f":"X23+Y23*0.5+U23","v":0},{"$f":"COUNTIF($E$11:$P$40,$V23)","v":0},{"$f":"COUNTIF($E$11:$P$40,$Z23)","v":0},"総半"]
[null,null,"2021-11-14","日",null,null,null,null,null,null,null,null,null,null,null,null,null,null,null,"特活",null,"特活",{"$f":"X24+Y24*0.5+U24","v":0},{"$f":"COUNTIF($E$11:$P$40,$V24)","v":0},{"$f":"COUNTIF($E$11:$P$40,$Z24)","v":0},"特半"]
[null,null,"2021-11-15","月",null,null,null,null,null,null,null,null,null,null,null,null,null,null,null,null,null,"合計",{"$f":"SUM(W11:W24)","v":0}]
[null,null,"2021-11-16","火",null,null,null,null,null,null,null,null,null,null,null,null,null,null,null,null,null,"学校",{"$f":"X26+Y26*0.5+U26","v":0},{"$f":"COUNTIF($E$11:$P$40,$V26)","v":0},{"$f":"COUNTIF($E$11:$P$40,$Z26)","v":0},"学半"]
[null,null,"2021-11-17","水",null,null,null,null,null,null,null,null,null,null,null,null,null,null,null,null,null,"委員",{"$f":"X27+Y27*0.5+U27","v":0},{"$f":"COUNTIF($E$11:$P$40,$V27)","v":0},{"$f":"COUNTIF($E$11:$P$40,$Z27)","v":0},"委半"]
[null,null,"2021-11-18","木"]
[null,null,"2021-11-19","金"]
[null,null,"2021-11-20","土"]
[null,null,"2021-11-21","日"]
[null,null,"2021-11-22","月"]
[null,null,"2021-11-23","火"]
[null,null,"2021-11-24","水"]
[null,null,"2021-11-25","木"]
[null,null,"2021-11-26","金"]
[null,null,"2021-11-27","土"]
[null,null,"2021-11-28","日"]
[null,null,"2021-11-29","月"]
[null,null,"2021-11-30","火"]
[]
[]
[]
[]
[]
[]
[]
[]
[]
[]
[]
[]
[]
[]
[]
[]
[]
[]
[]
[]
[]
[]
[]
[]
[]
[]
[]
[]
[]
[]
[]
[]
[]
[]
[]
[]
[]
[]
[]
[]
[]
[]
[]
[]
[]
[]
[]
[]
[]
[]
[]
[]
[]
[]
[]
[null,null,null,null,null,null,null,null,null,null,null,null,null,null,null,null,null,{"$f":"SUM(Q67:Q96)","v":0}]

{"sheet":"12月","index":11,"n_rows":85,"n_cols":72,"rows_kept":85,"cut":false,"hidden":false,"merged":[[16,16,16,17],[17,16,17,17],[18,16,18,17],[19,16,19,17],[10,19,20,19],[11,16,11,17],[12,16,12,17],[13,16,13,17],[14,16,14,17],[15,16,15,17],[20,16,20,17],[9,4,9,5],[9,6,9,7],[9,8,9,9],[9,10,9,11],[10,16,10,17],[9,12,9,13],[9,14,9,15],[9,16,9,17],[40,16,40,17],[31,16,31,17],[32,16,32,17],[33,16,33,17],[34,16,34,17],[35,16,35,17],[36,16,36,17],[37,16,37,17],[38,16,38,17],[39,16,39,17],[26,16,26,17],[27,16,27,17],[28,16,28,17],[29,16,29,17],[30,16,30,17],[21,16,21,17],[22,16,22,17],[23,16,23,17],[24,16,24,17],[25,16,25,17]]}
[null,12,"月","時間割変更があれば入力",null,null,null,null,null,null,null,null,null,null,null,null,null,null,null,null,null,null,null,null,null,null,null,null,null,null,null,null,null,null,null,null,null,null,null,null,"国語","社会","算数","理科","生活","音楽","図工","家庭","体育","英語","道徳","外国","総合","特活","委員","学校","国半","社半","算半","理半","生半","音半","図半","家半","体半","英半","道半","外半","総半","特半","委半","学半"]
[null,null,"A","月","火","水","木","金",null,"B","月","火","水","木","金",null,null,null,null,null,null,null,null,null,null,null,null,null,null,null,null,null,null,null,null,null,null,null,null,null,"リスト範囲"]
[null,null,1,{"$f":"'11月'!D3","v":"国語"},{"$f":"'11月'!E3","v":"社会"},{"$f":"'11月'!F3","v":"音楽"},{"$f":"'11月'!G3","v":"国語"},{"$f":"'11月'!H3","v":"総合"},null,1,{"$f":"'11月'!K3","v":"国語"},{"$f":"'11月'!L3","v":"社会"},{"$f":"'11月'!M3","v":"音楽"},{"$f":"'11月'!N3","v":"国語"},{"$f":"'11月'!O3","v":"総合"}]
[null,null,2,{"$f":"'11月'!D4","v":"算数"},{"$f":"'11月'!E4","v":"算数"},{"$f":"'11月'!F4","v":"社会"},{"$f":"'11月'!G4","v":"算数"},{"$f":"'11月'!H4","v":"算数"},null,2,{"$f":"'11月'!K4","v":"算数"},{"$f":"'11月'!L4","v":"算数"},{"$f":"'11月'!M4","v":"社会"},{"$f":"'11月'!N4","v":"算数"},{"$f":"'11月'!O4","v":"算数"}]
[null,null,3,{"$f":"'11月'!D5","v":"理科"},{"$f":"'11月'!E5","v":"家庭"},{"$f":"'11月'!F5","v":"英語"},{"$f":"'11月'!G5","v":"道徳"},{"$f":"'11月'!H5","v":"国語"},null,3,{"$f":"'11月'!K5","v":"理科"},{"$f":"'11月'!L5","v":"図工"},{"$f":"'11月'!M5","v":"英語"},{"$f":"'11月'!N5","v":"道徳"},{"$f":"'11月'!O5","v":"国語"}]
["記入済みセル",null,4,{"$f":"'11月'!D6","v":"理科"},{"$f":"'11月'!E6","v":"家庭"},{"$f":"'11月'!F6","v":"算数"},{"$f":"'11月'!G6","v":"総合"},{"$f":"'11月'!H6","v":"音楽"},null,4,{"$f":"'11月'!K6","v":"理科"},{"$f":"'11月'!L6","v":"図工"},{"$f":"'11月'!M6","v":"算数"},{"$f":"'11月'!N6","v":"総合"},{"$f":"'11月'!O6","v":"家庭"}]
[{"$f":"COUNTIF(E11:R41,\"*?\")","v":0},null,5,{"$f":"'11月'!D7","v":"社会"},{"$f":"'11月'!E7","v":"国語"},{"$f":"'11月'!F7","v":"国語"},{"$f":"'11月'!G7","v":"理科"},{"$f":"'11月'!H7","v":"体育"},null,5,{"$f":"'11月'!K7","v":"社会"},{"$f":"'11月'!L7","v":"国語"},{"$f":"'11月'!M7","v":"国語"},{"$f":"'11月'!N7","v":"理科"},{"$f":"'11月'!O7","v":"体育"}]
[null,null,6,{"$f":"'11月'!D8","v":"英語"},{"$f":"'11月'!E8","v":"体育"},{"$f":"'11月'!F8","v":0},{"$f":"'11月'!G8","v":"体育"},{"$f":"'11月'!H8","v":"特活"},null,6,{"$f":"'11月'!K8","v":"英語"},{"$f":"'11月'!L8","v":"体育"},{"$f":"'11月'!M8","v":0},{"$f":"'11月'!N8","v":"体育"},{"$f":"'11月'!O8","v":"特活"}]
[]
[null,"AB","月日","曜日",1,null,2,null,3,null,4,null,5,null,6,null,"学校行事",null,null,null,"追加",null,"計","１h","0.5h",null,"転記用"]
[null,null,{"$f":"DATE(年度,12,1)","v":"2021-12-01"},{"$f":"TEXT(C11,\"aaa\")","v":"水"},null,null,null,null,null,null,null,null,null,null,null,null,null,null,null,"各教科など",null,"国語",{"$f":"X11+Y11*0.5+U11","v":0},{"$f":"COUNTIF($E$11:$P$41,$V11)","v":0},{"$f":"COUNTIF($E$11:$P$41,$Z11)","v":0},"国半"]
[null,null,{"$f":"C11+1","v":"2021-12-02"},"木",null,null,null,null,null,null,null,null,null,null,null,null,null,null,null,null,null,"社会",0,0,0,"社半"]
[null,null,"2021-12-03","金",null,null,null,null,null,null,null,null,null,null,null,null,null,null,null,null,null,"算数",0,0,0,"算半"]
[null,null,"2021-12-04","土",null,null,null,null,null,null,null,null,null,null,null,null,null,null,null,null,null,"理科",0,0,0,"理半"]
[null,null,"2021-12-05","日",null,null,null,null,null,null,null,null,null,null,null,null,null,null,null,null,null,"生活",0,0,0,"生半"]
[null,null,"2021-12-06","月",null,null,null,null,null,null,null,null,null,null,null,null,null,null,null,null,null,"音楽",0,0,0,"音半"]
[null,null,"2021-12-07","火",null,null,null,null,null,null,null,null,null,null,null,null,null,null,null,null,null,"図工",0,0,0,"図半"]
[null,null,"2021-12-08","水",null,null,null,null,null,null,null,null,null,null,null,null,null,null,null,null,null,"家庭",0,0,0,"家半"]
[null,null,"2021-12-09","木",null,null,null,null,null,null,null,null,null,null,null,null,null,null,null,null,null,"体育",0,0,0,"体半"]
[null,null,"2021-12-10","金",null,null,null,null,null,null,null,null,null,null,null,null,null,null,null,null,null,"英語",0,0,0,"英半"]
[null,null,"2021-12-11","土",null,null,null,null,null,null,null,null,null,null,null,null,null,null,null,null,null,"道徳",{"$f":"X21+Y21*0.5+U21","v":0},0,0,"道半"]
[null,null,"2021-12-12","日",null,null,null,null,null,null,null,null,null,null,null,null,null,null,null,null,null,"外国",{"$f":"X22+Y22*0.5+U22","v":0},0,0,"外半"]
[null,null,"2021-12-13","月",null,null,null,null,null,null,null,null,null,null,null,null,null,null,null,null,null,"総合",{"$f":"X23+Y23*0.5+U23","v":0},0,0,"総半"]
[null,null,"2021-12-14","火",null,null,null,null,null,null,null,null,null,null,null,null,null,null,null,"特活",null,"特活",{"$f":"X24+Y24*0.5+U24","v":0},0,0,"特半"]
[null,null,"2021-12-15","水",null,null,null,null,null,null,null,null,null,null,null,null,null,null,null,null,null,"合計",{"$f":"SUM(W11:W24)","v":0}]
[null,null,"2021-12-16","木",null,null,null,null,null,null,null,null,null,null,null,null,null,null,null,null,null,"学校",{"$f":"X26+Y26*0.5+U26","v":0},{"$f":"COUNTIF($E$11:$P$41,$V26)","v":0},{"$f":"COUNTIF($E$11:$P$41,$Z26)","v":0},"学半"]
[null,null,"2021-12-17","金",null,null,null,null,null,null,null,null,null,null,null,null,null,null,null,null,null,"委員",{"$f":"X27+Y27*0.5+U27","v":0},{"$f":"COUNTIF($E$11:$P$41,$V27)","v":0},{"$f":"COUNTIF($E$11:$P$41,$Z27)","v":0},"委半"]
[null,null,"2021-12-18","土"]
[null,null,"2021-12-19","日"]
[null,null,"2021-12-20","月"]
[null,null,"2021-12-21","火"]
[null,null,"2021-12-22","水"]
[null,null,"2021-12-23","木"]
[null,null,"2021-12-24","金"]
[null,null,"2021-12-25","土"]
[null,null,"2021-12-26","日"]
[null,null,"2021-12-27","月"]
[null,null,"2021-12-28"]
[null,null,"2021-12-29"]
[null,null,"2021-12-30"]
[null,null,"2021-12-31"]
[]
[]
[]
[]
[]
[]
[]
[]
[]
[]
[]
[]
[]
[]
[]
[]
[]
[]
[]
[]
[]
[]
[]
[]
[]
[]
[]
[]
[]
[]
[]
[]
[]
[]
[]
[]
[]
[]
[]
[]
[]
[]
[]
[null,null,null,null,null,null,null,null,null,null,null,null,null,null,null,null,null,{"$f":"SUM(Q56:Q85)","v":0}]

{"sheet":"1月","index":12,"n_rows":97,"n_cols":72,"rows_kept":97,"cut":false,"hidden":false,"merged":[[16,16,16,17],[17,16,17,17],[18,16,18,17],[19,16,19,17],[10,19,20,19],[11,16,11,17],[12,16,12,17],[13,16,13,17],[14,16,14,17],[15,16,15,17],[20,16,20,17],[9,4,9,5],[9,6,9,7],[9,8,9,9],[9,10,9,11],[10,16,10,17],[9,12,9,13],[9,14,9,15],[9,16,9,17],[40,16,40,17],[31,16,31,17],[32,16,32,17],[33,16,33,17],[34,16,34,17],[35,16,35,17],[36,16,36,17],[37,16,37,17],[38,16,38,17],[39,16,39,17],[26,16,26,17],[27,16,27,17],[28,16,28,17],[29,16,29,17],[30,16,30,17],[21,16,21,17],[22,16,22,17],[23,16,23,17],[24,16,24,17],[25,16,25,17]]}
[null,1,"月","時間割変更があれば入力",null,null,null,null,null,null,null,null,null,null,null,null,null,null,null,null,null,null,null,null,null,null,null,null,null,null,null,null,null,null,null,null,null,null,null,null,"国語","社会","算数","理科","生活","音楽","図工","家庭","体育","英語","道徳","外国","総合","特活","委員","学校","国半","社半","算半","理半","生半","音半","図半","家半","体半","英半","道半","外半","総半","特半","委半","学半"]
[null,null,"A","月","火","水","木","金",null,"B","月","火","水","木","金",null,null,null,null,null,null,null,null,null,null,null,null,null,null,null,null,null,null,null,null,null,null,null,null,null,"リスト範囲"]
[null,null,1,{"$f":"'12月'!D3","v":"国語"},{"$f":"'12月'!E3","v":"社会"},{"$f":"'12月'!F3","v":"音楽"},{"$f":"'12月'!G3","v":"国語"},{"$f":"'12月'!H3","v":"総合"},null,1,{"$f":"'12月'!K3","v":"国語"},{"$f":"'12月'!L3","v":"社会"},{"$f":"'12月'!M3","v":"音楽"},{"$f":"'12月'!N3","v":"国語"},{"$f":"'12月'!O3","v":"総合"}]
[null,null,2,{"$f":"'12月'!D4","v":"算数"},{"$f":"'12月'!E4","v":"算数"},{"$f":"'12月'!F4","v":"社会"},{"$f":"'12月'!G4","v":"算数"},{"$f":"'12月'!H4","v":"算数"},null,2,{"$f":"'12月'!K4","v":"算数"},{"$f":"'12月'!L4","v":"算数"},{"$f":"'12月'!M4","v":"社会"},{"$f":"'12月'!N4","v":"算数"},{"$f":"'12月'!O4","v":"算数"}]
[null,null,3,{"$f":"'12月'!D5","v":"理科"},{"$f":"'12月'!E5","v":"家庭"},{"$f":"'12月'!F5","v":"英語"},{"$f":"'12月'!G5","v":"道徳"},{"$f":"'12月'!H5","v":"国語"},null,3,{"$f":"'12月'!K5","v":"理科"},{"$f":"'12月'!L5","v":"図工"},{"$f":"'12月'!M5","v":"英語"},{"$f":"'12月'!N5","v":"道徳"},{"$f":"'12月'!O5","v":"国語"}]
["記入済みセル",null,4,{"$f":"'12月'!D6","v":"理科"},{"$f":"'12月'!E6","v":"家庭"},{"$f":"'12月'!F6","v":"算数"},{"$f":"'12月'!G6","v":"総合"},{"$f":"'12月'!H6","v":"音楽"},null,4,{"$f":"'12月'!K6","v":"理科"},{"$f":"'12月'!L6","v":"図工"},{"$f":"'12月'!M6","v":"算数"},{"$f":"'12月'!N6","v":"総合"},{"$f":"'12月'!O6","v":"家庭"}]
[{"$f":"COUNTIF(E11:R41,\"*?\")","v":0},null,5,{"$f":"'12月'!D7","v":"社会"},{"$f":"'12月'!E7","v":"国語"},{"$f":"'12月'!F7","v":"国語"},{"$f":"'12月'!G7","v":"理科"},{"$f":"'12月'!H7","v":"体育"},null,5,{"$f":"'12月'!K7","v":"社会"},{"$f":"'12月'!L7","v":"国語"},{"$f":"'12月'!M7","v":"国語"},{"$f":"'12月'!N7","v":"理科"},{"$f":"'12月'!O7","v":"体育"}]
[null,null,6,{"$f":"'12月'!D8","v":"英語"},{"$f":"'12月'!E8","v":"体育"},{"$f":"'12月'!F8","v":0},{"$f":"'12月'!G8","v":"体育"},{"$f":"'12月'!H8","v":"特活"},null,6,{"$f":"'12月'!K8","v":"英語"},{"$f":"'12月'!L8","v":"体育"},{"$f":"'12月'!M8","v":0},{"$f":"'12月'!N8","v":"体育"},{"$f":"'12月'!O8","v":"特活"}]
[]
[null,"AB","月日","曜日",1,null,2,null,3,null,4,null,5,null,6,null,"学校行事",null,null,null,"追加",null,"計","１h","0.5h",null,"転記用"]
[null,null,{"$f":"DATE(年度+1,1,1)","v":"2022-01-01"},null,null,null,null,null,null,null,null,null,null,null,null,null,null,null,null,"各教科など",null,"国語",{"$f":"X11+Y11*0.5+U11","v":0},{"$f":"COUNTIF($E$11:$P$41,$V11)","v":0},{"$f":"COUNTIF($E$11:$P$41,$Z11)","v":0},"国半",25]
[null,null,{"$f":"C11+1","v":"2022-01-02"},null,null,null,null,null,null,null,null,null,null,null,null,null,null,null,null,null,null,"社会",0,0,0,"社半",5]
[null,null,"2022-01-03",null,null,null,null,null,null,null,null,null,null,null,null,null,null,null,null,null,null,"算数",0,0,0,"算半",15]
[null,null,"2022-01-04",{"$f":"IF(CELL(\"contents\",$C14)>0,CHOOSE(WEEKDAY($C14),\"日\",\"月\",\"火\",\"水\",\"木\",\"金\",\"土\"),\"\")","v":"火"},null,null,null,null,null,null,null,null,null,null,null,null,null,null,null,null,null,"理科",0,0,0,"理半",7]
[null,null,"2022-01-05","水",null,null,null,null,null,null,null,null,null,null,null,null,null,null,null,null,null,"生活",0,0,0,"生半",0]
[null,null,"2022-01-06","木",null,null,null,null,null,null,null,null,null,null,null,null,null,null,null,null,null,"音楽",0,0,0,"音半",2]
[null,null,"2022-01-07",{"$f":"IF(CELL(\"contents\",$C17)>0,CHOOSE(WEEKDAY($C17),\"日\",\"月\",\"火\",\"水\",\"木\",\"金\",\"土\"),\"\")","v":"金"},null,null,null,null,null,null,null,null,null,null,null,null,null,null,null,null,null,"図工",0,0,0,"図半",2]
[null,null,"2022-01-08","土",null,null,null,null,null,null,null,null,null,null,null,null,null,null,null,null,null,"家庭",0,0,0,"家半",5]
[null,null,"2022-01-09",{"$f":"TEXT(C19,\"aaa\")","v":"日"},null,null,null,null,null,null,null,null,null,null,null,null,null,null,null,null,null,"体育",0,0,0,"体半",3]
[null,null,"2022-01-10","月",null,null,null,null,null,null,null,null,null,null,null,null,null,null,null,null,null,"英語",0,0,0,"英半",5]
[null,null,"2022-01-11","火",null,null,null,null,null,null,null,null,null,null,null,null,null,null,null,null,null,"道徳",{"$f":"X21+Y21*0.5+U21","v":0},0,0,"道半",3]
[null,null,"2022-01-12","水",null,null,null,null,null,null,null,null,null,null,null,null,null,null,null,null,null,"外国",{"$f":"X22+Y22*0.5+U22","v":0},0,0,"外半",3]
[null,null,"2022-01-13","木",null,null,null,null,null,null,null,null,null,null,null,null,null,null,null,null,null,"総合",{"$f":"X23+Y23*0.5+U23","v":0},0,0,"総半",0]
[null,null,"2022-01-14","金",null,null,null,null,null,null,null,null,null,null,null,null,null,null,null,"特活",null,"特活",{"$f":"X24+Y24*0.5+U24","v":0},0,0,"特半",3]
[null,null,"2022-01-15","土",null,null,null,null,null,null,null,null,null,null,null,null,null,null,null,null,null,"合計",{"$f":"SUM(W11:W24)","v":0},null,null,null,78]
[null,null,"2022-01-16","日",null,null,null,null,null,null,null,null,null,null,null,null,null,null,null,null,null,"学校",{"$f":"X26+Y26*0.5+U26","v":0},{"$f":"COUNTIF($E$11:$P$41,$V26)","v":0},{"$f":"COUNTIF($E$11:$P$41,$Z26)","v":0},"学半"]
[null,null,"2022-01-17","月",null,null,null,null,null,null,null,null,null,null,null,null,null,null,null,null,null,"委員",{"$f":"X27+Y27*0.5+U27","v":0},{"$f":"COUNTIF($E$11:$P$41,$V27)","v":0},{"$f":"COUNTIF($E$11:$P$41,$Z27)","v":0},"委半"]
[null,null,"2022-01-18","火"]
[null,null,"2022-01-19","水"]
[null,null,"2022-01-20","木"]
[null,null,"2022-01-21","金"]
[null,null,"2022-01-22","土"]
[null,null,"2022-01-23","日"]
[null,null,"2022-01-24","月"]
[null,null,"2022-01-25","火"]
[null,null,"2022-01-26","水"]
[null,null,"2022-01-27","木"]
[null,null,"2022-01-28","金"]
[null,null,"2022-01-29","土"]
[null,null,"2022-01-30","日"]
[null,null,"2022-01-31","月"]
[]
[]
[]
[]
[]
[]
[]
[]
[]
[]
[]
[]
[]
[]
[]
[]
[]
[]
[]
[]
[]
[]
[]
[]
[]
[]
[]
[]
[]
[]
[]
[]
[]
[]
[]
[]
[]
[]
[]
[]
[]
[]
[]
[]
[]
[]
[]
[]
[]
[]
[]
[]
[]
[]
[]
[null,null,null,null,null,null,null,null,null,null,null,null,null,null,null,null,null,{"$f":"SUM(Q68:Q97)","v":0}]

{"sheet":"2月","index":13,"n_rows":92,"n_cols":72,"rows_kept":92,"cut":false,"hidden":false,"merged":[[10,19,20,19],[16,16,16,17],[17,16,17,17],[18,16,18,17],[19,16,19,17],[20,16,20,17],[11,16,11,17],[12,16,12,17],[13,16,13,17],[14,16,14,17],[15,16,15,17],[9,4,9,5],[9,6,9,7],[9,8,9,9],[9,10,9,11],[10,16,10,17],[9,12,9,13],[9,14,9,15],[9,16,9,17],[29,16,29,17],[30,16,30,17],[36,16,36,17],[37,16,37,17],[38,16,38,17],[31,16,31,17],[32,16,32,17],[33,16,33,17],[34,16,34,17],[35,16,35,17],[21,16,21,17],[22,16,22,17],[26,16,26,17],[27,16,27,17],[28,16,28,17],[23,16,23,17],[24,16,24,17],[25,16,25,17]]}
[null,2,"月","時間割変更があれば入力",null,null,null,null,null,null,null,null,null,null,null,null,null,null,null,null,null,null,null,null,null,null,null,null,null,null,null,null,null,null,null,null,null,null,null,null,"国語","社会","算数","理科","生活","音楽","図工","家庭","体育","英語","道徳","外国","総合","特活","委員","学校","国半","社半","算半","理半","生半","音半","図半","家半","体半","英半","道半","外半","総半","特半","委半","学半"]
[null,null,"A","月","火","水","木","金",null,"B","月","火","水","木","金",null,null,null,null,null,null,null,null,null,null,null,null,null,null,null,null,null,null,null,null,null,null,null,null,null,"リスト範囲"]
[null,null,1,{"$f":"'1月'!D3","v":"国語"},{"$f":"'1月'!E3","v":"社会"},{"$f":"'1月'!F3","v":"音楽"},{"$f":"'1月'!G3","v":"国語"},{"$f":"'1月'!H3","v":"総合"},null,1,{"$f":"'1月'!K3","v":"国語"},{"$f":"'1月'!L3","v":"社会"},{"$f":"'1月'!M3","v":"音楽"},{"$f":"'1月'!N3","v":"国語"},{"$f":"'1月'!O3","v":"総合"}]
[null,null,2,{"$f":"'1月'!D4","v":"算数"},{"$f":"'1月'!E4","v":"算数"},{"$f":"'1月'!F4","v":"社会"},{"$f":"'1月'!G4","v":"算数"},{"$f":"'1月'!H4","v":"算数"},null,2,{"$f":"'1月'!K4","v":"算数"},{"$f":"'1月'!L4","v":"算数"},{"$f":"'1月'!M4","v":"社会"},{"$f":"'1月'!N4","v":"算数"},{"$f":"'1月'!O4","v":"算数"}]
[null,null,3,{"$f":"'1月'!D5","v":"理科"},{"$f":"'1月'!E5","v":"家庭"},{"$f":"'1月'!F5","v":"英語"},{"$f":"'1月'!G5","v":"道徳"},{"$f":"'1月'!H5","v":"国語"},null,3,{"$f":"'1月'!K5","v":"理科"},{"$f":"'1月'!L5","v":"図工"},{"$f":"'1月'!M5","v":"英語"},{"$f":"'1月'!N5","v":"道徳"},{"$f":"'1月'!O5","v":"国語"}]
["記入済みセル",null,4,{"$f":"'1月'!D6","v":"理科"},{"$f":"'1月'!E6","v":"家庭"},{"$f":"'1月'!F6","v":"算数"},{"$f":"'1月'!G6","v":"総合"},{"$f":"'1月'!H6","v":"音楽"},null,4,{"$f":"'1月'!K6","v":"理科"},{"$f":"'1月'!L6","v":"図工"},{"$f":"'1月'!M6","v":"算数"},{"$f":"'1月'!N6","v":"総合"},{"$f":"'1月'!O6","v":"家庭"}]
[{"$f":"COUNTIF(E11:R41,\"*?\")","v":0},null,5,{"$f":"'1月'!D7","v":"社会"},{"$f":"'1月'!E7","v":"国語"},{"$f":"'1月'!F7","v":"国語"},{"$f":"'1月'!G7","v":"理科"},{"$f":"'1月'!H7","v":"体育"},null,5,{"$f":"'1月'!K7","v":"社会"},{"$f":"'1月'!L7","v":"国語"},{"$f":"'1月'!M7","v":"国語"},{"$f":"'1月'!N7","v":"理科"},{"$f":"'1月'!O7","v":"体育"}]
[null,null,6,{"$f":"'1月'!D8","v":"英語"},{"$f":"'1月'!E8","v":"体育"},{"$f":"'1月'!F8","v":0},{"$f":"'1月'!G8","v":"体育"},{"$f":"'1月'!H8","v":"特活"},null,6,{"$f":"'1月'!K8","v":"英語"},{"$f":"'1月'!L8","v":"体育"},{"$f":"'1月'!M8","v":0},{"$f":"'1月'!N8","v":"体育"},{"$f":"'1月'!O8","v":"特活"}]
[null,null,null,{"$f":"'1月'!D9","v":0},{"$f":"'1月'!E9","v":0},{"$f":"'1月'!F9","v":0},{"$f":"'1月'!G9","v":0},{"$f":"'1月'!H9","v":0}]
[null,"AB","月日","曜日",1,null,2,null,3,null,4,null,5,null,6,null,"学校行事",null,null,null,"追加",null,"計","１h","0.5h",null,"転記用"]
[null,null,{"$f":"DATE(年度+1,2,1)","v":"2022-02-01"},{"$f":"TEXT(C11,\"aaa\")","v":"火"},null,null,null,null,null,null,null,null,null,null,null,null,null,null,null,"各教科など",null,"国語",{"$f":"X11+Y11*0.5+U11","v":0},{"$f":"COUNTIF($E$11:$P$40,$V11)","v":0},{"$f":"COUNTIF($E$11:$P$40,$Z11)","v":0},"国半"]
[null,null,{"$f":"C11+1","v":"2022-02-02"},"水",null,null,null,null,null,null,null,null,null,null,null,null,null,null,null,null,null,"社会",0,0,0,"社半"]
[null,null,"2022-02-03","木",null,null,null,null,null,null,null,null,null,null,null,null,null,null,null,null,null,"算数",0,0,0,"算半"]
[null,null,"2022-02-04","金",null,null,null,null,null,null,null,null,null,null,null,null,null,null,null,null,null,"理科",0,0,0,"理半"]
[null,null,"2022-02-05","土",null,null,null,null,null,null,null,null,null,null,null,null,null,null,null,null,null,"生活",0,0,0,"生半"]
[null,null,"2022-02-06","日",null,null,null,null,null,null,null,null,null,null,null,null,null,null,null,null,null,"音楽",0,0,0,"音半"]
[null,null,"2022-02-07","月",null,null,null,null,null,null,null,null,null,null,null,null,null,null,null,null,null,"図工",0,0,0,"図半"]
[null,null,"2022-02-08","火",null,null,null,null,null,null,null,null,null,null,null,null,null,null,null,null,null,"家庭",0,0,0,"家半"]
[null,null,"2022-02-09","水",null,null,null,null,null,null,null,null,null,null,null,null,null,null,null,null,null,"体育",0,0,0,"体半"]
[null,null,"2022-02-10","木",null,null,null,null,null,null,null,null,null,null,null,null,null,null,null,null,null,"英語",0,0,0,"英半"]
[null,null,"2022-02-11","金",null,null,null,null,null,null,null,null,null,null,null,null,null,null,null,null,null,"道徳",{"$f":"X21+Y21*0.5+U21","v":0},{"$f":"COUNTIF($E$11:$P$40,$V21)","v":0},{"$f":"COUNTIF($E$11:$P$40,$Z21)","v":0},"道半"]
[null,null,"2022-02-12","土",null,null,null,null,null,null,null,null,null,null,null,null,null,null,null,null,null,"外国",{"$f":"X22+Y22*0.5+U22","v":0},{"$f":"COUNTIF($E$11:$P$40,$V22)","v":0},{"$f":"COUNTIF($E$11:$P$40,$Z22)","v":0},"外半"]
[null,null,"2022-02-13","日",null,null,null,null,null,null,null,null,null,null,null,null,null,null,null,null,null,"総合",{"$f":"X23+Y23*0.5+U23","v":0},{"$f":"COUNTIF($E$11:$P$40,$V23)","v":0},{"$f":"COUNTIF($E$11:$P$40,$Z23)","v":0},"総半"]
[null,null,"2022-02-14","月",null,null,null,null,null,null,null,null,null,null,null,null,null,null,null,"特活",null,"特活",{"$f":"X24+Y24*0.5+U24","v":0},{"$f":"COUNTIF($E$11:$P$40,$V24)","v":0},{"$f":"COUNTIF($E$11:$P$40,$Z24)","v":0},"特半"]
[null,null,"2022-02-15","火",null,null,null,null,null,null,null,null,null,null,null,null,null,null,null,null,null,"合計",{"$f":"SUM(W11:W24)","v":0}]
[null,null,"2022-02-16","水",null,null,null,null,null,null,null,null,null,null,null,null,null,null,null,null,null,"学校",{"$f":"X26+Y26*0.5+U26","v":0},{"$f":"COUNTIF($E$11:$P$40,$V26)","v":0},{"$f":"COUNTIF($E$11:$P$40,$Z26)","v":0},"学半"]
[null,null,"2022-02-17","木",null,null,null,null,null,null,null,null,null,null,null,null,null,null,null,null,null,"委員",{"$f":"X27+Y27*0.5+U27","v":0},{"$f":"COUNTIF($E$11:$P$40,$V27)","v":0},{"$f":"COUNTIF($E$11:$P$40,$Z27)","v":0},"委半"]
[null,null,"2022-02-18","金"]
[null,null,"2022-02-19","土"]
[null,null,"2022-02-20","日"]
[null,null,"2022-02-21","月"]
[null,null,"2022-02-22","火"]
[null,null,"2022-02-23","水"]
[null,null,"2022-02-24","木"]
[null,null,"2022-02-25","金"]
[null,null,"2022-02-26","土"]
[null,null,"2022-02-27","日"]
[null,null,"2022-02-28","月"]
[null,null,{"$f":"IF(MONTH(C38+1)=2,C38+1,\"\")","v":""},{"$f":"IF(CELL(\"contents\",$C39)<>\"\",CHOOSE(WEEKDAY($C39),\"日\",\"月\",\"火\",\"水\",\"木\",\"金\",\"土\"),\"\")","v":""}]
[]
[]
[]
[]
[]
[]
[]
[]
[]
[]
[]
[]
[]
[]
[]
[]
[]
[]
[]
[]
[]
[]
[]
[]
[]
[]
[]
[]
[]
[]
[]
[]
[]
[]
[]
[]
[]
[]
[]
[]
[]
[]
[]
[]
[]
[]
[]
[]
[]
[]
[]
[]
[null,null,null,null,null,null,null,null,null,null,null,null,null,null,null,null,null,{"$f":"SUM(Q63:Q92)","v":0}]

{"sheet":"3月","index":14,"n_rows":92,"n_cols":72,"rows_kept":92,"cut":false,"hidden":false,"merged":[[9,4,9,5],[9,6,9,7],[9,8,9,9],[9,10,9,11],[10,16,10,17],[9,12,9,13],[9,14,9,15],[9,16,9,17],[23,16,23,17],[24,16,24,17],[25,16,25,17],[37,16,37,17],[26,16,26,17],[27,16,27,17],[28,16,28,17],[29,16,29,17],[30,16,30,17],[34,16,34,17],[10,19,20,19],[31,16,31,17],[32,16,32,17],[33,16,33,17],[11,16,11,17],[12,16,12,17],[13,16,13,17],[14,16,14,17],[20,16,20,17],[15,16,15,17],[16,16,16,17],[17,16,17,17],[18,16,18,17],[19,16,19,17],[21,16,21,17],[22,16,22,17]]}
[null,3,"月","時間割変更があれば入力",null,null,null,null,null,null,null,null,null,null,null,null,null,null,null,null,null,null,null,null,null,null,null,null,null,null,null,null,null,null,null,null,null,null,null,null,"国語","社会","算数","理科","生活","音楽","図工","家庭","体育","英語","道徳","外国","総合","特活","委員","学校","国半","社半","算半","理半","生半","音半","図半","家半","体半","英半","道半","外半","総半","特半","委半","学半"]
[null,null,"A","月","火","水","木","金",null,"B","月","火","水","木","金",null,null,null,null,null,null,null,null,null,null,null,null,null,null,null,null,null,null,null,null,null,null,null,null,null,"リスト範囲"]
[null,null,1,{"$f":"'2月'!D3","v":"国語"},{"$f":"'2月'!E3","v":"社会"},{"$f":"'2月'!F3","v":"音楽"},{"$f":"'2月'!G3","v":"国語"},{"$f":"'2月'!H3","v":"総合"},null,1,{"$f":"'2月'!K3","v":"国語"},{"$f":"'2月'!L3","v":"社会"},{"$f":"'2月'!M3","v":"音楽"},{"$f":"'2月'!N3","v":"国語"},{"$f":"'2月'!O3","v":"総合"}]
[null,null,2,{"$f":"'2月'!D4","v":"算数"},{"$f":"'2月'!E4","v":"算数"},{"$f":"'2月'!F4","v":"社会"},{"$f":"'2月'!G4","v":"算数"},{"$f":"'2月'!H4","v":"算数"},null,2,{"$f":"'2月'!K4","v":"算数"},{"$f":"'2月'!L4","v":"算数"},{"$f":"'2月'!M4","v":"社会"},{"$f":"'2月'!N4","v":"算数"},{"$f":"'2月'!O4","v":"算数"}]
[null,null,3,{"$f":"'2月'!D5","v":"理科"},{"$f":"'2月'!E5","v":"家庭"},{"$f":"'2月'!F5","v":"英語"},{"$f":"'2月'!G5","v":"道徳"},{"$f":"'2月'!H5","v":"国語"},null,3,{"$f":"'2月'!K5","v":"理科"},{"$f":"'2月'!L5","v":"図工"},{"$f":"'2月'!M5","v":"英語"},{"$f":"'2月'!N5","v":"道徳"},{"$f":"'2月'!O5","v":"国語"}]
["記入済みセル",null,4,{"$f":"'2月'!D6","v":"理科"},{"$f":"'2月'!E6","v":"家庭"},{"$f":"'2月'!F6","v":"算数"},{"$f":"'2月'!G6","v":"総合"},{"$f":"'2月'!H6","v":"音楽"},null,4,{"$f":"'2月'!K6","v":"理科"},{"$f":"'2月'!L6","v":"図工"},{"$f":"'2月'!M6","v":"算数"},{"$f":"'2月'!N6","v":"総合"},{"$f":"'2月'!O6","v":"家庭"}]
[{"$f":"COUNTIF(E11:R43,\"*?\")","v":0},null,5,{"$f":"'2月'!D7","v":"社会"},{"$f":"'2月'!E7","v":"国語"},{"$f":"'2月'!F7","v":"国語"},{"$f":"'2月'!G7","v":"理科"},{"$f":"'2月'!H7","v":"体育"},null,5,{"$f":"'2月'!K7","v":"社会"},{"$f":"'2月'!L7","v":"国語"},{"$f":"'2月'!M7","v":"国語"},{"$f":"'2月'!N7","v":"理科"},{"$f":"'2月'!O7","v":"体育"}]
[null,null,6,{"$f":"'2月'!D8","v":"英語"},{"$f":"'2月'!E8","v":"体育"},{"$f":"'2月'!F8","v":0},{"$f":"'2月'!G8","v":"体育"},{"$f":"'2月'!H8","v":"特活"},null,6,{"$f":"'2月'!K8","v":"英語"},{"$f":"'2月'!L8","v":"体育"},{"$f":"'2月'!M8","v":0},{"$f":"'2月'!N8","v":"体育"},{"$f":"'2月'!O8","v":"特活"}]
[]
[null,"AB","月日","曜日",1,null,2,null,3,null,4,null,5,null,6,null,"学校行事",null,null,null,"追加",null,"計","１h","0.5h",null,"転記用"]
[null,null,{"$f":"DATE(年度+1,3,1)","v":"2022-03-01"},{"$f":"TEXT(C11,\"aaa\")","v":"火"},null,null,null,null,null,null,null,null,null,null,null,null,null,null,null,"各教科など",null,"国語",{"$f":"X11+Y11*0.5+U11","v":0},{"$f":"COUNTIF($E$11:$P$42,$V11)","v":0},{"$f":"COUNTIF($E$11:$P$42,$Z11)","v":0},"国半"]
[null,null,{"$f":"C11+1","v":"2022-03-02"},{"$f":"TEXT(C12,\"aaa\")","v":"水"},null,null,null,null,null,null,null,null,null,null,null,null,null,null,null,null,null,"社会",0,0,0,"社半"]
[null,null,"2022-03-03","木",null,null,null,null,null,null,null,null,null,null,null,null,null,null,null,null,null,"算数",0,0,0,"算半"]
[null,null,"2022-03-04","金",null,null,null,null,null,null,null,null,null,null,null,null,null,null,null,null,null,"理科",0,0,0,"理半"]
[null,null,"2022-03-05","土",null,null,null,null,null,null,null,null,null,null,null,null,null,null,null,null,null,"生活",0,0,0,"生半"]
[null,null,"2022-03-06","日",null,null,null,null,null,null,null,null,null,null,null,null,null,null,null,null,null,"音楽",0,0,0,"音半"]
[null,null,"2022-03-07","月",null,null,null,null,null,null,null,null,null,null,null,null,null,null,null,null,null,"図工",0,0,0,"図半"]
[null,null,"2022-03-08","火",null,null,null,null,null,null,null,null,null,null,null,null,null,null,null,null,null,"家庭",0,0,0,"家半"]
[null,null,"2022-03-09","水",null,null,null,null,null,null,null,null,null,null,null,null,null,null,null,null,null,"体育",0,0,0,"体半"]
[null,null,"2022-03-10","木",null,null,null,null,null,null,null,null,null,null,null,null,null,null,null,null,null,"英語",0,0,0,"英半"]
[null,null,"2022-03-11","金",null,null,null,null,null,null,null,null,null,null,null,null,null,null,null,null,null,"道徳",{"$f":"X21+Y21*0.5+U21","v":0},0,0,"道半"]
[null,null,"2022-03-12","土",null,null,null,null,null,null,null,null,null,null,null,null,null,null,null,null,null,"外国",{"$f":"X22+Y22*0.5+U22","v":0},0,0,"外半"]
[null,null,"2022-03-13","日",null,null,null,null,null,null,null,null,null,null,null,null,null,null,null,null,null,"総合",{"$f":"X23+Y23*0.5+U23","v":0},0,0,"総半"]
[null,null,"2022-03-14","月",null,null,null,null,null,null,null,null,null,null,null,null,null,null,null,"特活",null,"特活",{"$f":"X24+Y24*0.5+U24","v":0},0,0,"特半"]
[null,null,"2022-03-15","火",null,null,null,null,null,null,null,null,null,null,null,null,null,null,null,null,null,"合計",{"$f":"SUM(W11:W24)","v":0}]
[null,null,"2022-03-16","水",null,null,null,null,null,null,null,null,null,null,null,null,null,null,null,null,null,"学校",{"$f":"X26+Y26*0.5+U26","v":0},{"$f":"COUNTIF($E$11:$P$42,$V26)","v":0},{"$f":"COUNTIF($E$11:$P$42,$Z26)","v":0},"学半"]
[null,null,"2022-03-17","木",null,null,null,null,null,null,null,null,null,null,null,null,null,null,null,null,null,"委員",{"$f":"X27+Y27*0.5+U27","v":0},{"$f":"COUNTIF($E$11:$P$42,$V27)","v":0},{"$f":"COUNTIF($E$11:$P$42,$Z27)","v":0},"委半"]
[null,null,"2022-03-18","金"]
[null,null,"2022-03-19","土"]
[null,null,"2022-03-20","日"]
[null,null,"2022-03-21","月"]
[null,null,"2022-03-22","火"]
[null,null,"2022-03-23","水"]
[null,null,"2022-03-24","木"]
[null,null,{"$f":"C34+1","v":"2022-03-25"},"金"]
[null,null,{"$f":"C35+1","v":"2022-03-26"},{"$f":"TEXT(C36,\"aaa\")","v":"土"}]
[null,null,"2022-03-27","日"]
[null,null,"2022-03-28","月"]
[]
[]
[]
[]
[]
[]
[]
[]
[]
[]
[]
[]
[]
[]
[]
[]
[]
[]
[]
[]
[]
[]
[]
[]
[]
[]
[]
[]
[]
[]
[]
[]
[]
[]
[]
[]
[]
[]
[]
[]
[]
[]
[]
[]
[]
[]
[]
[]
[]
[]
[]
[]
[]
[null,null,null,null,null,null,null,null,null,null,null,null,null,null,null,null,null,{"$f":"SUM(Q63:Q92)","v":0}]